{"text_format":"1","workbook":"xlsx","n_sheets":6,"sheets":["xysheet","Z01","A01A02","A03A04","宣言cord","mcr"],"not_rendered":{"charts":0,"images":9,"macros":1,"external_links":0,"defined_names":1,"comments":1,"pivot_tables":0},"unopened":[{"sheet":"宣言cord","index":4,"reason":"part_missing"},{"sheet":"mcr","index":5,"reason":"part_missing"}],"bounds":{"document_bytes":16777216,"sheet_cells":100000,"rows_first":2000,"rows_last":500,"rows_between":2000,"halvings":0,"cell_chars":16384,"cell_head_chars":4096},"cells_cut":0,"cells_raw":0,"read":"whole","date_system":"1900"}

{"sheet":"xysheet","index":0,"n_rows":1219,"n_cols":7,"rows_kept":1219,"cut":false,"hidden":false,"merged":[]}
[41188,"AK-115",-204521.234,-70085.145000000004,0,null,1219]
[41189,"AK-116",-204529.22899999999,-70091.644,0]
[41190,"AK-117",-204531.53099999999,-70093.597999999998,0]
[40398,"AK-118",-204533.03700000001,-70095.053,0]
[40431,"AK-119",-204544.97899999999,-70092.726999999999,0]
[40399,"AK-120",-204542.11900000001,-70076.135999999999,0]
[40400,"AK-121",-204541.08199999999,-70068.053,0]
[40430,"AW32",-204540.94,-70066.736999999994,0]
[40401,"AK-122",-204538.83100000001,-70047.212,0]
[40402,"AK-123-1",-204538.448,-70042.224000000002,0]
[40404,"AK-123-2",-204538.359,-70040.217999999993,0]
[40403,"AK-124",-204538.318,-70038.267000000007,0]
[40405,"AK-125",-204538.236,-70029.263999999996,0]
[40406,"AK-126",-204537.95499999999,-70017.273000000001,0]
[40407,"AK-127",-204537.28,-69978.786999999997,0]
[40408,"AK-128",-204537.21799999999,-69956.764999999999,0]
[40409,"AK-129",-204537.9,-69919.065000000002,0]
[40432,"W87",-204537.97,-69914.418999999994,0]
[40395,"AK-130",-204537.997,-69912.616999999998,0]
[40396,"AK-131",-204538.095,-69910.78,0]
[40410,"W68",-204538.111,-69909.415999999997,0]
[40411,"AK-132-1",-204538.40299999999,-69884.171000000002,0]
[40412,"AK-132-2",-204538.508,-69875.601999999999,0]
[40413,"AK-133",-204538.49600000001,-69872.817999999999,0]
[40414,"AK-134-1",-204538.46400000001,-69857.657999999996,0]
[40415,"AK-134-2",-204538.44,-69853.660999999993,0]
[40416,"AK-135",-204538.46799999999,-69848.023000000001,0]
[40417,"AW4",-204538.57,-69824.141000000003,0]
[40418,"AW9",-204538.64,-69813.861999999994,0]
[40419,"AK-136",-204538.80799999999,-69806.934999999998,0]
[40420,"AK-137",-204538.986,-69780.546000000002,0]
[40421,"AK-138",-204539.076,-69766.917000000001,0]
[40422,"AK-139",-204539.337,-69738.900999999998,0]
[40423,"AK-140",-204539.389,-69722.888999999996,0]
[40424,"AK-141-1",-204539.39,-69720.881999999998,0]
[40425,"AK-141-2",-204539.36300000001,-69715.611999999994,0]
[40426,"AK-142",-204539.272,-69707.607000000004,0]
[40427,"AK-143",-204539.41899999999,-69695.606,0]
[40428,"AK-144",-204539.51300000001,-69686.043000000005,0]
[40429,"AW8",-204539.77299999999,-69671.858999999997,0]
[40397,"A13-2",-204540.08499999999,-69652.695000000007,0]
[40456,"AK-147",-204540.11199999999,-69645.256999999998,0]
[40461,"A13-8",-204540.18700000001,-69642.983999999997,0]
[40457,"AK-148",-204540.20800000001,-69642.23,0]
[40458,"AK-149",-204540.38800000001,-69629.256999999998,0]
[40459,"AK-149-1",-204540.44500000001,-69625.622000000003,0]
[40460,"AK-150",-204540.56,-69620.047999999995,0]
[40465,"AK-151",-204540.68400000001,-69609.256999999998,0]
[40466,"A13-9",-204540.69699999999,-69605.83,0]
[40467,"AK-152",-204540.71599999999,-69601.259999999995,0]
[40468,"A13-10",-204540.717,-69600.243000000002,0]
[40439,"A13-3",-204540.69699999999,-69590.493000000002,0]
[40438,"A15-2",-204540.823,-69580.263000000006,0]
[40437,"AK-154",-204540.97099999999,-69573.224000000002,0]
[40433,"A15-45",-204541.00399999999,-69571.691000000006,0]
[40447,"A15-10",-204541.05,-69569.577999999994,0]
[40436,"AK-155",-204541.149,-69565.226999999999,0]
[40453,"A15-80",-204541.25,-69560.577999999994,0]
[40435,"AK-156",-204541.42499999999,-69552.524000000005,0]
[40448,"A15-11",-204541.44200000001,-69550.676000000007,0]
[40496,"A15-12",-204541.451,-69549.184999999998,0]
[40495,"AK-157",-204541.59599999999,-69540.603000000003,0]
[40494,"AK-158",-204541.60399999999,-69538.805999999997,0]
[40434,"A15-13",-204541.66500000001,-69533.510999999999,0]
[40493,"A15-14",-204541.67800000001,-69532.69,0]
[40492,"AK-159",-204541.693,-69532.138999999996,0]
[40491,"AK-160",-204541.80600000001,-69528.260999999999,0]
[40497,"AJ45",-204542.655,-69506.966,0]
[40488,"AK-161",-204542.693,-69505.235000000001,0]
[40489,"AK-162",-204543.054,-69504.455000000002,0]
[40490,"AK-163",-204543.47899999999,-69495.521999999997,0]
[40487,"A15-35",-204543.58199999999,-69493.873999999996,0]
[40462,"A15-15",-204544.647,-69477.161999999997,0]
[40463,"AK-164",-204545.17800000001,-69468.778999999995,0]
[40464,"AJ63",-204545.304,-69466.774000000005,0]
[40469,"AJ68",-204546.05600000001,-69456.563999999998,0]
[40470,"AK-166",-204546.62599999999,-69449.063999999998,0]
[40471,"AK-166A",-204547.04,-69444.308000000005,0]
[40472,"AK-166B",-204547.35800000001,-69440.313999999998,0]
[40473,"AK-167",-204547.64300000001,-69436.328999999998,0]
[40485,"A17-11",-204548.10200000001,-69431.812000000005,0]
[40474,"AK-168",-204548.43799999999,-69428.433999999994,0]
[40486,"AK-169",-204548.49,-69427.676999999996,0]
[40475,"AK-170",-204548.61900000001,-69423.744999999995,0]
[40476,"AK-171",-204548.88500000001,-69419.754000000001,0]
[40477,"A17-1-5",-204549.10699999999,-69414.926000000007,0]
[40478,"AK-172",-204549.23199999999,-69411.729000000007,0]
[40479,"AK-173",-204549.34,-69407.744999999995,0]
[40480,"AK-174",-204549.32399999999,-69403.755999999994,0]
[40481,"AK-175",-204549.25,-69399.766000000003,0]
[40482,"AK-176",-204549.23499999999,-69399.028000000006,0]
[40498,"A17-1-6",-204549.07800000001,-69399.028999999995,0]
[40501,"A17-14",-204549.06200000001,-69398.38,0]
[40499,"A17-1-7",-204549.06200000001,-69398.134999999995,0]
[40500,"A17-1-8",-204549.22200000001,-69398.129000000001,0]
[40455,"AK-177",-204549.06899999999,-69394.308000000005,0]
[40454,"A17-31",-204548.649,-69388.755999999994,0]
[40440,"A17-15",-204547.89499999999,-69378.84,0]
[40441,"AK-178",-204547.557,-69374.326000000001,0]
[40442,"A17-16",-204546.31899999999,-69357.37,0]
[40443,"A17-17",-204546.122,-69354.771999999997,0]
[40444,"AK-179-1",-204545.802,-69350.379000000001,0]
[40446,"AK-179",-204544.87899999999,-69338.410999999993,0]
[40445,"A17-3",-204543.97899999999,-69330.824999999997,0]
[40483,"AK-180",-204543.57,-69327.316000000006,0]
[40484,"W18",-204542.883,-69323.27,0]
[40449,"AK-181",-204541.83100000001,-69317.066000000006,0]
[40450,"AK-182",-204541.65,-69315.857000000004,0]
[40451,"AK-183",-204541.334,-69316.266000000003,0]
[40452,"H1",-204540.63800000001,-69310.546000000002,0]
[40508,"AK-184",-204539.32800000001,-69299.788,0]
[40517,"W1",-204539.09899999999,-69297.417000000001,0]
[40509,"AW40",-204538.58300000001,-69292.047999999995,0]
[40510,"AK-185",-204537.25399999999,-69279.149000000005,0]
[40511,"AW21",-204536,-69263.372000000003,0]
[40512,"AW23",-204535.18400000001,-69253.044999999998,0]
[40514,"AK-186",-204535.08600000001,-69251.914000000004,0]
[40513,"AK-187",-204533.603,-69234.910999999993,0]
[40515,"AK-188",-204532.52299999999,-69222.445999999996,0]
[40516,"AK-190",-204532.02600000001,-69212.423999999999,0]
[40505,"AK-191",-204531.37599999999,-69212.45,0]
[40506,"A31-13",-204531.351,-69211.725000000006,0]
[40504,"AK-192",-204531.24299999999,-69208.433000000005,0]
[40502,"A31-7",-204530.63800000001,-69199.222999999998,0]
[40503,"AK-193",-204530.63099999999,-69199.023000000001,0]
[40507,"AK-194",-204529.916,-69186.971000000005,0]
[40518,"A42-2",-204529.459,-69180.165999999997,0]
[40519,"AK-195",-204529.38399999999,-69179.046000000002,0]
[40520,"A42-8",-204528.796,-69170.509000000005,0]
[40521,"AK-196",-204528.6,-69167.278999999995,0]
[40522,"AK-197",-204526.83100000001,-69143.342999999993,0]
[40523,"A42-9",-204526.75700000001,-69142.031000000003,0]
[40524,"AK-198",-204526.06700000001,-69130.210999999996,0]
[40525,"AK-199",-204525.59,-69122.194000000003,0]
[40526,"AK-200",-204525.421,-69118.195999999996,0]
[40527,"AK-201",-204525.1,-69106.194000000003,0]
[40528,"AK-202",-204524.954,-69102.202000000005,0]
[40529,"A42-10",-204524.74100000001,-69098.903000000006,0]
[40530,"AK-203",-204524.326,-69092.3,0]
[40531,"AK-204",-204524.008,-69086.898000000001,0]
[40532,"A42-11",-204523.13,-69071.695000000007,0]
[40533,"A42-3",-204521.641,-69045.565000000002,0]
[40539,"AW27",-204521.08799999999,-69035.315000000002,0]
[40557,"AK-205",-204520.8,-69030.317999999999,0]
[40558,"AK-206",-204520.28700000001,-69024.236999999994,0]
[40559,"AK-207",-204519.68799999999,-69008.225999999995,0]
[40560,"AK-209",-204519.43599999999,-68993.327000000005,0]
[40561,"AK-209-1",-204518.94899999999,-68976.194000000003,0]
[40562,"AK-209-2",-204519.166,-68974.168999999994,0]
[40563,"AK-210",-204518.94399999999,-68970.127999999997,0]
[40564,"AK-211",-204518.82800000001,-68968.153999999995,0]
[40565,"AK-212",-204518.68,-68966.134999999995,0]
[40566,"AK-213",-204518.47399999999,-68964.104999999996,0]
[40567,"AK-214-1",-204518.14799999999,-68962.087,0]
[40568,"AK-214-2",-204517.80100000001,-68960.388000000006,0]
[40569,"AK-215",-204515.69399999999,-68950.269,0]
[40552,"AK-215-2",-204514.28899999999,-68946.464999999997,0]
[40542,"AK-216",-204513.71299999999,-68946.638999999996,0]
[40541,"AK-217",-204510.80499999999,-68937.061000000002,0]
[40544,"A45-73",-204505.91500000001,-68922.039000000004,0]
[40540,"AK-218",-204504.685,-68918.192999999999,0]
[40543,"A45-24",-204503.92800000001,-68915.767000000007,0]
[40545,"A45-81",-204503.70800000001,-68915.055999999997,0]
[40534,"A45-25",-204503.25899999999,-68913.607000000004,0]
[40535,"AK-219",-204501.36199999999,-68907.649999999994,0]
[40536,"A45-14",-204501.22399999999,-68907.293999999994,0]
[40553,"AK-220",-204500.51500000001,-68904.589000000007,0]
[40554,"AK-221",-204499.61499999999,-68900.698000000004,0]
[40555,"AK-222",-204497.46,-68892.994000000006,0]
[40556,"AK-223",-204496.22099999999,-68889.224000000002,0]
[40394,"AK-224",-204494.611,-68885.06,0]
[40380,"15-36029",-204499.18299999999,-68882.024000000005,0]
[40382,"15-36028",-204500.35200000001,-68881.514999999999,0]
[40381,"15-36027",-204505.83499999999,-68879.126999999993,0]
[40379,"15-36026",-204511.49299999999,-68879.19,0]
[40374,"15-36271",-204519.28700000001,-68879.737999999998,0]
[40376,"15-36270",-204521.12400000001,-68875.923999999999,0]
[40377,"15-36269",-204523.19699999999,-68875.188999999998,0]
[40378,"15-36268",-204534.57800000001,-68871.659,0]
[40319,"15-36261",-204544.85200000001,-68868.808999999994,0]
[40392,"15-36253K",-204546.52799999999,-68868.089000000007,0]
[40373,"15-36253",-204547.35800000001,-68867.732000000004,0]
[40375,"15-39237",-204553.39300000001,-68865.967000000004,0]
[40372,"15-36244",-204558.14499999999,-68864.86,0]
[40371,"15-36243",-204567.4,-68862.755000000005,0]
[40370,"15-36252",-204576.59700000001,-68861.680999999997,0]
[40369,"15-36251",-204585.334,-68860.56,0]
[40368,"15-36409",-204589.31099999999,-68860.114000000001,0]
[40383,"15-39248",-204590.35399999999,-68860.317999999999,0]
[40384,"15-39247",-204592.12100000001,-68860.057000000001,0]
[40385,"15-39256",-204600.08600000001,-68858.592000000004,0]
[40386,"15-39255",-204602.28599999999,-68858.471999999994,0]
[40387,"15-39254",-204609.10800000001,-68858.402000000002,0]
[40388,"15-39257",-204617.981,-68857.845000000001,0]
[40389,"15-39258",-204619.533,-68853.706000000006,0]
[40390,"15-39261",-204621.44399999999,-68850.532999999996,0]
[40391,"15-39262",-204623.785,-68850.044999999998,0]
[40367,"15-36101",-204626.554,-68849.180999999997,0]
[40366,"15-36418",-204629.505,-68849.673999999999,0]
[40365,"15-36419",-204638.90700000001,-68846.233999999997,0]
[40364,"15-36420",-204642.92800000001,-68844.013000000006,0]
[40363,"15-36421",-204648.158,-68840.664999999994,0]
[40362,"15-36422",-204650.465,-68838.293999999994,0]
[40361,"15-36423",-204659.52,-68822.932000000001,0]
[40360,"15-36424",-204660.40599999999,-68820.111999999994,0]
[40359,"15-36807",-204662.83100000001,-68819.638000000006,0]
[40358,"15-36806",-204663.69399999999,-68819.633000000002,0]
[40357,"15-36805",-204668.06700000001,-68818.292000000001,0]
[40356,"15-36804",-204671.554,-68817.108999999997,0]
[40355,"15-37015",-204674.24299999999,-68815.987999999998,0]
[40354,"15-37014",-204681.29800000001,-68813.005999999994,0]
[40353,"15-37013",-204686.70600000001,-68810.707999999999,0]
[40352,"15-39172",-204694.13800000001,-68807.481,0]
[40351,"15-39171",-204700.011,-68804.845000000001,0]
[40350,"15-39170",-204700.75200000001,-68804.438999999998,0]
[40349,"15-39169",-204701.50899999999,-68803.759000000005,0]
[40348,"15-39168",-204701.80799999999,-68802.642999999996,0]
[40347,"15-39167",-204700.52799999999,-68797.922000000006,0]
[40346,"15-39163",-204699.91699999999,-68795.274999999994,0]
[40345,"15-36832",-204703.96400000001,-68794.172999999995,0]
[40344,"15-36830",-204711.87299999999,-68790.880000000005,0]
[40343,"15-36829",-204714.27499999999,-68789.281000000003,0]
[40342,"15-36828",-204716.06,-68787.881999999998,0]
[40341,"15-36827",-204717.41899999999,-68786.544999999998,0]
[40340,"15-36826",-204718.552,-68785.074999999997,0]
[40339,"15-36825",-204719.14799999999,-68783.853000000003,0]
[40338,"15-36824",-204719.44500000001,-68782.467000000004,0]
[40337,"15-36823",-204719.554,-68781.285999999993,0]
[40336,"15-36822",-204719.18900000001,-68778.663,0]
[40335,"15-36821",-204716.128,-68768.024000000005,0]
[40334,"15-37026",-204715.57699999999,-68764.587,0]
[40333,"15-37025",-204714.44899999999,-68762.509999999995,0]
[40332,"15-37024",-204712.32399999999,-68754.385999999999,0]
[40331,"15-37023",-204711.22700000001,-68748.483999999997,0]
[40322,"15-37027",-204712.55600000001,-68739.161999999997,0]
[40323,"15-37028",-204713.397,-68732.600999999995,0]
[40324,"15-37029",-204713.45300000001,-68730.051999999996,0]
[40320,"15-37030",-204713.557,-68728.633000000002,0]
[40321,"15-37270",-204714.073,-68725.179999999993,0]
[40325,"15-37271",-204731.54800000001,-68727.722999999998,0]
[40327,"15-37094",-204733.386,-68728.25,0]
[40328,"15-37095",-204734.34899999999,-68729.517999999996,0]
[40326,"15-37096",-204738.15299999999,-68730.804999999993,0]
[40329,"15-37097",-204747.84700000001,-68734.368000000002,0]
[40330,"15-37098",-204752.57500000001,-68735.45,0]
[40393,"15-37098K",-204754.079,-68735.793999999994,0]
[40036,"01-2160K",-204751.56599999999,-68737.717000000004,0]
[40035,"01-2159K",-204757.34899999999,-68747.069000000003,0]
[40034,"01-2158K",-204758.56400000001,-68754.941999999995,0]
[40033,"01-2157K",-204758.52,-68765.952000000005,0]
[40032,"01-2156K",-204758.28400000001,-68767.076000000001,0]
[40031,"01-2156",-204757.40700000001,-68766.873999999996,0]
[40030,"01-2155",-204758.155,-68769.25,0]
[40029,"01-2154",-204763.83300000001,-68777.919999999998,0]
[40028,"01-1",-204769.57199999999,-68786.839000000007,0]
[40027,"01-2",-204771.41899999999,-68790.851999999999,0]
[40026,"01-5",-204772.24100000001,-68793.849000000002,0]
[40025,"01-6",-204772.16899999999,-68795.468999999997,0]
[40024,"01-2152",-204774.17800000001,-68808.611000000004,0]
[40023,"01-83",-204775.36499999999,-68816.494000000006,0]
[40022,"01-2161",-204778.19,-68833.968999999997,0]
[40021,"01-2162",-204778.41699999999,-68835.448000000004,0]
[40020,"01-2163",-204780.31200000001,-68849.729000000007,0]
[40019,"01-2164",-204781.37100000001,-68856.948000000004,0]
[40018,"01-257",-204787.427,-68861.827000000005,0]
[40017,"01-256",-204804.32399999999,-68859.308000000005,0]
[40016,"01-255",-204809.81400000001,-68859.33,0]
[40015,"01-254",-204815.742,-68859.680999999997,0]
[40014,"01-253",-204825.576,-68860.864000000001,0]
[40013,"01-252",-204836.98800000001,-68863.039999999994,0]
[40012,"01-251",-204854.36199999999,-68865.451000000001,0]
[40001,"01-250",-204868.571,-68868.131999999998,0]
[40010,"01-248K",-204882.26800000001,-68870.870999999999,0]
[40009,"01-246K",-204889.46599999999,-68871.971000000005,0]
[40008,"01-244K",-204897.226,-68872.188999999998,0]
[40007,"01-241K",-204919.304,-68869.736000000004,0]
[40006,"01-240K",-204923.076,-68868.422999999995,0]
[40005,"01-238K",-204926.696,-68865.979000000007,0]
[40004,"01-234K",-204938.93700000001,-68856.601999999999,0]
[40003,"01-232K",-204943.35200000001,-68853.528999999995,0]
[40002,"01-230",-204944.77299999999,-68852.804000000004,0]
[40011,"01-226",-204950.54199999999,-68850.099000000002,0]
[40285,"01-226",-204950.54199999999,-68850.099000000002,0]
[40235,"02-860K",-204956.348,-68858.05,0]
[40224,"02-860",-204956.67499999999,-68858.997000000003,0]
[40223,"02-786",-204958.88399999999,-68865.404999999999,0]
[40222,"02-785",-204960.03599999999,-68882.745999999999,0]
[40221,"02-784",-204961.77900000001,-68886.297999999995,0]
[40220,"02-783",-204974.13399999999,-68885.034,0]
[40212,"02-777",-204989.71100000001,-68887.254000000001,0]
[40211,"02-778",-204995.717,-68891.531000000003,0]
[40210,"02-779",-205002.098,-68893.316000000006,0]
[40209,"02-780",-205004.45,-68892.163,0]
[40208,"02-781",-205010.43700000001,-68893.653999999995,0]
[40207,"02-782",-205013.33100000001,-68895.275999999998,0]
[40213,"02-694",-205021.693,-68902.274999999994,0]
[40219,"02-697",-205024.29199999999,-68907.672000000006,0]
[40218,"02-698",-205029.149,-68917.917000000001,0]
[40217,"02-699",-205032.01699999999,-68927.297000000006,0]
[40216,"02-700",-205036.37,-68929.553,0]
[40215,"02-702",-205039.67199999999,-68929.122000000003,0]
[40214,"02-703",-205041.31099999999,-68913.112999999998,0]
[40199,"02-696",-205041.20600000001,-68900.278999999995,0]
[40206,"02-2312",-205050.86799999999,-68907.3,0]
[40205,"02-2311",-205057.05,-68912.5,0]
[40204,"02-2310",-205066.15400000001,-68920.164000000004,0]
[40203,"02-2309",-205074.579,-68928.317999999999,0]
[40202,"02-2308",-205087.565,-68941.61,0]
[40201,"02-2307",-205092.766,-68938.282000000007,0]
[40200,"02-2306",-205110.15100000001,-68928.843999999997,0]
[40197,"02-2302",-205116.97899999999,-68918.948999999993,0]
[40196,"02-2301",-205112.63099999999,-68932.824999999997,0]
[40195,"02-2100",-205116.283,-68942.429999999993,0]
[40194,"02-2099",-205116.22200000001,-68950.248000000007,0]
[40198,"02-2098",-205120.28599999999,-68949.380999999994,0]
[40193,"02-676",-205128.94,-68947.259000000005,0]
[40192,"02-675",-205112.791,-68967.28,0]
[40191,"02-674",-205115.948,-68971.5,0]
[40190,"02-673",-205125.16899999999,-68967.623000000007,0]
[40189,"02-600",-205137.65299999999,-68961.202999999994,0]
[40188,"02-599",-205142.272,-68958.720000000001,0]
[40187,"02-2266",-205144.91200000001,-68955.108999999997,0]
[40186,"02-2265",-205148.58900000001,-68952.649999999994,0]
[40185,"02-2264",-205151.54500000001,-68938.959000000003,0]
[40184,"02-2263",-205155.54300000001,-68924.648000000001,0]
[40182,"02-2262",-205157.71799999999,-68920.452000000005,0]
[40183,"02-2096",-205165.12299999999,-68902.346000000005,0]
[40180,"02-931",-205167.16399999999,-68896.009000000005,0]
[40179,"02-930",-205170.94099999999,-68896.94,0]
[40178,"02-929",-205178.49,-68900.058000000005,0]
[40177,"02-928",-205177.962,-68905.584000000003,0]
[40176,"02-968",-205174.28400000001,-68922.665999999997,0]
[40181,"02-2320",-205172.78700000001,-68932.92,0]
[40156,"02-2321",-205194.62299999999,-68934.274000000005,0]
[40155,"02-919",-205195.87,-68940.616999999998,0]
[40154,"02-918",-205198.421,-68953.724000000002,0]
[40153,"02-917",-205196.16,-68961.5,0]
[40175,"02-900",-205194.54399999999,-68964.520999999993,0]
[40174,"02-901",-205184.861,-68976.494000000006,0]
[40157,"02-902",-205183.05300000001,-68978.604000000007,0]
[40170,"02-903",-205180.78599999999,-68988.22,0]
[40169,"02-904",-205180.302,-69000.649999999994,0]
[40168,"02-905",-205187.092,-69003.120999999999,0]
[40167,"02-906",-205192.177,-69008.184999999998,0]
[40166,"02-907",-205197.02,-69024.934999999998,0]
[40165,"02-908",-205198.80300000001,-69028.504000000001,0]
[40164,"02-909",-205205.30600000001,-69029.627999999997,0]
[40163,"02-910",-205209.02100000001,-69024.02,0]
[40162,"02-911",-205211.133,-69011.619000000006,0]
[40161,"02-912",-205213.872,-69004.019,0]
[40160,"02-913",-205209.93299999999,-68993.959000000003,0]
[40159,"02-914",-205209.541,-68983.409,0]
[40158,"02-915",-205209.59400000001,-68980.899999999994,0]
[40173,"02-916",-205207.08499999999,-68977.695999999996,0]
[40172,"02-899",-205205.91399999999,-68964.718999999997,0]
[40171,"02-892",-205208.83300000001,-68953.565000000002,0]
[40284,"02-890",-205208.63,-68935.232000000004,0]
[40283,"02-2260",-205210.03700000001,-68931.812000000005,0]
[40282,"02-888",-205210.53899999999,-68927.895999999993,0]
[40281,"02-886",-205214.147,-68921.426000000007,0]
[40233,"02-884",-205216.535,-68915.816999999995,0]
[40234,"02-882",-205218.46,-68909.415999999997,0]
[40148,"02-879",-205220.511,-68902.407000000007,0]
[40152,"02-878",-205226.30499999999,-68903.042000000001,0]
[40151,"02-877",-205231.97500000001,-68905.057000000001,0]
[40150,"02-876",-205244.01300000001,-68907.585000000006,0]
[40149,"02-875",-205254.701,-68909.475000000006,0]
[40147,"02-874",-205263.484,-68911.395000000004,0]
[40143,"02-873",-205264.818,-68913.525999999998,0]
[40142,"02-871",-205256.95300000001,-68914.539999999994,0]
[40141,"02-870",-205265.25099999999,-68924.426000000007,0]
[40140,"02-869",-205268.995,-68936.093999999997,0]
[40145,"02-2324",-205266.46799999999,-68940.317999999999,0]
[40144,"02-2325",-205269.022,-68950.725999999995,0]
[40146,"02-2326",-205286.21299999999,-68949.043999999994,0]
[40232,"02-2327",-205288.321,-68948.707999999999,0]
[40231,"02-2329",-205287.193,-68938.429000000004,0]
[40230,"02-1380",-205289.80300000001,-68927.823999999993,0]
[40139,"02-1303",-205287.62299999999,-68922.209000000003,0]
[40138,"02-1302",-205297.59700000001,-68926.019,0]
[40137,"02-1301",-205309.25099999999,-68931.095000000001,0]
[40136,"02-1205",-205316.76300000001,-68935.637000000002,0]
[40280,"02-1206",-205316.174,-68936.58,0]
[40279,"02-1119",-205320.886,-68939.509000000005,0]
[40278,"02-1121",-205327.144,-68941.964000000007,0]
[40277,"02-1204",-205332.83,-68944.872000000003,0]
[40276,"02-1202",-205335.52499999999,-68946.203999999998,0]
[40275,"02-1200",-205338.788,-68947.83,0]
[40274,"02-1117",-205349.46,-68948.462,0]
[40273,"02-1115",-205362.19,-68951.667000000001,0]
[40272,"02-1198",-205363.416,-68952.399999999994,0]
[40271,"02-1196",-205364.481,-68953.377999999997,0]
[40270,"02-1194",-205366.45699999999,-68954.720000000001,0]
[40269,"02-1192",-205369.71599999999,-68956.58,0]
[40268,"02-1190",-205371.82800000001,-68957.444000000003,0]
[40267,"02-1188",-205374.75700000001,-68958.698000000004,0]
[40266,"02-1186",-205376.584,-68959.127999999997,0]
[40265,"02-1184",-205378.06,-68959.168000000005,0]
[40264,"02-1238K",-205380.24799999999,-68958.607999999993,0]
[40263,"02-1239K",-205381.27799999999,-68958.331000000006,0]
[40262,"02-1182",-205395.989,-68955.513000000006,0]
[40261,"02-1180",-205401.64600000001,-68953.604999999996,0]
[40260,"02-1178",-205406.17199999999,-68951.906000000003,0]
[40259,"02-1176",-205408.38,-68950.801000000007,0]
[40258,"02-1174K",-205410.924,-68948.342999999993,0]
[40257,"02-1173",-205411.18,-68948.781000000003,0]
[40256,"02-1171",-205411.981,-68948.960000000006,0]
[40255,"02-1170",-205420.924,-68949.248999999996,0]
[40254,"02-1169",-205434.49,-68951.786999999997,0]
[40253,"02-1164K",-205440.09899999999,-68952.563999999998,0]
[40252,"02-1168",-205444.95300000001,-68952.804000000004,0]
[40251,"02-1162",-205446.27900000001,-68953.157999999996,0]
[40250,"02-1160",-205448.18299999999,-68953.747000000003,0]
[40249,"02-1158",-205450.878,-68955.153000000006,0]
[40248,"02-1156",-205451.89600000001,-68955.354000000007,0]
[40247,"02-1152",-205452.67199999999,-68955.504000000001,0]
[40246,"02-1153",-205453.37100000001,-68955.592000000004,0]
[40245,"02-1150",-205454.766,-68955.357000000004,0]
[40244,"02-1147K",-205456.07399999999,-68955.16,0]
[40243,"02-1146K",-205456.94699999999,-68954.820999999996,0]
[40242,"02-1148K",-205457.94399999999,-68954.528999999995,0]
[40241,"02-1145",-205458.84,-68954.164000000004,0]
[40240,"02-1143K",-205460.66800000001,-68952.910999999993,0]
[40239,"02-1142",-205464.823,-68949.718999999997,0]
[40238,"02-1140K",-205469.57399999999,-68947.504000000001,0]
[40237,"02-1139",-205472.18599999999,-68946.34,0]
[40236,"02-1137",-205479.25700000001,-68943.578999999998,0]
[40229,"02-1122",-205483.51300000001,-68941.572,0]
[40228,"02-1132",-205494.166,-68939.127999999997,0]
[40227,"02-1130",-205497.87400000001,-68937.305999999997,0]
[40226,"02-1129",-205500.86900000001,-68934.555999999997,0]
[40225,"02-1126",-205501.81200000001,-68933.466,0]
[40135,"02-1125P",-205515.514,-68922.531000000003,0]
[40134,"02-1294",-205520.674,-68927.433999999994,0]
[40133,"02-1295",-205524.74600000001,-68930.570999999996,0]
[40132,"02-1296",-205534.85500000001,-68929.395999999993,0]
[40131,"02-1297",-205542.995,-68925.815000000002,0]
[40130,"02-1298",-205547.405,-68922.434999999998,0]
[40129,"02-1299",-205550.571,-68921.701000000001,0]
[40128,"02-1300",-205557.81899999999,-68925.349000000002,0]
[40127,"02-1462",-205559.51300000001,-68921.17,0]
[40124,"02-2071",-205563.226,-68921.626000000004,0]
[40106,"02-1639",-205565.538,-68922.111999999994,0]
[40109,"02-1640",-205571.024,-68942.104999999996,0]
[40108,"02-1641",-205570.86600000001,-68946.058000000005,0]
[40107,"02-1642",-205570.18,-68950.592000000004,0]
[40103,"02-1643",-205570.45699999999,-68953.880999999994,0]
[40102,"02-1888",-205568.22,-68959.436000000002,0]
[40101,"02-1887",-205565.38200000001,-68968.618000000002,0]
[40100,"02-1886",-205565.242,-68971.56,0]
[40099,"02-1885",-205565.535,-68978.460000000006,0]
[40098,"02-1884",-205564.799,-68978.739000000001,0]
[40105,"02-1883",-205565.30600000001,-68979.816000000006,0]
[40104,"02-1882",-205570.052,-68988.716,0]
[40095,"02-1873",-205574.91399999999,-69001.361999999994,0]
[40094,"02-1874",-205570.64,-69007.514999999999,0]
[40093,"02-1941",-205573.33,-69026.077000000005,0]
[40092,"02-1940P",-205578.89,-69043.75,0]
[40091,"02-1939",-205586.86,-69041.822,0]
[40090,"02-1938",-205592.13200000001,-69048.881999999998,0]
[40089,"02-1937",-205593.584,-69055.918999999994,0]
[40088,"02-1936",-205591.58499999999,-69062.396999999997,0]
[40087,"02-1935",-205588.503,-69062.815000000002,0]
[40086,"02-1934",-205589.13399999999,-69068.152000000002,0]
[40085,"02-1933",-205592.584,-69076.554999999993,0]
[40084,"02-1931",-205597.23499999999,-69087.229000000007,0]
[40097,"02-1930P",-205594.87599999999,-69093.413,0]
[40096,"02-1928",-205605.291,-69100.232000000004,0]
[40123,"02-1929K",-205605.87899999999,-69101.161999999997,0]
[40126,"02-1929",-205606.171,-69101.623000000007,0]
[40125,"02-1926",-205610.49799999999,-69098.205000000002,0]
[40122,"02-1925",-205613.606,-69092.884999999995,0]
[40121,"02-1924",-205614.81700000001,-69091.063999999998,0]
[40120,"02-1920",-205616.18400000001,-69083.131999999998,0]
[40119,"02-1918",-205619.351,-69074.107999999993,0]
[40118,"02-2257",-205622.978,-69069.622000000003,0]
[40117,"02-1915",-205623.889,-69068.653000000006,0]
[40116,"02-1912",-205628.95699999999,-69063.896999999997,0]
[40115,"02-1961",-205632.576,-69063.820000000007,0]
[40114,"02-1959",-205639.16500000001,-69066.027000000002,0]
[40083,"02-1957",-205648.64000000001,-69070.95,0]
[40082,"02-1975",-205651.50399999999,-69073.997000000003,0]
[40081,"02-1974",-205652.861,-69076.380999999994,0]
[40080,"02-1973",-205654.717,-69083.38,0]
[40072,"02-1972",-205661.05100000001,-69090.565000000002,0]
[40071,"02-1998",-205657.41200000001,-69092.729000000007,0]
[40070,"02-1997",-205653.924,-69095.551000000007,0]
[40069,"02-1996",-205650.06099999999,-69099.845000000001,0]
[40079,"02-1999",-205645.375,-69103.403000000006,0]
[40078,"02-2000",-205643.95600000001,-69104.467999999993,0]
[40077,"02-2001",-205647.976,-69108.812999999995,0]
[40076,"02-2002",-205657.17,-69122.065000000002,0]
[40075,"02-2003",-205660.43799999999,-69123.271999999997,0]
[40074,"02-2004",-205670.75599999999,-69124.497000000003,0]
[40073,"02-2005",-205672.95499999999,-69119.001999999993,0]
[40068,"02-1988",-205671.35,-69117.460000000006,0]
[40054,"02-1987",-205673.09099999999,-69112.369000000006,0]
[40067,"02-2130",-205683.54199999999,-69111.184999999998,0]
[40066,"02-2129",-205688.42300000001,-69112.543000000005,0]
[40065,"02-2128",-205701.44,-69120.721000000005,0]
[40064,"02-2127",-205703.486,-69141.592000000004,0]
[40063,"02-2126",-205713.4,-69144.354000000007,0]
[40062,"02-2125",-205719.88200000001,-69134.75,0]
[40061,"02-2124",-205722.4,-69132.070000000007,0]
[40060,"02-2123",-205726.94699999999,-69128.747000000003,0]
[40059,"02-2122",-205728.777,-69128.020999999993,0]
[40058,"02-2121",-205737.201,-69130.407000000007,0]
[40057,"02-2120",-205738.47899999999,-69129.099000000002,0]
[40056,"02-2119",-205740.92600000001,-69130.337,0]
[40055,"02-2118",-205748.239,-69131.001999999993,0]
[40053,"02-2115P",-205752.06599999999,-69130.248999999996,0]
[40052,"02-2114",-205748.94500000001,-69133.505000000005,0]
[40051,"02-2113",-205743.53200000001,-69140.707999999999,0]
[40050,"02-2112",-205745.489,-69145.233999999997,0]
[40049,"02-2111",-205747.93,-69148.929999999993,0]
[40048,"02-2110",-205755.198,-69152.622000000003,0]
[40047,"02-2109",-205757.959,-69159.167000000001,0]
[40046,"02-2108",-205758.55100000001,-69163.884000000005,0]
[40045,"02-2107",-205761.416,-69166.194000000003,0]
[40044,"02-2106",-205765.66500000001,-69165.692999999999,0]
[40043,"02-2105",-205769.024,-69163.864000000001,0]
[40042,"02-2104",-205770.26,-69159.629000000001,0]
[40041,"02-2103",-205772.69,-69155.521999999997,0]
[40040,"02-2102",-205778.734,-69148.144,0]
[40039,"02-2101",-205785.77100000001,-69142.812000000005,0]
[40038,"02-1827",-205791.23199999999,-69140.091,0]
[40113,"02-1825",-205801.65599999999,-69142.263999999996,0]
[40112,"02-1823",-205805.41099999999,-69144.794999999998,0]
[40111,"02-1821",-205811.179,-69146.706000000006,0]
[40110,"02-1819",-205817.739,-69146.248000000007,0]
[40286,"02-1819",-205817.739,-69146.248000000007,0]
[40297,"09-37857",-205820.122,-69155.252999999997,0]
[40296,"09-37856",-205819.42499999999,-69161.047999999995,0]
[40295,"09-37855",-205820.64499999999,-69166.683000000005,0]
[40294,"09-37851",-205821.04399999999,-69172.328999999998,0]
[40293,"09-37850",-205816.554,-69172.909,0]
[40289,"09-37846",-205808.25899999999,-69172.183000000005,0]
[40290,"09-37847",-205803.66,-69172.812999999995,0]
[40291,"09-37848",-205801.23800000001,-69174.152000000002,0]
[40292,"09-37849",-205796.50700000001,-69178.762000000002,0]
[40288,"09-37839",-205794.334,-69182.311000000002,0]
[40287,"09-37838",-205790.633,-69186.418999999994,0]
[40317,"09-38013",-205779.56299999999,-69197.726999999999,0]
[40316,"09-38012",-205764.584,-69206.245999999999,0]
[40315,"09-38011",-205752.73699999999,-69215.92,0]
[40314,"09-38010",-205748.50599999999,-69219.474000000002,0]
[40313,"09-38009",-205743.568,-69224.733999999997,0]
[40312,"09-38008",-205741.454,-69228.573999999993,0]
[40311,"09-38007",-205738.17300000001,-69235.763999999996,0]
[40310,"09-38006",-205733.86600000001,-69243.664000000004,0]
[40309,"09-38005",-205731.196,-69247.509999999995,0]
[40308,"09-38004",-205725.11199999999,-69255.403999999995,0]
[40307,"09-38003",-205716.15599999999,-69264.701000000001,0]
[40306,"09-38002",-205707.00099999999,-69275.751000000004,0]
[40305,"09-38001",-205694.31,-69296.735000000001,0]
[40304,"09-38000",-205677.75,-69304.739000000001,0]
[40303,"09-37999",-205661.24100000001,-69311.394,0]
[40302,"09-37998",-205652.00099999999,-69316.94,0]
[40301,"09-37997",-205645.179,-69321.277000000002,0]
[40300,"09-37996",-205632.717,-69339.55,0]
[40299,"09-37995",-205628.28099999999,-69348.676999999996,0]
[40298,"09-37994",-205625.033,-69362.812999999995,0]
[40318,"09-38906",-205618.17,-69372.430999999997,0]
[41186,"21-06468",-205595.38500000001,-69373.184999999998,0]
[41185,"21-06469",-205578.41099999999,-69373.91,0]
[41184,"21-06390",-205562.69699999999,-69373.308000000005,0]
[41183,"21-06389",-205550.30499999999,-69360.567999999999,0]
[41182,"21-06388",-205540.93400000001,-69353.502999999997,0]
[41181,"21-06387",-205507.24799999999,-69341.476999999999,0]
[41180,"21-06470",-205505.01800000001,-69325.634999999995,0]
[41179,"21-06471",-205498.758,-69308.414000000004,0]
[41178,"21-06472",-205479.12700000001,-69297.452999999994,0]
[41177,"21-06473",-205476.56099999999,-69273.744000000006,0]
[41176,"21-06474",-205478.16099999999,-69255.088000000003,0]
[41175,"21-06475",-205475.639,-69235.737999999998,0]
[41174,"21-06476",-205465.05799999999,-69201.764999999999,0]
[41173,"21-06477",-205470.69899999999,-69183.456000000006,0]
[41172,"21-06478",-205466.93599999999,-69169.288,0]
[41171,"21-06479",-205449.875,-69180.654999999999,0]
[41170,"21-06480",-205432.375,-69189.682000000001,0]
[41169,"21-06481",-205410.399,-69208.869000000006,0]
[41168,"21-06482",-205392.64000000001,-69222.179000000004,0]
[41167,"21-06483",-205378.62899999999,-69224.684999999998,0]
[41166,"21-06484",-205372.24799999999,-69233.509000000005,0]
[41165,"21-06791",-205364.386,-69235.845000000001,0]
[41164,"21-06485",-205364.565,-69238.638000000006,0]
[41163,"21-06486",-205354.67199999999,-69235.875,0]
[41162,"21-06487",-205336.14,-69241.991999999998,0]
[41161,"21-06488",-205320.02600000001,-69253.452000000005,0]
[41160,"21-06489",-205310.27600000001,-69247.504000000001,0]
[41159,"21-06490",-205290.117,-69247.097999999998,0]
[41158,"21-06491",-205283.43100000001,-69250.388000000006,0]
[41157,"21-06492",-205265.06899999999,-69254.959000000003,0]
[41156,"21-06493",-205254.48800000001,-69259.351999999999,0]
[41155,"21-06494",-205238.21799999999,-69255.275999999998,0]
[41154,"21-06495",-205225.03,-69254.346000000005,0]
[41153,"21-06496",-205220.443,-69255.02,0]
[41152,"21-06497",-205215.83799999999,-69258.304000000004,0]
[41151,"21-06498",-205195.35399999999,-69257.103000000003,0]
[41150,"21-06499",-205179.791,-69259.385999999999,0]
[41149,"21-06500",-205165.345,-69262.184999999998,0]
[41148,"21-06715",-205149.65599999999,-69264.644,0]
[41147,"21-06716",-205138.73499999999,-69257.023000000001,0]
[41146,"21-06717",-205131.698,-69250.914000000004,0]
[41145,"21-06718",-205123.99400000001,-69254.214000000007,0]
[41144,"21-06719",-205118.49299999999,-69251.612999999998,0]
[41143,"21-06720",-205117.15100000001,-69247.421000000002,0]
[41142,"21-06721",-205113.976,-69245.236000000004,0]
[41141,"21-06722",-205105.774,-69244.009000000005,0]
[41140,"21-06723",-205096.56899999999,-69247.277000000002,0]
[41139,"21-06724",-205082.96,-69240.915999999997,0]
[41138,"21-06725",-205075.18100000001,-69242.34,0]
[41137,"21-06726",-205056.51,-69239.697,0]
[41136,"21-06727",-205044.837,-69233.057000000001,0]
[41135,"21-06728",-205032.193,-69230.756999999998,0]
[41134,"21-06729",-205022.11600000001,-69226.149000000005,0]
[41133,"21-06730",-205009.07699999999,-69221.903999999995,0]
[41132,"21-06731",-204995.11600000001,-69219.532000000007,0]
[41131,"21-06732",-204981.52600000001,-69218.915999999997,0]
[41130,"21-06733",-204980.24,-69226.952000000005,0]
[41129,"21-06734",-204976.36799999999,-69235.551999999996,0]
[41128,"21-06735",-204974.3,-69237.724000000002,0]
[41127,"21-06736",-204971.15400000001,-69238.213000000003,0]
[41126,"21-06737",-204965.22399999999,-69234.252999999997,0]
[41125,"21-06738",-204965.111,-69226.601999999999,0]
[41124,"21-06739",-204966.55100000001,-69220.785000000003,0]
[41123,"21-06740",-204972.478,-69217.650999999998,0]
[41122,"21-06741",-204973.15100000001,-69208.535000000003,0]
[41121,"21-06742",-204972.62899999999,-69203.077000000005,0]
[41120,"21-06743",-204967.87899999999,-69197.998000000007,0]
[41119,"21-06744",-204961.927,-69194.017000000007,0]
[41118,"21-06646",-204952.929,-69191.243000000002,0]
[41117,"21-06645",-204941.5,-69190.207999999999,0]
[41116,"21-06644",-204930.274,-69191.906000000003,0]
[41115,"21-06643",-204921.212,-69195.495999999999,0]
[41114,"21-06642",-204913.45600000001,-69201.525999999998,0]
[41113,"21-06641",-204912.43400000001,-69209.381999999998,0]
[41112,"21-06640",-204907.054,-69220.832999999999,0]
[41111,"21-06639",-204900.177,-69220.221999999994,0]
[41102,"21-06638",-204897.073,-69218.948999999993,0]
[41103,"21-06637K",-204885.514,-69231.668999999994,0]
[41110,"21-06588",-204873.54300000001,-69266.854000000007,0]
[41109,"21-06587",-204857.147,-69259.842000000004,0]
[41108,"21-06586",-204846.4,-69243.024999999994,0]
[41107,"21-01851",-204831.63099999999,-69227.062000000005,0]
[41106,"21-01852",-204843.18799999999,-69205.888999999996,0]
[41105,"21-01853",-204852.93100000001,-69194.471000000005,0]
[41104,"21-06637K2",-204856.91200000001,-69203.553,0]
[41101,"21-06637",-204891.98,-69206.531000000003,0]
[41100,"21-06636",-204886.12599999999,-69192.361999999994,0]
[41099,"21-06635",-204873.87599999999,-69175.857999999993,0]
[41098,"21-06634",-204880.038,-69166.233999999997,0]
[41097,"21-06633",-204879.02,-69155.815000000002,0]
[41096,"21-01868",-204889.9,-69139.459000000003,0]
[41095,"21-01867",-204868.14300000001,-69129.361000000004,0]
[41094,"21-01866",-204855.34899999999,-69135.039000000004,0]
[41093,"21-01865",-204841.68599999999,-69128.483999999997,0]
[41092,"21-01864",-204827.46900000001,-69113.418000000005,0]
[41091,"21-01863",-204803.845,-69115.804999999993,0]
[41090,"21-01872",-204796.71299999999,-69121.267000000007,0]
[41089,"21-01873",-204793.89799999999,-69126.687999999995,0]
[41088,"21-01874",-204790.435,-69133.31,0]
[41087,"21-01875",-204792.13399999999,-69144.183999999994,0]
[41086,"21-01876",-204795.609,-69160.769,0]
[41085,"21-06782",-204798.68900000001,-69159.566999999995,0]
[41084,"21-06781",-204808.44200000001,-69170.252999999997,0]
[41083,"21-06780",-204804.97700000001,-69175.053,0]
[41082,"21-06779",-204798.614,-69176.409,0]
[41081,"21-01877",-204790.08199999999,-69163.937000000005,0]
[41080,"21-01878",-204773.9,-69152.403999999995,0]
[41079,"21-01879",-204768.38399999999,-69148.111999999994,0]
[41078,"21-01880",-204762.93,-69145.144,0]
[41077,"21-01881",-204753.48199999999,-69146.320999999996,0]
[41076,"21-01882",-204749.97700000001,-69139.865999999995,0]
[41075,"21-01883",-204748.42300000001,-69130.626999999993,0]
[41074,"21-01884",-204751.64,-69121.589000000007,0]
[41073,"21-01885",-204763.07199999999,-69103.879000000001,0]
[41072,"21-01886",-204763.78599999999,-69096.460000000006,0]
[41071,"21-01887",-204766.226,-69090.661999999997,0]
[41070,"21-01888",-204763.217,-69088.403999999995,0]
[41069,"21-02066",-204759.02299999999,-69082.141000000003,0]
[41068,"21-02065",-204757.31099999999,-69079.653999999995,0]
[41067,"21-02064",-204756.144,-69076.870999999999,0]
[41066,"21-02063",-204752.19200000001,-69073.960000000006,0]
[41065,"21-02062",-204750.473,-69073.171000000002,0]
[41064,"21-02061",-204747.41800000001,-69073.274999999994,0]
[41063,"21-02060",-204746.22,-69072.972999999998,0]
[41062,"21-02059",-204745.416,-69072.506999999998,0]
[41061,"21-02058",-204744.92,-69071.959000000003,0]
[41060,"21-02057",-204743.15900000001,-69068.710000000006,0]
[41059,"21-01812",-204740.834,-69062.824999999997,0]
[41058,"21-02014",-204738.63800000001,-69059.491999999998,0]
[41057,"21-02013",-204733.68,-69054.581999999995,0]
[41056,"21-02012",-204732.50700000001,-69053.217999999993,0]
[41055,"21-02011",-204729.307,-69052.741999999998,0]
[41054,"21-02010",-204727.51199999999,-69052.684999999998,0]
[41053,"21-02009",-204726.484,-69052.652000000002,0]
[41052,"21-02008",-204725.63699999999,-69053.002999999997,0]
[41051,"21-02007",-204721.40100000001,-69055.138000000006,0]
[41050,"21-02006",-204718.24,-69056.381999999998,0]
[41049,"21-02005",-204715.967,-69057.001999999993,0]
[41048,"21-02004",-204714.198,-69057.752999999997,0]
[41047,"21-02003",-204711.56299999999,-69059.316999999995,0]
[41046,"21-02002",-204708.75,-69061.482000000004,0]
[41045,"21-02001",-204706.978,-69063.678,0]
[41044,"21-01700",-204704.823,-69066.485000000001,0]
[41043,"21-01699",-204703.399,-69067.691999999995,0]
[41042,"21-01698",-204701.992,-69068.482999999993,0]
[41041,"21-01697",-204699.872,-69069.085000000006,0]
[41040,"21-01696",-204696.38699999999,-69069.728000000003,0]
[41039,"21-01695",-204693.478,-69069.264999999999,0]
[41038,"21-01694",-204687.53599999999,-69066.956999999995,0]
[41037,"21-01693",-204685.78,-69066.559999999998,0]
[41036,"21-01692",-204683.59400000001,-69066.23,0]
[41035,"21-01691",-204680.625,-69066.562000000005,0]
[41034,"21-01690",-204676.666,-69067.838000000003,0]
[41033,"21-01689",-204675.63699999999,-69068.625,0]
[41032,"21-01688",-204674.258,-69070.633000000002,0]
[41031,"21-01687",-204673.122,-69072.850999999995,0]
[41030,"21-01686",-204672.321,-69075.714000000007,0]
[41029,"21-01685",-204671.97399999999,-69077.553,0]
[41028,"21-01684",-204671.37,-69080.567999999999,0]
[41027,"21-01683",-204669.37299999999,-69085.217999999993,0]
[41026,"21-01682",-204668.45300000001,-69086.817999999999,0]
[41025,"21-01681",-204667.14799999999,-69089.456000000006,0]
[41024,"21-02015",-204666.93700000001,-69090.880999999994,0]
[41023,"21-02016",-204668.06700000001,-69096.085999999996,0]
[41022,"21-02017",-204667.88500000001,-69099.126000000004,0]
[41021,"21-02018",-204667.78599999999,-69101.543999999994,0]
[41020,"21-02019",-204667.929,-69105.366999999998,0]
[41019,"21-02020",-204668.473,-69107.375,0]
[41018,"21-02021",-204668.40599999999,-69110.941999999995,0]
[41017,"21-02022",-204667.77100000001,-69114.937000000005,0]
[41016,"21-02023",-204666.64300000001,-69118.573999999993,0]
[41015,"21-02024",-204666.01800000001,-69120.805999999997,0]
[41014,"21-02025",-204666.174,-69123.994000000006,0]
[41013,"21-02026",-204667.32800000001,-69126.857999999993,0]
[41012,"21-02027",-204668.38500000001,-69130.414000000004,0]
[41011,"21-02028",-204668.497,-69133.482999999993,0]
[41010,"21-02029",-204668.27600000001,-69135.683999999994,0]
[41009,"21-02030",-204667.21900000001,-69139.034,0]
[41008,"21-02031",-204666.60500000001,-69141.512000000002,0]
[41007,"21-02032",-204665.739,-69143.320999999996,0]
[41006,"21-02033",-204662.34099999999,-69145.331999999995,0]
[41005,"21-02034",-204661.443,-69146.687000000005,0]
[41004,"21-02035",-204660.17199999999,-69149.612999999998,0]
[41003,"21-02036",-204658.26199999999,-69154.403000000006,0]
[41002,"21-02037",-204655.97,-69164.305999999997,0]
[41001,"21-02038",-204655.283,-69167.486999999994,0]
[41000,"21-02039",-204654.33799999999,-69178.335000000006,0]
[40999,"21-02040",-204654.42800000001,-69179.58,0]
[40998,"21-02041",-204654.86300000001,-69183.471999999994,0]
[40997,"21-02042",-204654.753,-69186.797000000006,0]
[40996,"21-02043",-204654.921,-69188.320000000007,0]
[40995,"21-02044",-204655.63699999999,-69189.994000000006,0]
[40994,"21-02045",-204656.67499999999,-69193.804999999993,0]
[40993,"21-06814",-204653.40599999999,-69216.763999999996,0]
[40992,"21-06813",-204652.274,-69254.144,0]
[40991,"21-06812",-204657.46299999999,-69290.687999999995,0]
[40990,"21-01824",-204659.71799999999,-69303.774000000005,0]
[40989,"21-01825",-204664.19899999999,-69307.520999999993,0]
[40988,"21-01826",-204666.26500000001,-69309.819000000003,0]
[40987,"21-01827",-204674.37700000001,-69300.695999999996,0]
[40986,"21-01828",-204675.57199999999,-69284.209000000003,0]
[40985,"21-01829",-204676.87599999999,-69278.120999999999,0]
[40984,"21-01830",-204683.049,-69278.191999999995,0]
[40983,"21-01831",-204693.34299999999,-69273.767000000007,0]
[40982,"21-01870",-204695.299,-69271.767999999996,0]
[40981,"21-06001",-204695.90299999999,-69270.869000000006,0]
[40980,"21-01832",-204691.462,-69266.695000000007,0]
[40979,"21-01833",-204706.011,-69251.184999999998,0]
[40978,"21-01834",-204712.89,-69250.881999999998,0]
[40977,"21-01835",-204714.152,-69260.032000000007,0]
[40976,"21-01836",-204717.04199999999,-69263.822,0]
[40975,"21-01837",-204717.133,-69277.400999999998,0]
[40974,"21-06777",-204716.94,-69282.239000000001,0]
[40973,"21-06778",-204732.41200000001,-69284.369000000006,0]
[40972,"21-02054",-204736.68400000001,-69284.467999999993,0]
[40971,"21-02055",-204740.76699999999,-69277.778000000006,0]
[40970,"21-02056",-204741.16200000001,-69270.019,0]
[40969,"21-01838",-204746.16399999999,-69265.436000000002,0]
[40968,"21-02053",-204750.23300000001,-69265.290999999997,0]
[40967,"21-01839",-204757.185,-69270.273000000001,0]
[40966,"21-01840",-204753.49299999999,-69280.979000000007,0]
[40965,"21-01841",-204753.171,-69286.804000000004,0]
[40964,"21-01842",-204754.42499999999,-69290.967000000004,0]
[40963,"21-02052",-204760.38200000001,-69301.638999999996,0]
[40962,"21-02051",-204761.97700000001,-69302.968999999997,0]
[40961,"21-02050",-204763.82800000001,-69303.437000000005,0]
[40960,"21-02049",-204765.94899999999,-69303.38,0]
[40959,"21-02048",-204767.23499999999,-69303.231,0]
[40958,"21-02047",-204772.307,-69302.758000000002,0]
[40957,"21-02046",-204777.80499999999,-69303.358999999997,0]
[40956,"21-01843",-204781.891,-69302.679000000004,0]
[40955,"21-01845",-204787.66699999999,-69302.968999999997,0]
[40954,"21-01846",-204793.329,-69302.735000000001,0]
[40953,"21-01847",-204795.929,-69302.217999999993,0]
[40952,"21-01769",-204799.44,-69311.611999999994,0]
[40951,"21-01770",-204798.33900000001,-69316.356,0]
[40950,"21-01774",-204800.38399999999,-69318.274000000005,0]
[40949,"21-01772",-204778.48300000001,-69331.850000000006,0]
[40948,"21-01773",-204779.72500000001,-69344.679000000004,0]
[40947,"21-01775",-204769.58900000001,-69351.726999999999,0]
[40946,"21-01776",-204767.07500000001,-69355.096999999994,0]
[40945,"21-01777",-204769.76699999999,-69379.341,0]
[40944,"21-01778",-204773.43400000001,-69392.914999999994,0]
[40943,"21-01673",-204768.549,-69396.366999999998,0]
[40942,"21-01615",-204765.08499999999,-69398.907999999996,0]
[40941,"21-01614",-204750.908,-69408.982000000004,0]
[40940,"21-01610",-204727.23499999999,-69408.004000000001,0]
[40939,"21-01609",-204723.18599999999,-69395.879000000001,0]
[40938,"21-01608",-204721.12599999999,-69390.245999999999,0]
[40937,"21-01607",-204719.802,-69383.887000000002,0]
[40936,"21-01606",-204710.158,-69361.629000000001,0]
[40935,"21-01605",-204705.59400000001,-69354.402000000002,0]
[40934,"21-01604",-204700.24400000001,-69355.627999999997,0]
[40933,"21-01603",-204696.179,-69353.963000000003,0]
[40932,"21-01602",-204695.88,-69350.813999999998,0]
[40931,"21-01601",-204694.17499999999,-69350.305999999997,0]
[40930,"21-01749",-204692.54500000001,-69352.612999999998,0]
[40929,"21-01750",-204689.766,-69356.482000000004,0]
[40928,"21-01751",-204687.27100000001,-69361.644,0]
[40927,"21-01752",-204685.86600000001,-69364.543999999994,0]
[40926,"21-01753",-204685.72200000001,-69366.570999999996,0]
[40925,"21-01754",-204686.024,-69369.895999999993,0]
[40924,"21-01755",-204685.29800000001,-69373.210999999996,0]
[40923,"21-01756",-204683.147,-69378.535000000003,0]
[40922,"21-01757",-204674.82399999999,-69376.112999999998,0]
[40921,"21-01758",-204672.038,-69375.967000000004,0]
[40920,"21-01759",-204662.20600000001,-69380.316000000006,0]
[40919,"21-01760",-204658.74799999999,-69383.09,0]
[40918,"21-01761",-204654.31,-69391.498000000007,0]
[40917,"21-01762",-204651.269,-69390.879000000001,0]
[40916,"21-01764",-204648.462,-69396.614000000001,0]
[40915,"21-01765",-204645.88200000001,-69408.221999999994,0]
[40914,"21-01766",-204642.81400000001,-69420.172999999995,0]
[40913,"21-01767",-204639.177,-69422.986000000004,0]
[40912,"21-01768",-204636.69099999999,-69430.191000000006,0]
[40911,"21-01801",-204633.95499999999,-69435.807000000001,0]
[40910,"21-01802",-204633.72700000001,-69439.403000000006,0]
[40909,"21-01283",-204636.36,-69449.862999999998,0]
[40908,"21-01282",-204625.95699999999,-69456.25,0]
[40907,"21-01281",-204613.163,-69459.308999999994,0]
[40906,"21-01271",-204613.78,-69466.89,0]
[40905,"21-01269",-204614.10800000001,-69469.828999999998,0]
[40904,"21-01270",-204614.25899999999,-69471.372000000003,0]
[40903,"21-01309",-204614.57800000001,-69473.476999999999,0]
[40902,"21-01310",-204614.67800000001,-69476.180999999997,0]
[40901,"21-01311",-204614.61499999999,-69478.376999999993,0]
[40900,"21-01312",-204614.283,-69482.308000000005,0]
[40899,"21-01313",-204613.53200000001,-69486.187000000005,0]
[40898,"21-01314",-204612.50399999999,-69489.790999999997,0]
[40897,"21-01317",-204613.13500000001,-69489.955000000002,0]
[40896,"21-01315",-204612.24900000001,-69491.866999999998,0]
[40895,"21-01316",-204612.28700000001,-69493.540999999997,0]
[40894,"21-01471",-204609.68599999999,-69495.239000000001,0]
[40893,"21-01458",-204608.55,-69498.911999999997,0]
[40892,"21-01457",-204607.98499999999,-69504.922000000006,0]
[40891,"21-01456",-204608.011,-69507.709000000003,0]
[40890,"21-01455",-204608.16,-69511.913,0]
[40889,"21-01441",-204608.046,-69521.873000000007,0]
[40888,"21-01448",-204607.95699999999,-69530.801999999996,0]
[40887,"21-01449",-204608.72500000001,-69545.966,0]
[40886,"21-02084",-204608.62100000001,-69547.38,0]
[40885,"21-01016",-204608.337,-69551.803,0]
[40884,"21-01017",-204608.079,-69563.347999999998,0]
[40883,"21-01018",-204607.886,-69569.678,0]
[40882,"21-01433",-204608.21900000001,-69583.259000000005,0]
[40881,"21-01434",-204608.10800000001,-69588.618000000002,0]
[40880,"21-01435",-204607.93299999999,-69592.91,0]
[40879,"21-01436",-204607.13200000001,-69600.505999999994,0]
[40878,"21-06203",-204603.43700000001,-69606.34,0]
[40877,"21-06249",-204601.08600000001,-69609.159,0]
[40876,"21-06204",-204597.323,-69613.820999999996,0]
[40875,"21-06205",-204593.38099999999,-69618.384999999995,0]
[40874,"21-06206",-204588.65599999999,-69623.803,0]
[40873,"21-06207",-204586.75200000001,-69626.153000000006,0]
[40872,"21-06208",-204584.959,-69628.570000000007,0]
[40871,"21-06209",-204583.56299999999,-69631.097999999998,0]
[40870,"21-06210",-204582.236,-69633.816999999995,0]
[40869,"21-06211",-204581.21599999999,-69636.653999999995,0]
[40868,"21-06212",-204580.747,-69639.027000000002,0]
[40867,"21-06213",-204579.788,-69643.481,0]
[40866,"21-06214",-204578.10699999999,-69647.995999999999,0]
[40865,"21-06215",-204573.78,-69657.445999999996,0]
[40864,"21-06216",-204570.916,-69664.457999999999,0]
[40863,"21-06217",-204569.35699999999,-69668.312999999995,0]
[40862,"21-06218",-204568.31899999999,-69671.135999999999,0]
[40861,"21-06219",-204567.45600000001,-69674.019,0]
[40860,"21-06220",-204565.489,-69682.816999999995,0]
[40859,"21-06221",-204565.03899999999,-69685.797999999995,0]
[40858,"21-06222",-204564.837,-69688.743000000002,0]
[40857,"21-06223",-204564.549,-69694.754000000001,0]
[40856,"21-06224",-204564.86900000001,-69697.745999999999,0]
[40855,"21-06225",-204565.68799999999,-69700.644,0]
[40854,"21-06226",-204566.42199999999,-69701.842999999993,0]
[40853,"21-06227",-204570.24100000001,-69706.694000000003,0]
[40852,"21-06228",-204573.86499999999,-69710.25,0]
[40851,"21-06229",-204580.00700000001,-69714.608999999997,0]
[40850,"21-06230",-204587.37700000001,-69719.801000000007,0]
[40849,"21-06231",-204597.12299999999,-69726.673999999999,0]
[40848,"21-06232",-204599.30799999999,-69728.539999999994,0]
[40847,"21-06233",-204601.095,-69730.725000000006,0]
[40846,"21-06234",-204602.39799999999,-69733.168999999994,0]
[40845,"21-06235",-204603.33300000001,-69736.031000000003,0]
[40844,"21-06236",-204608.26300000001,-69753.353000000003,0]
[40843,"21-06237",-204608.97200000001,-69756.263999999996,0]
[40842,"21-06238",-204609.24600000001,-69758.471999999994,0]
[40841,"21-06239",-204609.20800000001,-69760.332999999999,0]
[40840,"21-06240",-204609.04199999999,-69761.703999999998,0]
[40839,"21-06241",-204608.56200000001,-69763.209000000003,0]
[40838,"21-06242",-204607.747,-69764.941999999995,0]
[40837,"21-06243",-204606.79800000001,-69766.466,0]
[40836,"21-06244",-204605.86799999999,-69767.705000000002,0]
[40835,"21-06245",-204604.109,-69769.634999999995,0]
[40834,"21-06246",-204601.978,-69771.785999999993,0]
[40833,"21-06247",-204600.01,-69774.039999999994,0]
[40832,"21-06248",-204598.875,-69776.232000000004,0]
[40831,"21-01733",-204601.21100000001,-69777.404999999999,0]
[40830,"21-00939",-204635.31099999999,-69781.845000000001,0]
[40829,"21-00940",-204634.09299999999,-69796.509999999995,0]
[40828,"21-00941",-204633.05300000001,-69811.032999999996,0]
[40827,"21-00942",-204639.90700000001,-69811.880999999994,0]
[40826,"21-00943",-204649.53,-69819.603000000003,0]
[40825,"21-00950",-204655.58799999999,-69827.153999999995,0]
[40824,"21-00944",-204669.69399999999,-69824.698000000004,0]
[40823,"21-00945",-204678.05600000001,-69823.773000000001,0]
[40822,"21-01734",-204681.288,-69832.660999999993,0]
[40821,"21-00946",-204674.30300000001,-69835.281000000003,0]
[40820,"21-00947",-204668.35699999999,-69841.168000000005,0]
[40819,"21-00948",-204665.47500000001,-69848.394,0]
[40818,"21-00949",-204662.82800000001,-69855.801000000007,0]
[40817,"21-01735",-204668.71299999999,-69855.641000000003,0]
[40816,"21-01736",-204671.96799999999,-69852.421000000002,0]
[40815,"21-01737",-204675.15700000001,-69849.672000000006,0]
[40814,"21-01738",-204679.30900000001,-69852.59,0]
[40813,"21-01739",-204683.88800000001,-69849.846999999994,0]
[40812,"21-05151",-204687.133,-69857.285000000003,0]
[40811,"21-05152",-204689.891,-69860.471000000005,0]
[40810,"21-05153",-204692.39199999999,-69862.873999999996,0]
[40809,"21-05154",-204699.209,-69864.285000000003,0]
[40808,"21-05155",-204706.04,-69864.944000000003,0]
[40807,"21-05156",-204703.696,-69887.869000000006,0]
[40806,"21-05136",-204695.73800000001,-69888.451000000001,0]
[40805,"21-05135",-204690.81,-69894.262000000002,0]
[40804,"21-05134",-204686.61,-69896.842000000004,0]
[40803,"21-05133",-204678.139,-69897.028000000006,0]
[40802,"21-05132",-204670.236,-69895.698000000004,0]
[40801,"21-05131",-204665.095,-69894.717000000004,0]
[40800,"21-05130",-204665.432,-69898.214999999997,0]
[40799,"21-05129",-204669.39199999999,-69915.983999999997,0]
[40798,"21-05128",-204663.45499999999,-69924.001999999993,0]
[40797,"21-05127",-204661.82699999999,-69926.339000000007,0]
[40796,"21-05126",-204660.481,-69927.7,0]
[40795,"21-05175",-204656.342,-69927.148000000001,0]
[40794,"21-05176",-204652.94200000001,-69930.024999999994,0]
[40793,"21-05157",-204649.826,-69935.797999999995,0]
[40792,"21-05158",-204648.72399999999,-69944.827000000005,0]
[40791,"21-05159",-204650.83300000001,-69971.210000000006,0]
[40790,"21-05179",-204646.94099999999,-69971.904999999999,0]
[40789,"21-05160",-204645.65400000001,-69971.239000000001,0]
[40788,"21-05161",-204637.56,-69973.278999999995,0]
[40787,"21-05162",-204634.96,-69974.463000000003,0]
[40786,"21-05163",-204635.37100000001,-69976.409,0]
[40785,"21-05164",-204634.88399999999,-69976.539999999994,0]
[40784,"21-05165",-204634.92,-69976.752999999997,0]
[40783,"21-05123",-204625.829,-69978.475000000006,0]
[40782,"21-05124",-204626.82399999999,-69993.296000000002,0]
[40781,"21-05125",-204627.68599999999,-69999.501999999993,0]
[40780,"21-05166",-204627.33799999999,-70002.543000000005,0]
[40779,"21-05167",-204628.821,-70005.826000000001,0]
[40778,"21-05168",-204629.05799999999,-70008.569000000003,0]
[40777,"21-05169",-204629.20300000001,-70010.25,0]
[40776,"21-05170",-204630.88200000001,-70009.34,0]
[40775,"21-05171",-204634.44399999999,-70014.892000000007,0]
[40774,"21-05172",-204636.40700000001,-70014.728000000003,0]
[40773,"21-05173",-204638.64799999999,-70018.460000000006,0]
[40772,"21-05174",-204636.86900000001,-70021.307000000001,0]
[40771,"21-06561",-204644.26300000001,-70017.775999999998,0]
[40770,"21-05418",-204656.74,-70009.576000000001,0]
[40769,"21-05417",-204666.046,-70019.997000000003,0]
[40768,"21-05416",-204668.17199999999,-70029.554000000004,0]
[40767,"21-05415",-204671.73699999999,-70040.188999999998,0]
[40766,"21-05414",-204673.51699999999,-70055.133000000002,0]
[40765,"21-05413",-204685.04800000001,-70056.820999999996,0]
[40764,"21-05412",-204690.76199999999,-70052.258000000002,0]
[40763,"21-05435",-204691.37,-70056.820000000007,0]
[40762,"21-05434",-204701.16,-70048.629000000001,0]
[40761,"21-05433",-204710.92199999999,-70046.400999999998,0]
[40760,"21-05432",-204713.84899999999,-70044.589000000007,0]
[40759,"21-05900",-204715.834,-70043.411999999997,0]
[40758,"21-05899",-204719.38399999999,-70042.399000000005,0]
[40757,"21-05898",-204725.149,-70041.716,0]
[40756,"21-05897",-204739.06200000001,-70038.793000000005,0]
[41192,"21-05407",-204742.49799999999,-70050.119000000006,0]
[41193,"21-05408",-204747.459,-70049.012000000002,0]
[41194,"21-05409",-204755.47500000001,-70045.691999999995,0]
[41195,"21-05410",-204764.174,-70043.45,0]
[41196,"21-05882",-204764.897,-70051.244999999995,0]
[41197,"21-05883",-204761.66,-70058.025999999998,0]
[41198,"21-05884",-204758.71599999999,-70062.634000000005,0]
[41199,"21-05885",-204753.90400000001,-70066.803,0]
[41200,"21-05886",-204752.198,-70067.770999999993,0]
[41191,"21-05406",-204749.09599999999,-70068.732999999993,0]
[40755,"21-05896",-204747.60399999999,-70036.854999999996,0]
[40754,"21-05895",-204750.05100000001,-70035.017999999996,0]
[40753,"21-05894",-204751.22700000001,-70032.713000000003,0]
[40752,"21-05893",-204757.764,-70032.240999999995,0]
[40751,"21-05892",-204761.859,-70033.288,0]
[40750,"21-05891",-204765.30799999999,-70031.921000000002,0]
[40749,"21-05890",-204775.69899999999,-70025.218999999997,0]
[40748,"21-05889",-204780.802,-70026.758000000002,0]
[40747,"21-05888",-204788.88,-70024.942999999999,0]
[40746,"21-06826",-204782.68,-70012.91,0]
[40745,"21-05252",-204797.05900000001,-70007.425000000003,0]
[40744,"21-05253",-204799.24400000001,-70010.354999999996,0]
[40743,"21-05887",-204803.45199999999,-70017.69,0]
[40742,"21-06825",-204808.049,-70023.373999999996,0]
[40741,"21-06824",-204809.07699999999,-70023.997000000003,0]
[40740,"21-06823",-204803.33,-70027.495999999999,0]
[40739,"21-06822",-204798.829,-70029.315000000002,0]
[40738,"21-06821",-204788.106,-70034.543999999994,0]
[40737,"21-06820",-204794.81700000001,-70032.875,0]
[40736,"21-06819",-204801.46299999999,-70030.100000000006,0]
[40735,"21-06816",-204810.80600000001,-70026.069000000003,0]
[40734,"21-06817",-204812.769,-70025.082999999999,0]
[40733,"21-06818",-204818.20300000001,-70022.737999999998,0]
[40732,"21-04883",-204819.24799999999,-70021.482000000004,0]
[40731,"21-05351",-204818.50700000001,-70025.415999999997,0]
[40730,"21-05350",-204817.28899999999,-70026.562000000005,0]
[40729,"21-05002",-204823.372,-70028.55,0]
[40728,"21-05349",-204826.75,-70029.895999999993,0]
[40727,"21-05348",-204829.65900000001,-70029.399999999994,0]
[40726,"21-05347",-204832.448,-70027.955000000002,0]
[40725,"21-05346",-204835.16399999999,-70027.293999999994,0]
[40724,"21-05345",-204840.23300000001,-70026.343999999997,0]
[40723,"21-05344",-204842.42499999999,-70020.926999999996,0]
[40722,"21-05343",-204843.033,-70019.926999999996,0]
[40721,"21-05342",-204844.783,-70018.023000000001,0]
[40720,"21-04907",-204847.43400000001,-70014.898000000001,0]
[40719,"21-04906",-204850.33600000001,-70012.214999999997,0]
[40718,"21-04905",-204854.33499999999,-70009.846000000005,0]
[40717,"21-04904",-204858.26199999999,-70010.23,0]
[40716,"21-05353K",-204861.38099999999,-70010.176000000007,0]
[40715,"21-05354K",-204862.54399999999,-70009.911999999997,0]
[40714,"21-05354K2",-204865.31299999999,-70009.248999999996,0]
[40713,"21-05493",-204862.68700000001,-70012.701000000001,0]
[40712,"21-05490",-204857.91899999999,-70018.995999999999,0]
[40711,"21-05488",-204855.361,-70021.315000000002,0]
[40710,"21-05487",-204856.13699999999,-70022.092999999993,0]
[40709,"21-05214",-204858.09899999999,-70022.596999999994,0]
[40708,"21-05217",-204865.02299999999,-70023.740000000005,0]
[40707,"21-05220",-204868.095,-70024.581999999995,0]
[40706,"21-04425",-204870.508,-70027.317999999999,0]
[40705,"21-04422",-204874.65,-70032.422000000006,0]
[40704,"21-04421",-204869.93,-70037.179000000004,0]
[40703,"21-04420",-204862.337,-70042.684999999998,0]
[40702,"21-04419",-204855.68900000001,-70051.709000000003,0]
[40701,"21-04418",-204848.14799999999,-70060.494999999995,0]
[40700,"21-04417",-204842.32699999999,-70066.505000000005,0]
[40699,"21-05017",-204836.24100000001,-70068.062000000005,0]
[40698,"21-05016",-204831.60500000001,-70074.75,0]
[40697,"21-05014",-204826.89199999999,-70077.066000000006,0]
[40696,"21-05015",-204826.70300000001,-70075.645000000004,0]
[40695,"21-05013",-204822.57699999999,-70075.895000000004,0]
[40694,"21-05012",-204820.64499999999,-70076.058999999994,0]
[40693,"21-05011",-204816.217,-70078.066000000006,0]
[40692,"21-05003",-204821.837,-70082.509000000005,0]
[40691,"21-05004",-204825.967,-70092.070999999996,0]
[40690,"21-04476",-204814.76,-70102.770999999993,0]
[40689,"21-05010",-204802.402,-70091.544999999998,0]
[40688,"21-05009",-204800.51300000001,-70092.683999999994,0]
[40687,"21-05008",-204791.86,-70098.294999999998,0]
[40686,"21-05007",-204789.997,-70099.722999999998,0]
[40685,"21-05006",-204788.785,-70100.714999999997,0]
[40684,"21-05005",-204784.18700000001,-70103.180999999997,0]
[40683,"21-04477",-204772.1,-70104.535000000003,0]
[40682,"21-04478",-204769.70300000001,-70106.028000000006,0]
[40681,"21-04946",-204766.495,-70107.872000000003,0]
[40680,"21-04945",-204767.57800000001,-70110.597999999998,0]
[40679,"21-04944",-204763.75399999999,-70112.434999999998,0]
[40678,"21-04943",-204761.568,-70115.604999999996,0]
[40677,"21-04941",-204756.63099999999,-70119.347999999998,0]
[40676,"21-04942",-204757.96299999999,-70121.207999999999,0]
[40675,"21-04932",-204751.85,-70134.145000000004,0]
[40674,"21-04933",-204749.10699999999,-70135.212,0]
[40673,"21-04935",-204749.788,-70136.379000000001,0]
[40672,"21-04934",-204750.33100000001,-70138.513999999996,0]
[40671,"21-04950",-204751.89499999999,-70138.888000000006,0]
[40670,"21-04951",-204752.658,-70140.23,0]
[40669,"21-04952",-204757.845,-70143.637000000002,0]
[40668,"21-04953",-204759.27600000001,-70144.817999999999,0]
[40667,"21-04954",-204761.40700000001,-70145.225999999995,0]
[40666,"21-04955",-204762.88,-70146.326000000001,0]
[40665,"21-04956",-204765.299,-70148.600999999995,0]
[40664,"21-04957",-204766.68,-70149.962,0]
[40663,"21-04958",-204767.65100000001,-70149.168000000005,0]
[40662,"21-05211",-204771.63500000001,-70150.197,0]
[40661,"21-05210",-204780.64,-70158.793000000005,0]
[40660,"21-05209",-204790.91699999999,-70168.895000000004,0]
[40659,"21-05208",-204805.12400000001,-70180.209000000003,0]
[40658,"21-05207",-204816.55799999999,-70189.149999999994,0]
[40657,"21-05206",-204820.86900000001,-70193.115999999995,0]
[40656,"21-05205",-204826.13399999999,-70197.664999999994,0]
[40655,"21-05204",-204831.986,-70196.842999999993,0]
[40654,"21-05203",-204838.15299999999,-70199.042000000001,0]
[40653,"21-04908",-204842.88500000001,-70203.209000000003,0]
[40652,"21-04970",-204852.29500000001,-70224.096999999994,0]
[40651,"21-04969",-204857.88500000001,-70233.974000000002,0]
[40650,"21-04968",-204848.33,-70235.718999999997,0]
[40633,"21-04967",-204840.92,-70233.778999999995,0]
[40634,"21-04987",-204837.97899999999,-70243.539999999994,0]
[40649,"21-04986",-204862.13099999999,-70246.903000000006,0]
[40648,"21-04971",-204877.26300000001,-70253.013999999996,0]
[40647,"21-04972",-204886.08300000001,-70257.266000000003,0]
[40646,"21-04973",-204885.34299999999,-70263.043999999994,0]
[40645,"21-04560",-204882.2,-70274.785999999993,0]
[40644,"21-04998",-204867.04,-70271.706999999995,0]
[40643,"21-04997",-204857.31299999999,-70275.622000000003,0]
[40642,"21-04996",-204849.639,-70283.653999999995,0]
[40641,"21-04995",-204841.78599999999,-70287.709000000003,0]
[40640,"21-04994",-204835.361,-70289.103000000003,0]
[40639,"21-04993",-204827.57699999999,-70287.872000000003,0]
[40638,"21-04992",-204820.609,-70281.502999999997,0]
[40637,"21-04991",-204824.71799999999,-70271.903000000006,0]
[40636,"21-04990",-204831.04199999999,-70257.195999999996,0]
[40635,"21-04989",-204833.61900000001,-70249.311000000002,0]
[40632,"21-04966",-204830.514,-70231.866999999998,0]
[40631,"21-04988",-204827.71299999999,-70230.911999999997,0]
[40630,"21-04999",-204823.45499999999,-70226.967999999993,0]
[40629,"21-05000",-204820.67300000001,-70222.672999999995,0]
[40628,"21-05201",-204817.08900000001,-70220.433000000005,0]
[40627,"21-05202",-204792.21900000001,-70199.989000000001,0]
[40626,"21-05366",-204782.9,-70202.922999999995,0]
[40625,"21-05367",-204770.17300000001,-70199.547000000006,0]
[40624,"21-05368",-204759.94200000001,-70192.120999999999,0]
[40623,"21-05369",-204754.50599999999,-70189.551000000007,0]
[40622,"21-05370",-204750.242,-70188.221000000005,0]
[40621,"21-05371",-204745.12599999999,-70188.270999999993,0]
[40620,"21-05372",-204733.68599999999,-70191.398000000001,0]
[40619,"21-05373",-204725.90299999999,-70189.781000000003,0]
[40618,"21-05374",-204718.12299999999,-70186.527000000002,0]
[40617,"21-04949",-204713.535,-70186.513999999996,0]
[40616,"21-05375",-204705.557,-70186.433000000005,0]
[40615,"21-04632",-204701.43599999999,-70186.817999999999,0]
[40614,"21-04633",-204694.046,-70179.452999999994,0]
[40613,"21-04634",-204689.05300000001,-70177.104000000007,0]
[40612,"21-04650",-204683.74900000001,-70174.998000000007,0]
[40611,"21-04649K",-204675.13099999999,-70168.058000000005,0]
[40610,"21-04648K",-204672.92499999999,-70171.129000000001,0]
[40609,"21-04647K",-204672.37299999999,-70173.096000000005,0]
[40608,"21-04644",-204672.035,-70177.748999999996,0]
[40607,"21-04643",-204674.6,-70192.653000000006,0]
[40606,"21-04642",-204675.209,-70203.213000000003,0]
[40605,"21-04641",-204671.13800000001,-70222.270999999993,0]
[40604,"21-04640",-204668.93100000001,-70241.320000000007,0]
[40603,"21-04614",-204667.60399999999,-70246.854000000007,0]
[40602,"21-04615",-204682.71900000001,-70250.482999999993,0]
[40601,"21-04616",-204694.49900000001,-70252.22,0]
[40600,"21-04617",-204701.17199999999,-70247.903000000006,0]
[40599,"21-04618",-204710.98199999999,-70241.37,0]
[40598,"21-04619",-204720.31,-70230.429000000004,0]
[40597,"21-04629",-204723.258,-70214.741999999998,0]
[40596,"21-04628",-204734.32800000001,-70221.888999999996,0]
[40595,"21-04627",-204742.86,-70222.304999999993,0]
[40594,"21-04626",-204763.152,-70234.370999999999,0]
[40593,"21-04625",-204780.25899999999,-70249.911999999997,0]
[40592,"21-04654",-204778.774,-70265.428,0]
[40591,"21-04653",-204765.818,-70282.205000000002,0]
[40590,"21-04291",-204759.92600000001,-70291.077999999994,0]
[40589,"21-04289",-204747.53599999999,-70290.422999999995,0]
[40588,"21-04287",-204735.628,-70290.410999999993,0]
[40587,"21-04285",-204725.99400000001,-70290.296000000002,0]
[40586,"21-04283",-204717.17600000001,-70290.92,0]
[40585,"21-04281",-204700.291,-70287.288,0]
[40584,"21-04280",-204688.58300000001,-70286.759000000005,0]
[40583,"21-04277",-204683.03400000001,-70287.745999999999,0]
[40582,"21-04275",-204676.91500000001,-70286.686000000002,0]
[40581,"21-04272",-204670.00200000001,-70284.834000000003,0]
[40580,"21-04271",-204663.992,-70283.724000000002,0]
[40579,"21-04270",-204657.74299999999,-70282.335999999996,0]
[40578,"21-04416",-204656.87899999999,-70281.987999999998,0]
[40577,"21-06609",-204650.27499999999,-70297.262000000002,0]
[40576,"21-04218",-204651.04,-70297.782999999996,0]
[40575,"21-04219",-204654.46799999999,-70298.896999999997,0]
[40574,"21-04222",-204663.06200000001,-70300.641000000003,0]
[40573,"21-04224",-204675.80900000001,-70301.650999999998,0]
[40572,"21-04226",-204683.59899999999,-70300.646999999997,0]
[40571,"21-04651",-204693.45800000001,-70298.255000000005,0]
[40570,"21-04638",-204700.73699999999,-70320.528000000006,0]
[35001,"A1-7",-204683.22399999999,-70762.888999999996,23.899000000000001]
[35002,"A1-8",-204702.50200000001,-70123.403000000006,29.105]
[35003,"B1-7",-204561.86,-69703.293000000005,33.561999999999998]
[35004,"B1-8",-204663.05600000001,-69318.354000000007,47.485999999999997]
[35005,"B1-9",-204663.18400000001,-69022.986000000004,44.564]
[35006,"B1-10",-204778.019,-69715.392000000007,55.323999999999998]
[35007,"B1-11",-204947.81099999999,-69690.228000000003,50.762999999999998]
[35008,"K1-15",-205114.42300000001,-69991.869000000006,125.839]
[35009,"K1-16",-205042.89600000001,-69295.616999999998,107.416]
[35010,"K1-5",-205460,-69161.982999999993,173.07499999999999]
[35011,"Ⅳ山田",-204877.50099999999,-70493.073000000004,101.21]
[35012,"Ⅳ横田",-205812.64799999999,-69716.986000000004,297.77]
[49001,"W-43",-205506.462,-68965.229000000007,0]
[49002,"W-41",-205564.929,-69004.566999999995,0]
[49003,"W-40",-205560.99900000001,-68985.684999999998,0]
[49004,"W-39",-205560.128,-68972.956000000006,0]
[49005,"W-30",-205567.389,-68944.634999999995,0]
[49006,"W-29",-205566.682,-68938.694000000003,0]
[49007,"W-X18",-205563.299,-68931.221000000005,0]
[49008,"PR2350",-205559.21100000001,-68932.034,0]
[49009,"W-PR22",-205555.48800000001,-68930.369000000006,0]
[49010,"W-PR21",-205552.16099999999,-68928.87,0]
[49011,"W-C168",-205545.94399999999,-68923.554999999993,0]
[49012,"W-G02",-205523.799,-68929.842000000004,0]
[49013,"W-K03",-205519.66899999999,-68940.214999999997,0]
[49014,"W-K02",-205514.549,-68951.941999999995,0]
[49015,"W-K01",-205509.15100000001,-68961.456000000006,0]
[49016,"W-R195-1",-205565.58300000001,-68930.767000000007,0]
[49017,"W-X19",-205567.41500000001,-68928.952000000005,0]

{"sheet":"Z01","index":1,"n_rows":22,"n_cols":21,"rows_kept":22,"cut":false,"hidden":false,"merged":[]}
["コメント","フォーマット","バージョン","タイトル","測地系","座標系","出力ファイル"]
["成果",1,"02.00","基準点測量測量","0","6","KJAA2001.TXT"]
[null,null,null,null,null,null,null,null,null,null,null,null,null,null,null,null,null,null,null,null,"0"]
["自由な文字","1　基準点","02.00の固定","自由な文字","０：世界測地系","平面直角座標","通常　",null,null,null,null,null,null,null,null,null,null,null,null,null,"1"]
[null,"２　簡易網",null,null,"１：日本測地系　",null,"KJAA2001.TXT",null,null,null,null,null,null,null,null,null,null,null,null,null,"2"]
[null,null,null,null,"０に固定",null,"KJAA2002.TXT",null,null,null,null,null,null,null,null,null,null,null,null,null,"3"]
[null,null,null,null,null,null,"KJAA2003.TXT",null,null,null,null,null,null,null,null,null,null,null,null,null,"4"]
[null,null,null,null,null,null,"の順です",null,null,null,null,null,null,null,null,null,null,null,null,null,"5"]
["省略不可","省略不可","省略不可","省略可","省略不可","省略不可",null,null,null,null,null,null,null,null,null,null,null,null,null,null,"6"]
[null,null,null,null,null,null,null,null,null,null,null,null,null,null,null,null,null,null,null,null,"7"]
[null,null,null,null,null,null,null,null,null,null,null,null,null,null,null,null,null,null,null,null,"8"]
[null,null,null,null,null,null,null,null,null,null,null,null,null,null,null,null,null,null,null,null,"9"]
[null,null,null,null,null,null,null,null,null,null,null,null,null,null,null,null,null,null,null,null,"10"]
[null,null,null,null,null,null,null,null,null,null,null,null,null,null,null,null,null,null,null,null,"11"]
[null,null,null,null,null,null,null,null,null,null,null,null,null,null,null,null,null,null,null,null,"12"]
[null,null,null,null,null,null,null,null,null,null,null,null,null,null,null,null,null,null,null,null,"13"]
[null,null,null,null,null,null,null,null,null,null,null,null,null,null,null,null,null,null,null,null,"14"]
[null,null,null,null,null,null,null,null,null,null,null,null,null,null,null,null,null,null,null,null,"15"]
[null,null,null,null,null,null,null,null,null,null,null,null,null,null,null,null,null,null,null,null,"16"]
[null,null,null,null,null,null,null,null,null,null,null,null,null,null,null,null,null,null,null,null,"17"]
[null,null,null,null,null,null,null,null,null,null,null,null,null,null,null,null,null,null,null,null,"18"]
[null,null,null,null,null,null,null,null,null,null,null,null,null,null,null,null,null,null,null,null,"19"]

{"sheet":"A01A02","index":2,"n_rows":10,"n_cols":22,"rows_kept":10,"cut":false,"hidden":false,"merged":[]}
["座標系","6",null,null,null,null,null,null,null,"ジオイドモデル＝",null,"G:\\exl_data\\gsigeo2011_ver2_1.asc"]
["点番号","点名称","緯度","経度","X","Y","系","標高","ジオイド高","等級","縮尺係数","真北方向角","柱石長","形式","標識","番号","Ant高","楕円体高",null,null,10,0]
[1,null,34.084322610000001,135.17339876,-205513,-65219.5,"6",241.45699999999999,38.673366684132667,null,0.99995199999999995,0.23491000000000001,null,null,null,null,null,280.13036668413264,null,null,11,1]
[null,null,null,null,null,null,null,null,null,null,null,null,null,null,null,null,null,null,null,null,12,2]
[null,null,null,null,null,null,null,null,null,null,null,null,null,null,null,null,null,null,null,null,13]
[null,null,null,null,null,null,null,null,null,null,null,null,null,null,null,null,null,null,null,null,14]
[null,null,null,null,null,null,null,null,null,null,null,null,null,null,null,null,null,null,null,null,21]
[null,null,null,null,null,null,null,null,null,null,null,null,null,null,null,null,null,null,null,null,22]
[null,null,null,null,null,null,null,null,null,null,null,null,null,null,null,null,null,null,null,null,23]
[null,null,null,null,null,null,null,null,null,null,null,null,null,null,null,null,null,null,null,null,24]

{"sheet":"A03A04","index":3,"n_rows":2000,"n_cols":19,"rows_kept":2000,"cut":false,"hidden":false,"merged":[]}
[]
["器械点ID",12345,"番号","名称","x","y","s/s","前視ＩＤ",null,"番号","名称","x","y","s/s","等級","方向角","距離","備考","観測日"]
[null,{"$f":"IF(A3<>\"\",xycall(A3),0)","v":0},{"$f":"IF(B3<>0,znoget(B3),\"\")","v":""},{"$f":"IF(B3<>0,znaget(B3),\"\")","v":""},{"$f":"IF(B3<>0,xget(B3),\"\")","v":""},{"$f":"IF(B3<>0,yget(B3),\"\")","v":""},{"$f":"IF(B3<>0,VLOOKUP(C3,A01A02!$A$3:$K$13,11,FALSE),\"\")","v":""},null,{"$f":"IF(H3<>\"\",xycall(H3),0)","v":0},{"$f":"IF(I3<>0,znoget(I3),\"\")","v":""},{"$f":"IF(I3<>0,znaget(I3),\"\")","v":""},{"$f":"IF(I3<>0,xget(I3),\"\")","v":""},{"$f":"IF(I3<>0,yget(I3),\"\")","v":""},{"$f":"IF(I3<>0,VLOOKUP(J3,A01A02!$A$3:$K$13,11,FALSE),\"\")","v":""},{"$f":"IF(I3<>0,VLOOKUP(J3,A01A02!A:J,10,0),\"\")","v":""}]
[null,0,{"$f":"IF(B4<>0,znoget(B4),\"\")","v":""},{"$f":"IF(B4<>0,znaget(B4),\"\")","v":""},{"$f":"IF(B4<>0,xget(B4),\"\")","v":""},{"$f":"IF(B4<>0,yget(B4),\"\")","v":""},{"$f":"IF(B4<>0,VLOOKUP(C4,A01A02!$A$3:$K$13,11,FALSE),\"\")","v":""},null,{"$f":"IF(H4<>\"\",xycall(H4),0)","v":0},"",{"$f":"IF(I4<>0,znaget(I4),\"\")","v":""},{"$f":"IF(I4<>0,xget(I4),\"\")","v":""},{"$f":"IF(I4<>0,yget(I4),\"\")","v":""},{"$f":"IF(I4<>0,VLOOKUP(J4,A01A02!$A$3:$K$13,11,FALSE),\"\")","v":""},{"$f":"IF(I4<>0,VLOOKUP(J4,A01A02!A:J,10,0),\"\")","v":""}]
[null,{"$f":"IF(A5<>\"\",xycall(A5),0)","v":0},"","","","",{"$f":"IF(B5<>0,VLOOKUP(C5,A01A02!$A$3:$K$13,11,FALSE),\"\")","v":""},null,0,"","","","",{"$f":"IF(I5<>0,VLOOKUP(J5,A01A02!$A$3:$K$13,11,FALSE),\"\")","v":""},{"$f":"IF(I5<>0,VLOOKUP(J5,A01A02!A:J,10,0),\"\")","v":""}]
[null,0,"","","","",{"$f":"IF(B6<>0,VLOOKUP(C6,A01A02!$A$3:$K$13,11,FALSE),\"\")","v":""},null,0,"","","","",{"$f":"IF(I6<>0,VLOOKUP(J6,A01A02!$A$3:$K$13,11,FALSE),\"\")","v":""},{"$f":"IF(I6<>0,VLOOKUP(J6,A01A02!A:J,10,0),\"\")","v":""}]
[null,0,"","","","",{"$f":"IF(B7<>0,VLOOKUP(C7,A01A02!$A$3:$K$13,11,FALSE),\"\")","v":""},null,0,"","","","",{"$f":"IF(I7<>0,VLOOKUP(J7,A01A02!$A$3:$K$13,11,FALSE),\"\")","v":""},{"$f":"IF(I7<>0,VLOOKUP(J7,A01A02!A:J,10,0),\"\")","v":""}]
[null,0,"","","","",{"$f":"IF(B8<>0,VLOOKUP(C8,A01A02!$A$3:$K$13,11,FALSE),\"\")","v":""},null,0,"","","","",{"$f":"IF(I8<>0,VLOOKUP(J8,A01A02!$A$3:$K$13,11,FALSE),\"\")","v":""},{"$f":"IF(I8<>0,VLOOKUP(J8,A01A02!A:J,10,0),\"\")","v":""}]
[null,0,"","","","",{"$f":"IF(B9<>0,VLOOKUP(C9,A01A02!$A$3:$K$13,11,FALSE),\"\")","v":""},null,0,"","","","",{"$f":"IF(I9<>0,VLOOKUP(J9,A01A02!$A$3:$K$13,11,FALSE),\"\")","v":""},{"$f":"IF(I9<>0,VLOOKUP(J9,A01A02!A:J,10,0),\"\")","v":""}]
[null,0,"","","","",{"$f":"IF(B10<>0,VLOOKUP(C10,A01A02!$A$3:$K$13,11,FALSE),\"\")","v":""},null,0,"","","","",{"$f":"IF(I10<>0,VLOOKUP(J10,A01A02!$A$3:$K$13,11,FALSE),\"\")","v":""},{"$f":"IF(I10<>0,VLOOKUP(J10,A01A02!A:J,10,0),\"\")","v":""}]
[null,0,"","","","",{"$f":"IF(B11<>0,VLOOKUP(C11,A01A02!$A$3:$K$13,11,FALSE),\"\")","v":""},null,0,"","","","",{"$f":"IF(I11<>0,VLOOKUP(J11,A01A02!$A$3:$K$13,11,FALSE),\"\")","v":""},{"$f":"IF(I11<>0,VLOOKUP(J11,A01A02!A:J,10,0),\"\")","v":""}]
[null,0,"","","","",{"$f":"IF(B12<>0,VLOOKUP(C12,A01A02!$A$3:$K$13,11,FALSE),\"\")","v":""},null,0,"","","","",{"$f":"IF(I12<>0,VLOOKUP(J12,A01A02!$A$3:$K$13,11,FALSE),\"\")","v":""},{"$f":"IF(I12<>0,VLOOKUP(J12,A01A02!A:J,10,0),\"\")","v":""}]
[null,0,"","","","",{"$f":"IF(B13<>0,VLOOKUP(C13,A01A02!$A$3:$K$13,11,FALSE),\"\")","v":""},null,0,"","","","",{"$f":"IF(I13<>0,VLOOKUP(J13,A01A02!$A$3:$K$13,11,FALSE),\"\")","v":""},{"$f":"IF(I13<>0,VLOOKUP(J13,A01A02!A:J,10,0),\"\")","v":""}]
[null,0,"","","","",{"$f":"IF(B14<>0,VLOOKUP(C14,A01A02!$A$3:$K$13,11,FALSE),\"\")","v":""},null,0,"","","","",{"$f":"IF(I14<>0,VLOOKUP(J14,A01A02!$A$3:$K$13,11,FALSE),\"\")","v":""},{"$f":"IF(I14<>0,VLOOKUP(J14,A01A02!A:J,10,0),\"\")","v":""}]
[null,0,"","","","",{"$f":"IF(B15<>0,VLOOKUP(C15,A01A02!$A$3:$K$13,11,FALSE),\"\")","v":""},null,0,"","","","",{"$f":"IF(I15<>0,VLOOKUP(J15,A01A02!$A$3:$K$13,11,FALSE),\"\")","v":""},{"$f":"IF(I15<>0,VLOOKUP(J15,A01A02!A:J,10,0),\"\")","v":""}]
[null,0,"","","","",{"$f":"IF(B16<>0,VLOOKUP(C16,A01A02!$A$3:$K$13,11,FALSE),\"\")","v":""},null,0,"","","","",{"$f":"IF(I16<>0,VLOOKUP(J16,A01A02!$A$3:$K$13,11,FALSE),\"\")","v":""},{"$f":"IF(I16<>0,VLOOKUP(J16,A01A02!A:J,10,0),\"\")","v":""}]
[null,0,"","","","",{"$f":"IF(B17<>0,VLOOKUP(C17,A01A02!$A$3:$K$13,11,FALSE),\"\")","v":""},null,0,"","","","",{"$f":"IF(I17<>0,VLOOKUP(J17,A01A02!$A$3:$K$13,11,FALSE),\"\")","v":""},{"$f":"IF(I17<>0,VLOOKUP(J17,A01A02!A:J,10,0),\"\")","v":""}]
[null,0,"","","","",{"$f":"IF(B18<>0,VLOOKUP(C18,A01A02!$A$3:$K$13,11,FALSE),\"\")","v":""},null,0,"","","","",{"$f":"IF(I18<>0,VLOOKUP(J18,A01A02!$A$3:$K$13,11,FALSE),\"\")","v":""},{"$f":"IF(I18<>0,VLOOKUP(J18,A01A02!A:J,10,0),\"\")","v":""}]
[null,0,"","","","",{"$f":"IF(B19<>0,VLOOKUP(C19,A01A02!$A$3:$K$13,11,FALSE),\"\")","v":""},null,0,"","","","",{"$f":"IF(I19<>0,VLOOKUP(J19,A01A02!$A$3:$K$13,11,FALSE),\"\")","v":""},{"$f":"IF(I19<>0,VLOOKUP(J19,A01A02!A:J,10,0),\"\")","v":""}]
[null,0,"","","","",{"$f":"IF(B20<>0,VLOOKUP(C20,A01A02!$A$3:$K$13,11,FALSE),\"\")","v":""},null,0,"","","","",{"$f":"IF(I20<>0,VLOOKUP(J20,A01A02!$A$3:$K$13,11,FALSE),\"\")","v":""},{"$f":"IF(I20<>0,VLOOKUP(J20,A01A02!A:J,10,0),\"\")","v":""}]
[null,0,"","","","",{"$f":"IF(B21<>0,VLOOKUP(C21,A01A02!$A$3:$K$13,11,FALSE),\"\")","v":""},null,0,"","","","",{"$f":"IF(I21<>0,VLOOKUP(J21,A01A02!$A$3:$K$13,11,FALSE),\"\")","v":""},{"$f":"IF(I21<>0,VLOOKUP(J21,A01A02!A:J,10,0),\"\")","v":""}]
[null,0,"","","","",{"$f":"IF(B22<>0,VLOOKUP(C22,A01A02!$A$3:$K$13,11,FALSE),\"\")","v":""},null,0,"","","","",{"$f":"IF(I22<>0,VLOOKUP(J22,A01A02!$A$3:$K$13,11,FALSE),\"\")","v":""},{"$f":"IF(I22<>0,VLOOKUP(J22,A01A02!A:J,10,0),\"\")","v":""}]
[null,0,"","","","",{"$f":"IF(B23<>0,VLOOKUP(C23,A01A02!$A$3:$K$13,11,FALSE),\"\")","v":""},null,0,"","","","",{"$f":"IF(I23<>0,VLOOKUP(J23,A01A02!$A$3:$K$13,11,FALSE),\"\")","v":""},{"$f":"IF(I23<>0,VLOOKUP(J23,A01A02!A:J,10,0),\"\")","v":""}]
[null,0,"","","","",{"$f":"IF(B24<>0,VLOOKUP(C24,A01A02!$A$3:$K$13,11,FALSE),\"\")","v":""},null,0,"","","","",{"$f":"IF(I24<>0,VLOOKUP(J24,A01A02!$A$3:$K$13,11,FALSE),\"\")","v":""},{"$f":"IF(I24<>0,VLOOKUP(J24,A01A02!A:J,10,0),\"\")","v":""}]
[null,0,"","","","",{"$f":"IF(B25<>0,VLOOKUP(C25,A01A02!$A$3:$K$13,11,FALSE),\"\")","v":""},null,0,"","","","",{"$f":"IF(I25<>0,VLOOKUP(J25,A01A02!$A$3:$K$13,11,FALSE),\"\")","v":""},{"$f":"IF(I25<>0,VLOOKUP(J25,A01A02!A:J,10,0),\"\")","v":""}]
[null,0,"","","","",{"$f":"IF(B26<>0,VLOOKUP(C26,A01A02!$A$3:$K$13,11,FALSE),\"\")","v":""},null,0,"","","","",{"$f":"IF(I26<>0,VLOOKUP(J26,A01A02!$A$3:$K$13,11,FALSE),\"\")","v":""},{"$f":"IF(I26<>0,VLOOKUP(J26,A01A02!A:J,10,0),\"\")","v":""}]
[null,0,"","","","",{"$f":"IF(B27<>0,VLOOKUP(C27,A01A02!$A$3:$K$13,11,FALSE),\"\")","v":""},null,0,"","","","",{"$f":"IF(I27<>0,VLOOKUP(J27,A01A02!$A$3:$K$13,11,FALSE),\"\")","v":""},{"$f":"IF(I27<>0,VLOOKUP(J27,A01A02!A:J,10,0),\"\")","v":""}]
[null,0,"","","","",{"$f":"IF(B28<>0,VLOOKUP(C28,A01A02!$A$3:$K$13,11,FALSE),\"\")","v":""},null,0,"","","","",{"$f":"IF(I28<>0,VLOOKUP(J28,A01A02!$A$3:$K$13,11,FALSE),\"\")","v":""},{"$f":"IF(I28<>0,VLOOKUP(J28,A01A02!A:J,10,0),\"\")","v":""}]
[null,0,"","","","",{"$f":"IF(B29<>0,VLOOKUP(C29,A01A02!$A$3:$K$13,11,FALSE),\"\")","v":""},null,0,"","","","",{"$f":"IF(I29<>0,VLOOKUP(J29,A01A02!$A$3:$K$13,11,FALSE),\"\")","v":""},{"$f":"IF(I29<>0,VLOOKUP(J29,A01A02!A:J,10,0),\"\")","v":""}]
[null,0,"","","","",{"$f":"IF(B30<>0,VLOOKUP(C30,A01A02!$A$3:$K$13,11,FALSE),\"\")","v":""},null,0,"","","","",{"$f":"IF(I30<>0,VLOOKUP(J30,A01A02!$A$3:$K$13,11,FALSE),\"\")","v":""},{"$f":"IF(I30<>0,VLOOKUP(J30,A01A02!A:J,10,0),\"\")","v":""}]
[null,0,"","","","",{"$f":"IF(B31<>0,VLOOKUP(C31,A01A02!$A$3:$K$13,11,FALSE),\"\")","v":""},null,0,"","","","",{"$f":"IF(I31<>0,VLOOKUP(J31,A01A02!$A$3:$K$13,11,FALSE),\"\")","v":""},{"$f":"IF(I31<>0,VLOOKUP(J31,A01A02!A:J,10,0),\"\")","v":""}]
[null,0,"","","","",{"$f":"IF(B32<>0,VLOOKUP(C32,A01A02!$A$3:$K$13,11,FALSE),\"\")","v":""},null,0,"","","","",{"$f":"IF(I32<>0,VLOOKUP(J32,A01A02!$A$3:$K$13,11,FALSE),\"\")","v":""},{"$f":"IF(I32<>0,VLOOKUP(J32,A01A02!A:J,10,0),\"\")","v":""}]
[null,0,"","","","",{"$f":"IF(B33<>0,VLOOKUP(C33,A01A02!$A$3:$K$13,11,FALSE),\"\")","v":""},null,0,"","","","",{"$f":"IF(I33<>0,VLOOKUP(J33,A01A02!$A$3:$K$13,11,FALSE),\"\")","v":""},{"$f":"IF(I33<>0,VLOOKUP(J33,A01A02!A:J,10,0),\"\")","v":""}]
[null,0,"","","","",{"$f":"IF(B34<>0,VLOOKUP(C34,A01A02!$A$3:$K$13,11,FALSE),\"\")","v":""},null,0,"","","","",{"$f":"IF(I34<>0,VLOOKUP(J34,A01A02!$A$3:$K$13,11,FALSE),\"\")","v":""},{"$f":"IF(I34<>0,VLOOKUP(J34,A01A02!A:J,10,0),\"\")","v":""}]
[null,0,"","","","",{"$f":"IF(B35<>0,VLOOKUP(C35,A01A02!$A$3:$K$13,11,FALSE),\"\")","v":""},null,0,"","","","",{"$f":"IF(I35<>0,VLOOKUP(J35,A01A02!$A$3:$K$13,11,FALSE),\"\")","v":""},{"$f":"IF(I35<>0,VLOOKUP(J35,A01A02!A:J,10,0),\"\")","v":""}]
[null,0,"","","","",{"$f":"IF(B36<>0,VLOOKUP(C36,A01A02!$A$3:$K$13,11,FALSE),\"\")","v":""},null,0,"","","","",{"$f":"IF(I36<>0,VLOOKUP(J36,A01A02!$A$3:$K$13,11,FALSE),\"\")","v":""},{"$f":"IF(I36<>0,VLOOKUP(J36,A01A02!A:J,10,0),\"\")","v":""}]
[null,0,"","","","",{"$f":"IF(B37<>0,VLOOKUP(C37,A01A02!$A$3:$K$13,11,FALSE),\"\")","v":""},null,0,"","","","",{"$f":"IF(I37<>0,VLOOKUP(J37,A01A02!$A$3:$K$13,11,FALSE),\"\")","v":""},{"$f":"IF(I37<>0,VLOOKUP(J37,A01A02!A:J,10,0),\"\")","v":""}]
[null,0,"","","","",{"$f":"IF(B38<>0,VLOOKUP(C38,A01A02!$A$3:$K$13,11,FALSE),\"\")","v":""},null,0,"","","","",{"$f":"IF(I38<>0,VLOOKUP(J38,A01A02!$A$3:$K$13,11,FALSE),\"\")","v":""},{"$f":"IF(I38<>0,VLOOKUP(J38,A01A02!A:J,10,0),\"\")","v":""}]
[null,0,"","","","",{"$f":"IF(B39<>0,VLOOKUP(C39,A01A02!$A$3:$K$13,11,FALSE),\"\")","v":""},null,0,"","","","",{"$f":"IF(I39<>0,VLOOKUP(J39,A01A02!$A$3:$K$13,11,FALSE),\"\")","v":""},{"$f":"IF(I39<>0,VLOOKUP(J39,A01A02!A:J,10,0),\"\")","v":""}]
[null,0,"","","","",{"$f":"IF(B40<>0,VLOOKUP(C40,A01A02!$A$3:$K$13,11,FALSE),\"\")","v":""},null,0,"","","","",{"$f":"IF(I40<>0,VLOOKUP(J40,A01A02!$A$3:$K$13,11,FALSE),\"\")","v":""},{"$f":"IF(I40<>0,VLOOKUP(J40,A01A02!A:J,10,0),\"\")","v":""}]
[null,0,"","","","",{"$f":"IF(B41<>0,VLOOKUP(C41,A01A02!$A$3:$K$13,11,FALSE),\"\")","v":""},null,0,"","","","",{"$f":"IF(I41<>0,VLOOKUP(J41,A01A02!$A$3:$K$13,11,FALSE),\"\")","v":""},{"$f":"IF(I41<>0,VLOOKUP(J41,A01A02!A:J,10,0),\"\")","v":""}]
[null,0,"","","","",{"$f":"IF(B42<>0,VLOOKUP(C42,A01A02!$A$3:$K$13,11,FALSE),\"\")","v":""},null,0,"","","","",{"$f":"IF(I42<>0,VLOOKUP(J42,A01A02!$A$3:$K$13,11,FALSE),\"\")","v":""},{"$f":"IF(I42<>0,VLOOKUP(J42,A01A02!A:J,10,0),\"\")","v":""}]
[null,0,"","","","",{"$f":"IF(B43<>0,VLOOKUP(C43,A01A02!$A$3:$K$13,11,FALSE),\"\")","v":""},null,0,"","","","",{"$f":"IF(I43<>0,VLOOKUP(J43,A01A02!$A$3:$K$13,11,FALSE),\"\")","v":""},{"$f":"IF(I43<>0,VLOOKUP(J43,A01A02!A:J,10,0),\"\")","v":""}]
[null,0,"","","","",{"$f":"IF(B44<>0,VLOOKUP(C44,A01A02!$A$3:$K$13,11,FALSE),\"\")","v":""},null,0,"","","","",{"$f":"IF(I44<>0,VLOOKUP(J44,A01A02!$A$3:$K$13,11,FALSE),\"\")","v":""},{"$f":"IF(I44<>0,VLOOKUP(J44,A01A02!A:J,10,0),\"\")","v":""}]
[null,0,"","","","",{"$f":"IF(B45<>0,VLOOKUP(C45,A01A02!$A$3:$K$13,11,FALSE),\"\")","v":""},null,0,"","","","",{"$f":"IF(I45<>0,VLOOKUP(J45,A01A02!$A$3:$K$13,11,FALSE),\"\")","v":""},{"$f":"IF(I45<>0,VLOOKUP(J45,A01A02!A:J,10,0),\"\")","v":""}]
[null,0,"","","","",{"$f":"IF(B46<>0,VLOOKUP(C46,A01A02!$A$3:$K$13,11,FALSE),\"\")","v":""},null,0,"","","","",{"$f":"IF(I46<>0,VLOOKUP(J46,A01A02!$A$3:$K$13,11,FALSE),\"\")","v":""},{"$f":"IF(I46<>0,VLOOKUP(J46,A01A02!A:J,10,0),\"\")","v":""}]
[null,0,"","","","",{"$f":"IF(B47<>0,VLOOKUP(C47,A01A02!$A$3:$K$13,11,FALSE),\"\")","v":""},null,0,"","","","",{"$f":"IF(I47<>0,VLOOKUP(J47,A01A02!$A$3:$K$13,11,FALSE),\"\")","v":""},{"$f":"IF(I47<>0,VLOOKUP(J47,A01A02!A:J,10,0),\"\")","v":""}]
[null,0,"","","","",{"$f":"IF(B48<>0,VLOOKUP(C48,A01A02!$A$3:$K$13,11,FALSE),\"\")","v":""},null,0,"","","","",{"$f":"IF(I48<>0,VLOOKUP(J48,A01A02!$A$3:$K$13,11,FALSE),\"\")","v":""},{"$f":"IF(I48<>0,VLOOKUP(J48,A01A02!A:J,10,0),\"\")","v":""}]
[null,0,"","","","",{"$f":"IF(B49<>0,VLOOKUP(C49,A01A02!$A$3:$K$13,11,FALSE),\"\")","v":""},null,0,"","","","",{"$f":"IF(I49<>0,VLOOKUP(J49,A01A02!$A$3:$K$13,11,FALSE),\"\")","v":""},{"$f":"IF(I49<>0,VLOOKUP(J49,A01A02!A:J,10,0),\"\")","v":""}]
[null,0,"","","","",{"$f":"IF(B50<>0,VLOOKUP(C50,A01A02!$A$3:$K$13,11,FALSE),\"\")","v":""},null,0,"","","","",{"$f":"IF(I50<>0,VLOOKUP(J50,A01A02!$A$3:$K$13,11,FALSE),\"\")","v":""},{"$f":"IF(I50<>0,VLOOKUP(J50,A01A02!A:J,10,0),\"\")","v":""}]
[null,0,"","","","",{"$f":"IF(B51<>0,VLOOKUP(C51,A01A02!$A$3:$K$13,11,FALSE),\"\")","v":""},null,0,"","","","",{"$f":"IF(I51<>0,VLOOKUP(J51,A01A02!$A$3:$K$13,11,FALSE),\"\")","v":""},{"$f":"IF(I51<>0,VLOOKUP(J51,A01A02!A:J,10,0),\"\")","v":""}]
[null,0,"","","","",{"$f":"IF(B52<>0,VLOOKUP(C52,A01A02!$A$3:$K$13,11,FALSE),\"\")","v":""},null,0,"","","","",{"$f":"IF(I52<>0,VLOOKUP(J52,A01A02!$A$3:$K$13,11,FALSE),\"\")","v":""},{"$f":"IF(I52<>0,VLOOKUP(J52,A01A02!A:J,10,0),\"\")","v":""}]
[null,0,"","","","",{"$f":"IF(B53<>0,VLOOKUP(C53,A01A02!$A$3:$K$13,11,FALSE),\"\")","v":""},null,0,"","","","",{"$f":"IF(I53<>0,VLOOKUP(J53,A01A02!$A$3:$K$13,11,FALSE),\"\")","v":""},{"$f":"IF(I53<>0,VLOOKUP(J53,A01A02!A:J,10,0),\"\")","v":""}]
[null,0,"","","","",{"$f":"IF(B54<>0,VLOOKUP(C54,A01A02!$A$3:$K$13,11,FALSE),\"\")","v":""},null,0,"","","","",{"$f":"IF(I54<>0,VLOOKUP(J54,A01A02!$A$3:$K$13,11,FALSE),\"\")","v":""},{"$f":"IF(I54<>0,VLOOKUP(J54,A01A02!A:J,10,0),\"\")","v":""}]
[null,0,"","","","",{"$f":"IF(B55<>0,VLOOKUP(C55,A01A02!$A$3:$K$13,11,FALSE),\"\")","v":""},null,0,"","","","",{"$f":"IF(I55<>0,VLOOKUP(J55,A01A02!$A$3:$K$13,11,FALSE),\"\")","v":""},{"$f":"IF(I55<>0,VLOOKUP(J55,A01A02!A:J,10,0),\"\")","v":""}]
[null,0,"","","","",{"$f":"IF(B56<>0,VLOOKUP(C56,A01A02!$A$3:$K$13,11,FALSE),\"\")","v":""},null,0,"","","","",{"$f":"IF(I56<>0,VLOOKUP(J56,A01A02!$A$3:$K$13,11,FALSE),\"\")","v":""},{"$f":"IF(I56<>0,VLOOKUP(J56,A01A02!A:J,10,0),\"\")","v":""}]
[null,0,"","","","",{"$f":"IF(B57<>0,VLOOKUP(C57,A01A02!$A$3:$K$13,11,FALSE),\"\")","v":""},null,0,"","","","",{"$f":"IF(I57<>0,VLOOKUP(J57,A01A02!$A$3:$K$13,11,FALSE),\"\")","v":""},{"$f":"IF(I57<>0,VLOOKUP(J57,A01A02!A:J,10,0),\"\")","v":""}]
[null,0,"","","","",{"$f":"IF(B58<>0,VLOOKUP(C58,A01A02!$A$3:$K$13,11,FALSE),\"\")","v":""},null,0,"","","","",{"$f":"IF(I58<>0,VLOOKUP(J58,A01A02!$A$3:$K$13,11,FALSE),\"\")","v":""},{"$f":"IF(I58<>0,VLOOKUP(J58,A01A02!A:J,10,0),\"\")","v":""}]
[null,0,"","","","",{"$f":"IF(B59<>0,VLOOKUP(C59,A01A02!$A$3:$K$13,11,FALSE),\"\")","v":""},null,0,"","","","",{"$f":"IF(I59<>0,VLOOKUP(J59,A01A02!$A$3:$K$13,11,FALSE),\"\")","v":""},{"$f":"IF(I59<>0,VLOOKUP(J59,A01A02!A:J,10,0),\"\")","v":""}]
[null,0,"","","","",{"$f":"IF(B60<>0,VLOOKUP(C60,A01A02!$A$3:$K$13,11,FALSE),\"\")","v":""},null,0,"","","","",{"$f":"IF(I60<>0,VLOOKUP(J60,A01A02!$A$3:$K$13,11,FALSE),\"\")","v":""},{"$f":"IF(I60<>0,VLOOKUP(J60,A01A02!A:J,10,0),\"\")","v":""}]
[null,0,"","","","",{"$f":"IF(B61<>0,VLOOKUP(C61,A01A02!$A$3:$K$13,11,FALSE),\"\")","v":""},null,0,"","","","",{"$f":"IF(I61<>0,VLOOKUP(J61,A01A02!$A$3:$K$13,11,FALSE),\"\")","v":""},{"$f":"IF(I61<>0,VLOOKUP(J61,A01A02!A:J,10,0),\"\")","v":""}]
[null,0,"","","","",{"$f":"IF(B62<>0,VLOOKUP(C62,A01A02!$A$3:$K$13,11,FALSE),\"\")","v":""},null,0,"","","","",{"$f":"IF(I62<>0,VLOOKUP(J62,A01A02!$A$3:$K$13,11,FALSE),\"\")","v":""},{"$f":"IF(I62<>0,VLOOKUP(J62,A01A02!A:J,10,0),\"\")","v":""}]
[null,0,"","","","",{"$f":"IF(B63<>0,VLOOKUP(C63,A01A02!$A$3:$K$13,11,FALSE),\"\")","v":""},null,0,"","","","",{"$f":"IF(I63<>0,VLOOKUP(J63,A01A02!$A$3:$K$13,11,FALSE),\"\")","v":""},{"$f":"IF(I63<>0,VLOOKUP(J63,A01A02!A:J,10,0),\"\")","v":""}]
[null,0,"","","","",{"$f":"IF(B64<>0,VLOOKUP(C64,A01A02!$A$3:$K$13,11,FALSE),\"\")","v":""},null,0,"","","","",{"$f":"IF(I64<>0,VLOOKUP(J64,A01A02!$A$3:$K$13,11,FALSE),\"\")","v":""},{"$f":"IF(I64<>0,VLOOKUP(J64,A01A02!A:J,10,0),\"\")","v":""}]
[null,0,"","","","",{"$f":"IF(B65<>0,VLOOKUP(C65,A01A02!$A$3:$K$13,11,FALSE),\"\")","v":""},null,0,"","","","",{"$f":"IF(I65<>0,VLOOKUP(J65,A01A02!$A$3:$K$13,11,FALSE),\"\")","v":""},{"$f":"IF(I65<>0,VLOOKUP(J65,A01A02!A:J,10,0),\"\")","v":""}]
[null,0,"","","","",{"$f":"IF(B66<>0,VLOOKUP(C66,A01A02!$A$3:$K$13,11,FALSE),\"\")","v":""},null,0,"","","","",{"$f":"IF(I66<>0,VLOOKUP(J66,A01A02!$A$3:$K$13,11,FALSE),\"\")","v":""},{"$f":"IF(I66<>0,VLOOKUP(J66,A01A02!A:J,10,0),\"\")","v":""}]
[null,{"$f":"IF(A67<>\"\",xycall(A67),0)","v":0},"","","","",{"$f":"IF(B67<>0,VLOOKUP(C67,A01A02!$A$3:$K$13,11,FALSE),\"\")","v":""},null,0,"","","","",{"$f":"IF(I67<>0,VLOOKUP(J67,A01A02!$A$3:$K$13,11,FALSE),\"\")","v":""},{"$f":"IF(I67<>0,VLOOKUP(J67,A01A02!A:J,10,0),\"\")","v":""}]
[null,0,{"$f":"IF(B68<>0,znoget(B68),\"\")","v":""},{"$f":"IF(B68<>0,znaget(B68),\"\")","v":""},{"$f":"IF(B68<>0,xget(B68),\"\")","v":""},{"$f":"IF(B68<>0,yget(B68),\"\")","v":""},{"$f":"IF(B68<>0,VLOOKUP(C68,A01A02!$A$3:$K$13,11,FALSE),\"\")","v":""},null,{"$f":"IF(H68<>\"\",xycall(H68),0)","v":0},{"$f":"IF(I68<>0,znoget(I68),\"\")","v":""},{"$f":"IF(I68<>0,znaget(I68),\"\")","v":""},{"$f":"IF(I68<>0,xget(I68),\"\")","v":""},{"$f":"IF(I68<>0,yget(I68),\"\")","v":""},{"$f":"IF(I68<>0,VLOOKUP(J68,A01A02!$A$3:$K$13,11,FALSE),\"\")","v":""},{"$f":"IF(I68<>0,VLOOKUP(J68,A01A02!A:J,10,0),\"\")","v":""}]
[null,0,"","","","",{"$f":"IF(B69<>0,VLOOKUP(C69,A01A02!$A$3:$K$13,11,FALSE),\"\")","v":""},null,0,"","","","",{"$f":"IF(I69<>0,VLOOKUP(J69,A01A02!$A$3:$K$13,11,FALSE),\"\")","v":""},{"$f":"IF(I69<>0,VLOOKUP(J69,A01A02!A:J,10,0),\"\")","v":""}]
[null,0,"","","","",{"$f":"IF(B70<>0,VLOOKUP(C70,A01A02!$A$3:$K$13,11,FALSE),\"\")","v":""},null,0,"","","","",{"$f":"IF(I70<>0,VLOOKUP(J70,A01A02!$A$3:$K$13,11,FALSE),\"\")","v":""},{"$f":"IF(I70<>0,VLOOKUP(J70,A01A02!A:J,10,0),\"\")","v":""}]
[null,0,"","","","",{"$f":"IF(B71<>0,VLOOKUP(C71,A01A02!$A$3:$K$13,11,FALSE),\"\")","v":""},null,0,"","","","",{"$f":"IF(I71<>0,VLOOKUP(J71,A01A02!$A$3:$K$13,11,FALSE),\"\")","v":""},{"$f":"IF(I71<>0,VLOOKUP(J71,A01A02!A:J,10,0),\"\")","v":""}]
[null,0,"","","","",{"$f":"IF(B72<>0,VLOOKUP(C72,A01A02!$A$3:$K$13,11,FALSE),\"\")","v":""},null,0,"","","","",{"$f":"IF(I72<>0,VLOOKUP(J72,A01A02!$A$3:$K$13,11,FALSE),\"\")","v":""},{"$f":"IF(I72<>0,VLOOKUP(J72,A01A02!A:J,10,0),\"\")","v":""}]
[null,0,"","","","",{"$f":"IF(B73<>0,VLOOKUP(C73,A01A02!$A$3:$K$13,11,FALSE),\"\")","v":""},null,0,"","","","",{"$f":"IF(I73<>0,VLOOKUP(J73,A01A02!$A$3:$K$13,11,FALSE),\"\")","v":""},{"$f":"IF(I73<>0,VLOOKUP(J73,A01A02!A:J,10,0),\"\")","v":""}]
[null,0,"","","","",{"$f":"IF(B74<>0,VLOOKUP(C74,A01A02!$A$3:$K$13,11,FALSE),\"\")","v":""},null,0,"","","","",{"$f":"IF(I74<>0,VLOOKUP(J74,A01A02!$A$3:$K$13,11,FALSE),\"\")","v":""},{"$f":"IF(I74<>0,VLOOKUP(J74,A01A02!A:J,10,0),\"\")","v":""}]
[null,0,"","","","",{"$f":"IF(B75<>0,VLOOKUP(C75,A01A02!$A$3:$K$13,11,FALSE),\"\")","v":""},null,0,"","","","",{"$f":"IF(I75<>0,VLOOKUP(J75,A01A02!$A$3:$K$13,11,FALSE),\"\")","v":""},{"$f":"IF(I75<>0,VLOOKUP(J75,A01A02!A:J,10,0),\"\")","v":""}]
[null,0,"","","","",{"$f":"IF(B76<>0,VLOOKUP(C76,A01A02!$A$3:$K$13,11,FALSE),\"\")","v":""},null,0,"","","","",{"$f":"IF(I76<>0,VLOOKUP(J76,A01A02!$A$3:$K$13,11,FALSE),\"\")","v":""},{"$f":"IF(I76<>0,VLOOKUP(J76,A01A02!A:J,10,0),\"\")","v":""}]
[null,0,"","","","",{"$f":"IF(B77<>0,VLOOKUP(C77,A01A02!$A$3:$K$13,11,FALSE),\"\")","v":""},null,0,"","","","",{"$f":"IF(I77<>0,VLOOKUP(J77,A01A02!$A$3:$K$13,11,FALSE),\"\")","v":""},{"$f":"IF(I77<>0,VLOOKUP(J77,A01A02!A:J,10,0),\"\")","v":""}]
[null,0,"","","","",{"$f":"IF(B78<>0,VLOOKUP(C78,A01A02!$A$3:$K$13,11,FALSE),\"\")","v":""},null,0,"","","","",{"$f":"IF(I78<>0,VLOOKUP(J78,A01A02!$A$3:$K$13,11,FALSE),\"\")","v":""},{"$f":"IF(I78<>0,VLOOKUP(J78,A01A02!A:J,10,0),\"\")","v":""}]
[null,0,"","","","",{"$f":"IF(B79<>0,VLOOKUP(C79,A01A02!$A$3:$K$13,11,FALSE),\"\")","v":""},null,0,"","","","",{"$f":"IF(I79<>0,VLOOKUP(J79,A01A02!$A$3:$K$13,11,FALSE),\"\")","v":""},{"$f":"IF(I79<>0,VLOOKUP(J79,A01A02!A:J,10,0),\"\")","v":""}]
[null,0,"","","","",{"$f":"IF(B80<>0,VLOOKUP(C80,A01A02!$A$3:$K$13,11,FALSE),\"\")","v":""},null,0,"","","","",{"$f":"IF(I80<>0,VLOOKUP(J80,A01A02!$A$3:$K$13,11,FALSE),\"\")","v":""},{"$f":"IF(I80<>0,VLOOKUP(J80,A01A02!A:J,10,0),\"\")","v":""}]
[null,0,"","","","",{"$f":"IF(B81<>0,VLOOKUP(C81,A01A02!$A$3:$K$13,11,FALSE),\"\")","v":""},null,0,"","","","",{"$f":"IF(I81<>0,VLOOKUP(J81,A01A02!$A$3:$K$13,11,FALSE),\"\")","v":""},{"$f":"IF(I81<>0,VLOOKUP(J81,A01A02!A:J,10,0),\"\")","v":""}]
[null,0,"","","","",{"$f":"IF(B82<>0,VLOOKUP(C82,A01A02!$A$3:$K$13,11,FALSE),\"\")","v":""},null,0,"","","","",{"$f":"IF(I82<>0,VLOOKUP(J82,A01A02!$A$3:$K$13,11,FALSE),\"\")","v":""},{"$f":"IF(I82<>0,VLOOKUP(J82,A01A02!A:J,10,0),\"\")","v":""}]
[null,0,"","","","",{"$f":"IF(B83<>0,VLOOKUP(C83,A01A02!$A$3:$K$13,11,FALSE),\"\")","v":""},null,0,"","","","",{"$f":"IF(I83<>0,VLOOKUP(J83,A01A02!$A$3:$K$13,11,FALSE),\"\")","v":""},{"$f":"IF(I83<>0,VLOOKUP(J83,A01A02!A:J,10,0),\"\")","v":""}]
[null,0,"","","","",{"$f":"IF(B84<>0,VLOOKUP(C84,A01A02!$A$3:$K$13,11,FALSE),\"\")","v":""},null,0,"","","","",{"$f":"IF(I84<>0,VLOOKUP(J84,A01A02!$A$3:$K$13,11,FALSE),\"\")","v":""},{"$f":"IF(I84<>0,VLOOKUP(J84,A01A02!A:J,10,0),\"\")","v":""}]
[null,0,"","","","",{"$f":"IF(B85<>0,VLOOKUP(C85,A01A02!$A$3:$K$13,11,FALSE),\"\")","v":""},null,0,"","","","",{"$f":"IF(I85<>0,VLOOKUP(J85,A01A02!$A$3:$K$13,11,FALSE),\"\")","v":""},{"$f":"IF(I85<>0,VLOOKUP(J85,A01A02!A:J,10,0),\"\")","v":""}]
[null,0,"","","","",{"$f":"IF(B86<>0,VLOOKUP(C86,A01A02!$A$3:$K$13,11,FALSE),\"\")","v":""},null,0,"","","","",{"$f":"IF(I86<>0,VLOOKUP(J86,A01A02!$A$3:$K$13,11,FALSE),\"\")","v":""},{"$f":"IF(I86<>0,VLOOKUP(J86,A01A02!A:J,10,0),\"\")","v":""}]
[null,0,"","","","",{"$f":"IF(B87<>0,VLOOKUP(C87,A01A02!$A$3:$K$13,11,FALSE),\"\")","v":""},null,0,"","","","",{"$f":"IF(I87<>0,VLOOKUP(J87,A01A02!$A$3:$K$13,11,FALSE),\"\")","v":""},{"$f":"IF(I87<>0,VLOOKUP(J87,A01A02!A:J,10,0),\"\")","v":""}]
[null,0,"","","","",{"$f":"IF(B88<>0,VLOOKUP(C88,A01A02!$A$3:$K$13,11,FALSE),\"\")","v":""},null,0,"","","","",{"$f":"IF(I88<>0,VLOOKUP(J88,A01A02!$A$3:$K$13,11,FALSE),\"\")","v":""},{"$f":"IF(I88<>0,VLOOKUP(J88,A01A02!A:J,10,0),\"\")","v":""}]
[null,0,"","","","",{"$f":"IF(B89<>0,VLOOKUP(C89,A01A02!$A$3:$K$13,11,FALSE),\"\")","v":""},null,0,"","","","",{"$f":"IF(I89<>0,VLOOKUP(J89,A01A02!$A$3:$K$13,11,FALSE),\"\")","v":""},{"$f":"IF(I89<>0,VLOOKUP(J89,A01A02!A:J,10,0),\"\")","v":""}]
[null,0,"","","","",{"$f":"IF(B90<>0,VLOOKUP(C90,A01A02!$A$3:$K$13,11,FALSE),\"\")","v":""},null,0,"","","","",{"$f":"IF(I90<>0,VLOOKUP(J90,A01A02!$A$3:$K$13,11,FALSE),\"\")","v":""},{"$f":"IF(I90<>0,VLOOKUP(J90,A01A02!A:J,10,0),\"\")","v":""}]
[null,0,"","","","",{"$f":"IF(B91<>0,VLOOKUP(C91,A01A02!$A$3:$K$13,11,FALSE),\"\")","v":""},null,0,"","","","",{"$f":"IF(I91<>0,VLOOKUP(J91,A01A02!$A$3:$K$13,11,FALSE),\"\")","v":""},{"$f":"IF(I91<>0,VLOOKUP(J91,A01A02!A:J,10,0),\"\")","v":""}]
[null,0,"","","","",{"$f":"IF(B92<>0,VLOOKUP(C92,A01A02!$A$3:$K$13,11,FALSE),\"\")","v":""},null,0,"","","","",{"$f":"IF(I92<>0,VLOOKUP(J92,A01A02!$A$3:$K$13,11,FALSE),\"\")","v":""},{"$f":"IF(I92<>0,VLOOKUP(J92,A01A02!A:J,10,0),\"\")","v":""}]
[null,0,"","","","",{"$f":"IF(B93<>0,VLOOKUP(C93,A01A02!$A$3:$K$13,11,FALSE),\"\")","v":""},null,0,"","","","",{"$f":"IF(I93<>0,VLOOKUP(J93,A01A02!$A$3:$K$13,11,FALSE),\"\")","v":""},{"$f":"IF(I93<>0,VLOOKUP(J93,A01A02!A:J,10,0),\"\")","v":""}]
[null,0,"","","","",{"$f":"IF(B94<>0,VLOOKUP(C94,A01A02!$A$3:$K$13,11,FALSE),\"\")","v":""},null,0,"","","","",{"$f":"IF(I94<>0,VLOOKUP(J94,A01A02!$A$3:$K$13,11,FALSE),\"\")","v":""},{"$f":"IF(I94<>0,VLOOKUP(J94,A01A02!A:J,10,0),\"\")","v":""}]
[null,0,"","","","",{"$f":"IF(B95<>0,VLOOKUP(C95,A01A02!$A$3:$K$13,11,FALSE),\"\")","v":""},null,0,"","","","",{"$f":"IF(I95<>0,VLOOKUP(J95,A01A02!$A$3:$K$13,11,FALSE),\"\")","v":""},{"$f":"IF(I95<>0,VLOOKUP(J95,A01A02!A:J,10,0),\"\")","v":""}]
[null,0,"","","","",{"$f":"IF(B96<>0,VLOOKUP(C96,A01A02!$A$3:$K$13,11,FALSE),\"\")","v":""},null,0,"","","","",{"$f":"IF(I96<>0,VLOOKUP(J96,A01A02!$A$3:$K$13,11,FALSE),\"\")","v":""},{"$f":"IF(I96<>0,VLOOKUP(J96,A01A02!A:J,10,0),\"\")","v":""}]
[null,0,"","","","",{"$f":"IF(B97<>0,VLOOKUP(C97,A01A02!$A$3:$K$13,11,FALSE),\"\")","v":""},null,0,"","","","",{"$f":"IF(I97<>0,VLOOKUP(J97,A01A02!$A$3:$K$13,11,FALSE),\"\")","v":""},{"$f":"IF(I97<>0,VLOOKUP(J97,A01A02!A:J,10,0),\"\")","v":""}]
[null,0,"","","","",{"$f":"IF(B98<>0,VLOOKUP(C98,A01A02!$A$3:$K$13,11,FALSE),\"\")","v":""},null,0,"","","","",{"$f":"IF(I98<>0,VLOOKUP(J98,A01A02!$A$3:$K$13,11,FALSE),\"\")","v":""},{"$f":"IF(I98<>0,VLOOKUP(J98,A01A02!A:J,10,0),\"\")","v":""}]
[null,0,"","","","",{"$f":"IF(B99<>0,VLOOKUP(C99,A01A02!$A$3:$K$13,11,FALSE),\"\")","v":""},null,0,"","","","",{"$f":"IF(I99<>0,VLOOKUP(J99,A01A02!$A$3:$K$13,11,FALSE),\"\")","v":""},{"$f":"IF(I99<>0,VLOOKUP(J99,A01A02!A:J,10,0),\"\")","v":""}]
[null,0,"","","","",{"$f":"IF(B100<>0,VLOOKUP(C100,A01A02!$A$3:$K$13,11,FALSE),\"\")","v":""},null,0,"","","","",{"$f":"IF(I100<>0,VLOOKUP(J100,A01A02!$A$3:$K$13,11,FALSE),\"\")","v":""},{"$f":"IF(I100<>0,VLOOKUP(J100,A01A02!A:J,10,0),\"\")","v":""}]
[null,0,"",{"$f":"IF(B101<>0,znaget(B101),\"\")","v":""},{"$f":"IF(B101<>0,xget(B101),\"\")","v":""},{"$f":"IF(B101<>0,yget(B101),\"\")","v":""},{"$f":"IF(B101<>0,VLOOKUP(C101,A01A02!$A$3:$K$13,11,FALSE),\"\")","v":""},null,0,"",{"$f":"IF(I101<>0,znaget(I101),\"\")","v":""},{"$f":"IF(I101<>0,xget(I101),\"\")","v":""},{"$f":"IF(I101<>0,yget(I101),\"\")","v":""},{"$f":"IF(I101<>0,VLOOKUP(J101,A01A02!$A$3:$K$13,11,FALSE),\"\")","v":""},{"$f":"IF(I101<>0,VLOOKUP(J101,A01A02!A:J,10,0),\"\")","v":""}]
[null,0,"","","","",{"$f":"IF(B102<>0,VLOOKUP(C102,A01A02!$A$3:$K$13,11,FALSE),\"\")","v":""},null,0,"","","","",{"$f":"IF(I102<>0,VLOOKUP(J102,A01A02!$A$3:$K$13,11,FALSE),\"\")","v":""},{"$f":"IF(I102<>0,VLOOKUP(J102,A01A02!A:J,10,0),\"\")","v":""}]
[null,0,"","","","",{"$f":"IF(B103<>0,VLOOKUP(C103,A01A02!$A$3:$K$13,11,FALSE),\"\")","v":""},null,0,"","","","",{"$f":"IF(I103<>0,VLOOKUP(J103,A01A02!$A$3:$K$13,11,FALSE),\"\")","v":""},{"$f":"IF(I103<>0,VLOOKUP(J103,A01A02!A:J,10,0),\"\")","v":""}]
[null,0,"","","","",{"$f":"IF(B104<>0,VLOOKUP(C104,A01A02!$A$3:$K$13,11,FALSE),\"\")","v":""},null,0,"","","","",{"$f":"IF(I104<>0,VLOOKUP(J104,A01A02!$A$3:$K$13,11,FALSE),\"\")","v":""},{"$f":"IF(I104<>0,VLOOKUP(J104,A01A02!A:J,10,0),\"\")","v":""}]
[null,0,"","","","",{"$f":"IF(B105<>0,VLOOKUP(C105,A01A02!$A$3:$K$13,11,FALSE),\"\")","v":""},null,0,"","","","",{"$f":"IF(I105<>0,VLOOKUP(J105,A01A02!$A$3:$K$13,11,FALSE),\"\")","v":""},{"$f":"IF(I105<>0,VLOOKUP(J105,A01A02!A:J,10,0),\"\")","v":""}]
[null,0,"","","","",{"$f":"IF(B106<>0,VLOOKUP(C106,A01A02!$A$3:$K$13,11,FALSE),\"\")","v":""},null,0,"","","","",{"$f":"IF(I106<>0,VLOOKUP(J106,A01A02!$A$3:$K$13,11,FALSE),\"\")","v":""},{"$f":"IF(I106<>0,VLOOKUP(J106,A01A02!A:J,10,0),\"\")","v":""}]
[null,0,"","","","",{"$f":"IF(B107<>0,VLOOKUP(C107,A01A02!$A$3:$K$13,11,FALSE),\"\")","v":""},null,0,"","","","",{"$f":"IF(I107<>0,VLOOKUP(J107,A01A02!$A$3:$K$13,11,FALSE),\"\")","v":""},{"$f":"IF(I107<>0,VLOOKUP(J107,A01A02!A:J,10,0),\"\")","v":""}]
[null,0,"","","","",{"$f":"IF(B108<>0,VLOOKUP(C108,A01A02!$A$3:$K$13,11,FALSE),\"\")","v":""},null,0,"","","","",{"$f":"IF(I108<>0,VLOOKUP(J108,A01A02!$A$3:$K$13,11,FALSE),\"\")","v":""},{"$f":"IF(I108<>0,VLOOKUP(J108,A01A02!A:J,10,0),\"\")","v":""}]
[null,0,"","","","",{"$f":"IF(B109<>0,VLOOKUP(C109,A01A02!$A$3:$K$13,11,FALSE),\"\")","v":""},null,0,"","","","",{"$f":"IF(I109<>0,VLOOKUP(J109,A01A02!$A$3:$K$13,11,FALSE),\"\")","v":""},{"$f":"IF(I109<>0,VLOOKUP(J109,A01A02!A:J,10,0),\"\")","v":""}]
[null,0,"","","","",{"$f":"IF(B110<>0,VLOOKUP(C110,A01A02!$A$3:$K$13,11,FALSE),\"\")","v":""},null,0,"","","","",{"$f":"IF(I110<>0,VLOOKUP(J110,A01A02!$A$3:$K$13,11,FALSE),\"\")","v":""},{"$f":"IF(I110<>0,VLOOKUP(J110,A01A02!A:J,10,0),\"\")","v":""}]
[null,0,"","","","",{"$f":"IF(B111<>0,VLOOKUP(C111,A01A02!$A$3:$K$13,11,FALSE),\"\")","v":""},null,0,"","","","",{"$f":"IF(I111<>0,VLOOKUP(J111,A01A02!$A$3:$K$13,11,FALSE),\"\")","v":""},{"$f":"IF(I111<>0,VLOOKUP(J111,A01A02!A:J,10,0),\"\")","v":""}]
[null,0,"","","","",{"$f":"IF(B112<>0,VLOOKUP(C112,A01A02!$A$3:$K$13,11,FALSE),\"\")","v":""},null,0,"","","","",{"$f":"IF(I112<>0,VLOOKUP(J112,A01A02!$A$3:$K$13,11,FALSE),\"\")","v":""},{"$f":"IF(I112<>0,VLOOKUP(J112,A01A02!A:J,10,0),\"\")","v":""}]
[null,0,"","","","",{"$f":"IF(B113<>0,VLOOKUP(C113,A01A02!$A$3:$K$13,11,FALSE),\"\")","v":""},null,0,"","","","",{"$f":"IF(I113<>0,VLOOKUP(J113,A01A02!$A$3:$K$13,11,FALSE),\"\")","v":""},{"$f":"IF(I113<>0,VLOOKUP(J113,A01A02!A:J,10,0),\"\")","v":""}]
[null,0,"","","","",{"$f":"IF(B114<>0,VLOOKUP(C114,A01A02!$A$3:$K$13,11,FALSE),\"\")","v":""},null,0,"","","","",{"$f":"IF(I114<>0,VLOOKUP(J114,A01A02!$A$3:$K$13,11,FALSE),\"\")","v":""},{"$f":"IF(I114<>0,VLOOKUP(J114,A01A02!A:J,10,0),\"\")","v":""}]
[null,0,"","","","",{"$f":"IF(B115<>0,VLOOKUP(C115,A01A02!$A$3:$K$13,11,FALSE),\"\")","v":""},null,0,"","","","",{"$f":"IF(I115<>0,VLOOKUP(J115,A01A02!$A$3:$K$13,11,FALSE),\"\")","v":""},{"$f":"IF(I115<>0,VLOOKUP(J115,A01A02!A:J,10,0),\"\")","v":""}]
[null,0,"","","","",{"$f":"IF(B116<>0,VLOOKUP(C116,A01A02!$A$3:$K$13,11,FALSE),\"\")","v":""},null,0,"","","","",{"$f":"IF(I116<>0,VLOOKUP(J116,A01A02!$A$3:$K$13,11,FALSE),\"\")","v":""},{"$f":"IF(I116<>0,VLOOKUP(J116,A01A02!A:J,10,0),\"\")","v":""}]
[null,0,"","","","",{"$f":"IF(B117<>0,VLOOKUP(C117,A01A02!$A$3:$K$13,11,FALSE),\"\")","v":""},null,0,"","","","",{"$f":"IF(I117<>0,VLOOKUP(J117,A01A02!$A$3:$K$13,11,FALSE),\"\")","v":""},{"$f":"IF(I117<>0,VLOOKUP(J117,A01A02!A:J,10,0),\"\")","v":""}]
[null,0,"","","","",{"$f":"IF(B118<>0,VLOOKUP(C118,A01A02!$A$3:$K$13,11,FALSE),\"\")","v":""},null,0,"","","","",{"$f":"IF(I118<>0,VLOOKUP(J118,A01A02!$A$3:$K$13,11,FALSE),\"\")","v":""},{"$f":"IF(I118<>0,VLOOKUP(J118,A01A02!A:J,10,0),\"\")","v":""}]
[null,0,"","","","",{"$f":"IF(B119<>0,VLOOKUP(C119,A01A02!$A$3:$K$13,11,FALSE),\"\")","v":""},null,0,"","","","",{"$f":"IF(I119<>0,VLOOKUP(J119,A01A02!$A$3:$K$13,11,FALSE),\"\")","v":""},{"$f":"IF(I119<>0,VLOOKUP(J119,A01A02!A:J,10,0),\"\")","v":""}]
[null,0,"","","","",{"$f":"IF(B120<>0,VLOOKUP(C120,A01A02!$A$3:$K$13,11,FALSE),\"\")","v":""},null,0,"","","","",{"$f":"IF(I120<>0,VLOOKUP(J120,A01A02!$A$3:$K$13,11,FALSE),\"\")","v":""},{"$f":"IF(I120<>0,VLOOKUP(J120,A01A02!A:J,10,0),\"\")","v":""}]
[null,0,"","","","",{"$f":"IF(B121<>0,VLOOKUP(C121,A01A02!$A$3:$K$13,11,FALSE),\"\")","v":""},null,0,"","","","",{"$f":"IF(I121<>0,VLOOKUP(J121,A01A02!$A$3:$K$13,11,FALSE),\"\")","v":""},{"$f":"IF(I121<>0,VLOOKUP(J121,A01A02!A:J,10,0),\"\")","v":""}]
[null,0,"","","","",{"$f":"IF(B122<>0,VLOOKUP(C122,A01A02!$A$3:$K$13,11,FALSE),\"\")","v":""},null,0,"","","","",{"$f":"IF(I122<>0,VLOOKUP(J122,A01A02!$A$3:$K$13,11,FALSE),\"\")","v":""},{"$f":"IF(I122<>0,VLOOKUP(J122,A01A02!A:J,10,0),\"\")","v":""}]
[null,0,"","","","",{"$f":"IF(B123<>0,VLOOKUP(C123,A01A02!$A$3:$K$13,11,FALSE),\"\")","v":""},null,0,"","","","",{"$f":"IF(I123<>0,VLOOKUP(J123,A01A02!$A$3:$K$13,11,FALSE),\"\")","v":""},{"$f":"IF(I123<>0,VLOOKUP(J123,A01A02!A:J,10,0),\"\")","v":""}]
[null,0,"","","","",{"$f":"IF(B124<>0,VLOOKUP(C124,A01A02!$A$3:$K$13,11,FALSE),\"\")","v":""},null,0,"","","","",{"$f":"IF(I124<>0,VLOOKUP(J124,A01A02!$A$3:$K$13,11,FALSE),\"\")","v":""},{"$f":"IF(I124<>0,VLOOKUP(J124,A01A02!A:J,10,0),\"\")","v":""}]
[null,0,"","","","",{"$f":"IF(B125<>0,VLOOKUP(C125,A01A02!$A$3:$K$13,11,FALSE),\"\")","v":""},null,0,"","","","",{"$f":"IF(I125<>0,VLOOKUP(J125,A01A02!$A$3:$K$13,11,FALSE),\"\")","v":""},{"$f":"IF(I125<>0,VLOOKUP(J125,A01A02!A:J,10,0),\"\")","v":""}]
[null,0,"","","","",{"$f":"IF(B126<>0,VLOOKUP(C126,A01A02!$A$3:$K$13,11,FALSE),\"\")","v":""},null,0,"","","","",{"$f":"IF(I126<>0,VLOOKUP(J126,A01A02!$A$3:$K$13,11,FALSE),\"\")","v":""},{"$f":"IF(I126<>0,VLOOKUP(J126,A01A02!A:J,10,0),\"\")","v":""}]
[null,0,"","","","",{"$f":"IF(B127<>0,VLOOKUP(C127,A01A02!$A$3:$K$13,11,FALSE),\"\")","v":""},null,0,"","","","",{"$f":"IF(I127<>0,VLOOKUP(J127,A01A02!$A$3:$K$13,11,FALSE),\"\")","v":""},{"$f":"IF(I127<>0,VLOOKUP(J127,A01A02!A:J,10,0),\"\")","v":""}]
[null,0,"","","","",{"$f":"IF(B128<>0,VLOOKUP(C128,A01A02!$A$3:$K$13,11,FALSE),\"\")","v":""},null,0,"","","","",{"$f":"IF(I128<>0,VLOOKUP(J128,A01A02!$A$3:$K$13,11,FALSE),\"\")","v":""},{"$f":"IF(I128<>0,VLOOKUP(J128,A01A02!A:J,10,0),\"\")","v":""}]
[null,0,"","","","",{"$f":"IF(B129<>0,VLOOKUP(C129,A01A02!$A$3:$K$13,11,FALSE),\"\")","v":""},null,0,"","","","",{"$f":"IF(I129<>0,VLOOKUP(J129,A01A02!$A$3:$K$13,11,FALSE),\"\")","v":""},{"$f":"IF(I129<>0,VLOOKUP(J129,A01A02!A:J,10,0),\"\")","v":""}]
[null,0,"","","","",{"$f":"IF(B130<>0,VLOOKUP(C130,A01A02!$A$3:$K$13,11,FALSE),\"\")","v":""},null,0,"","","","",{"$f":"IF(I130<>0,VLOOKUP(J130,A01A02!$A$3:$K$13,11,FALSE),\"\")","v":""},{"$f":"IF(I130<>0,VLOOKUP(J130,A01A02!A:J,10,0),\"\")","v":""}]
[null,{"$f":"IF(A131<>\"\",xycall(A131),0)","v":0},"","","","",{"$f":"IF(B131<>0,VLOOKUP(C131,A01A02!$A$3:$K$13,11,FALSE),\"\")","v":""},null,0,"","","","",{"$f":"IF(I131<>0,VLOOKUP(J131,A01A02!$A$3:$K$13,11,FALSE),\"\")","v":""},{"$f":"IF(I131<>0,VLOOKUP(J131,A01A02!A:J,10,0),\"\")","v":""}]
[null,0,{"$f":"IF(B132<>0,znoget(B132),\"\")","v":""},"","","",{"$f":"IF(B132<>0,VLOOKUP(C132,A01A02!$A$3:$K$13,11,FALSE),\"\")","v":""},null,{"$f":"IF(H132<>\"\",xycall(H132),0)","v":0},{"$f":"IF(I132<>0,znoget(I132),\"\")","v":""},"","","",{"$f":"IF(I132<>0,VLOOKUP(J132,A01A02!$A$3:$K$13,11,FALSE),\"\")","v":""},{"$f":"IF(I132<>0,VLOOKUP(J132,A01A02!A:J,10,0),\"\")","v":""}]
[null,0,"","","","",{"$f":"IF(B133<>0,VLOOKUP(C133,A01A02!$A$3:$K$13,11,FALSE),\"\")","v":""},null,0,"","","","",{"$f":"IF(I133<>0,VLOOKUP(J133,A01A02!$A$3:$K$13,11,FALSE),\"\")","v":""},{"$f":"IF(I133<>0,VLOOKUP(J133,A01A02!A:J,10,0),\"\")","v":""}]
[null,0,"","","","",{"$f":"IF(B134<>0,VLOOKUP(C134,A01A02!$A$3:$K$13,11,FALSE),\"\")","v":""},null,0,"","","","",{"$f":"IF(I134<>0,VLOOKUP(J134,A01A02!$A$3:$K$13,11,FALSE),\"\")","v":""},{"$f":"IF(I134<>0,VLOOKUP(J134,A01A02!A:J,10,0),\"\")","v":""}]
[null,0,"","","","",{"$f":"IF(B135<>0,VLOOKUP(C135,A01A02!$A$3:$K$13,11,FALSE),\"\")","v":""},null,0,"","","","",{"$f":"IF(I135<>0,VLOOKUP(J135,A01A02!$A$3:$K$13,11,FALSE),\"\")","v":""},{"$f":"IF(I135<>0,VLOOKUP(J135,A01A02!A:J,10,0),\"\")","v":""}]
[null,0,"","","","",{"$f":"IF(B136<>0,VLOOKUP(C136,A01A02!$A$3:$K$13,11,FALSE),\"\")","v":""},null,0,"","","","",{"$f":"IF(I136<>0,VLOOKUP(J136,A01A02!$A$3:$K$13,11,FALSE),\"\")","v":""},{"$f":"IF(I136<>0,VLOOKUP(J136,A01A02!A:J,10,0),\"\")","v":""}]
[null,0,"","","","",{"$f":"IF(B137<>0,VLOOKUP(C137,A01A02!$A$3:$K$13,11,FALSE),\"\")","v":""},null,0,"","","","",{"$f":"IF(I137<>0,VLOOKUP(J137,A01A02!$A$3:$K$13,11,FALSE),\"\")","v":""},{"$f":"IF(I137<>0,VLOOKUP(J137,A01A02!A:J,10,0),\"\")","v":""}]
[null,0,"","","","",{"$f":"IF(B138<>0,VLOOKUP(C138,A01A02!$A$3:$K$13,11,FALSE),\"\")","v":""},null,0,"","","","",{"$f":"IF(I138<>0,VLOOKUP(J138,A01A02!$A$3:$K$13,11,FALSE),\"\")","v":""},{"$f":"IF(I138<>0,VLOOKUP(J138,A01A02!A:J,10,0),\"\")","v":""}]
[null,0,"","","","",{"$f":"IF(B139<>0,VLOOKUP(C139,A01A02!$A$3:$K$13,11,FALSE),\"\")","v":""},null,0,"","","","",{"$f":"IF(I139<>0,VLOOKUP(J139,A01A02!$A$3:$K$13,11,FALSE),\"\")","v":""},{"$f":"IF(I139<>0,VLOOKUP(J139,A01A02!A:J,10,0),\"\")","v":""}]
[null,0,"","","","",{"$f":"IF(B140<>0,VLOOKUP(C140,A01A02!$A$3:$K$13,11,FALSE),\"\")","v":""},null,0,"","","","",{"$f":"IF(I140<>0,VLOOKUP(J140,A01A02!$A$3:$K$13,11,FALSE),\"\")","v":""},{"$f":"IF(I140<>0,VLOOKUP(J140,A01A02!A:J,10,0),\"\")","v":""}]
[null,0,"","","","",{"$f":"IF(B141<>0,VLOOKUP(C141,A01A02!$A$3:$K$13,11,FALSE),\"\")","v":""},null,0,"","","","",{"$f":"IF(I141<>0,VLOOKUP(J141,A01A02!$A$3:$K$13,11,FALSE),\"\")","v":""},{"$f":"IF(I141<>0,VLOOKUP(J141,A01A02!A:J,10,0),\"\")","v":""}]
[null,0,"","","","",{"$f":"IF(B142<>0,VLOOKUP(C142,A01A02!$A$3:$K$13,11,FALSE),\"\")","v":""},null,0,"","","","",{"$f":"IF(I142<>0,VLOOKUP(J142,A01A02!$A$3:$K$13,11,FALSE),\"\")","v":""},{"$f":"IF(I142<>0,VLOOKUP(J142,A01A02!A:J,10,0),\"\")","v":""}]
[null,0,"","","","",{"$f":"IF(B143<>0,VLOOKUP(C143,A01A02!$A$3:$K$13,11,FALSE),\"\")","v":""},null,0,"","","","",{"$f":"IF(I143<>0,VLOOKUP(J143,A01A02!$A$3:$K$13,11,FALSE),\"\")","v":""},{"$f":"IF(I143<>0,VLOOKUP(J143,A01A02!A:J,10,0),\"\")","v":""}]
[null,0,"","","","",{"$f":"IF(B144<>0,VLOOKUP(C144,A01A02!$A$3:$K$13,11,FALSE),\"\")","v":""},null,0,"","","","",{"$f":"IF(I144<>0,VLOOKUP(J144,A01A02!$A$3:$K$13,11,FALSE),\"\")","v":""},{"$f":"IF(I144<>0,VLOOKUP(J144,A01A02!A:J,10,0),\"\")","v":""}]
[null,0,"","","","",{"$f":"IF(B145<>0,VLOOKUP(C145,A01A02!$A$3:$K$13,11,FALSE),\"\")","v":""},null,0,"","","","",{"$f":"IF(I145<>0,VLOOKUP(J145,A01A02!$A$3:$K$13,11,FALSE),\"\")","v":""},{"$f":"IF(I145<>0,VLOOKUP(J145,A01A02!A:J,10,0),\"\")","v":""}]
[null,0,"","","","",{"$f":"IF(B146<>0,VLOOKUP(C146,A01A02!$A$3:$K$13,11,FALSE),\"\")","v":""},null,0,"","","","",{"$f":"IF(I146<>0,VLOOKUP(J146,A01A02!$A$3:$K$13,11,FALSE),\"\")","v":""},{"$f":"IF(I146<>0,VLOOKUP(J146,A01A02!A:J,10,0),\"\")","v":""}]
[null,0,"","","","",{"$f":"IF(B147<>0,VLOOKUP(C147,A01A02!$A$3:$K$13,11,FALSE),\"\")","v":""},null,0,"","","","",{"$f":"IF(I147<>0,VLOOKUP(J147,A01A02!$A$3:$K$13,11,FALSE),\"\")","v":""},{"$f":"IF(I147<>0,VLOOKUP(J147,A01A02!A:J,10,0),\"\")","v":""}]
[null,0,"","","","",{"$f":"IF(B148<>0,VLOOKUP(C148,A01A02!$A$3:$K$13,11,FALSE),\"\")","v":""},null,0,"","","","",{"$f":"IF(I148<>0,VLOOKUP(J148,A01A02!$A$3:$K$13,11,FALSE),\"\")","v":""},{"$f":"IF(I148<>0,VLOOKUP(J148,A01A02!A:J,10,0),\"\")","v":""}]
[null,0,"","","","",{"$f":"IF(B149<>0,VLOOKUP(C149,A01A02!$A$3:$K$13,11,FALSE),\"\")","v":""},null,0,"","","","",{"$f":"IF(I149<>0,VLOOKUP(J149,A01A02!$A$3:$K$13,11,FALSE),\"\")","v":""},{"$f":"IF(I149<>0,VLOOKUP(J149,A01A02!A:J,10,0),\"\")","v":""}]
[null,0,"","","","",{"$f":"IF(B150<>0,VLOOKUP(C150,A01A02!$A$3:$K$13,11,FALSE),\"\")","v":""},null,0,"","","","",{"$f":"IF(I150<>0,VLOOKUP(J150,A01A02!$A$3:$K$13,11,FALSE),\"\")","v":""},{"$f":"IF(I150<>0,VLOOKUP(J150,A01A02!A:J,10,0),\"\")","v":""}]
[null,0,"","","","",{"$f":"IF(B151<>0,VLOOKUP(C151,A01A02!$A$3:$K$13,11,FALSE),\"\")","v":""},null,0,"","","","",{"$f":"IF(I151<>0,VLOOKUP(J151,A01A02!$A$3:$K$13,11,FALSE),\"\")","v":""},{"$f":"IF(I151<>0,VLOOKUP(J151,A01A02!A:J,10,0),\"\")","v":""}]
[null,0,"","","","",{"$f":"IF(B152<>0,VLOOKUP(C152,A01A02!$A$3:$K$13,11,FALSE),\"\")","v":""},null,0,"","","","",{"$f":"IF(I152<>0,VLOOKUP(J152,A01A02!$A$3:$K$13,11,FALSE),\"\")","v":""},{"$f":"IF(I152<>0,VLOOKUP(J152,A01A02!A:J,10,0),\"\")","v":""}]
[null,0,"","","","",{"$f":"IF(B153<>0,VLOOKUP(C153,A01A02!$A$3:$K$13,11,FALSE),\"\")","v":""},null,0,"","","","",{"$f":"IF(I153<>0,VLOOKUP(J153,A01A02!$A$3:$K$13,11,FALSE),\"\")","v":""},{"$f":"IF(I153<>0,VLOOKUP(J153,A01A02!A:J,10,0),\"\")","v":""}]
[null,0,"","","","",{"$f":"IF(B154<>0,VLOOKUP(C154,A01A02!$A$3:$K$13,11,FALSE),\"\")","v":""},null,0,"","","","",{"$f":"IF(I154<>0,VLOOKUP(J154,A01A02!$A$3:$K$13,11,FALSE),\"\")","v":""},{"$f":"IF(I154<>0,VLOOKUP(J154,A01A02!A:J,10,0),\"\")","v":""}]
[null,0,"","","","",{"$f":"IF(B155<>0,VLOOKUP(C155,A01A02!$A$3:$K$13,11,FALSE),\"\")","v":""},null,0,"","","","",{"$f":"IF(I155<>0,VLOOKUP(J155,A01A02!$A$3:$K$13,11,FALSE),\"\")","v":""},{"$f":"IF(I155<>0,VLOOKUP(J155,A01A02!A:J,10,0),\"\")","v":""}]
[null,0,"","","","",{"$f":"IF(B156<>0,VLOOKUP(C156,A01A02!$A$3:$K$13,11,FALSE),\"\")","v":""},null,0,"","","","",{"$f":"IF(I156<>0,VLOOKUP(J156,A01A02!$A$3:$K$13,11,FALSE),\"\")","v":""},{"$f":"IF(I156<>0,VLOOKUP(J156,A01A02!A:J,10,0),\"\")","v":""}]
[null,0,"","","","",{"$f":"IF(B157<>0,VLOOKUP(C157,A01A02!$A$3:$K$13,11,FALSE),\"\")","v":""},null,0,"","","","",{"$f":"IF(I157<>0,VLOOKUP(J157,A01A02!$A$3:$K$13,11,FALSE),\"\")","v":""},{"$f":"IF(I157<>0,VLOOKUP(J157,A01A02!A:J,10,0),\"\")","v":""}]
[null,0,"","","","",{"$f":"IF(B158<>0,VLOOKUP(C158,A01A02!$A$3:$K$13,11,FALSE),\"\")","v":""},null,0,"","","","",{"$f":"IF(I158<>0,VLOOKUP(J158,A01A02!$A$3:$K$13,11,FALSE),\"\")","v":""},{"$f":"IF(I158<>0,VLOOKUP(J158,A01A02!A:J,10,0),\"\")","v":""}]
[null,0,"","","","",{"$f":"IF(B159<>0,VLOOKUP(C159,A01A02!$A$3:$K$13,11,FALSE),\"\")","v":""},null,0,"","","","",{"$f":"IF(I159<>0,VLOOKUP(J159,A01A02!$A$3:$K$13,11,FALSE),\"\")","v":""},{"$f":"IF(I159<>0,VLOOKUP(J159,A01A02!A:J,10,0),\"\")","v":""}]
[null,0,"","","","",{"$f":"IF(B160<>0,VLOOKUP(C160,A01A02!$A$3:$K$13,11,FALSE),\"\")","v":""},null,0,"","","","",{"$f":"IF(I160<>0,VLOOKUP(J160,A01A02!$A$3:$K$13,11,FALSE),\"\")","v":""},{"$f":"IF(I160<>0,VLOOKUP(J160,A01A02!A:J,10,0),\"\")","v":""}]
[null,0,"","","","",{"$f":"IF(B161<>0,VLOOKUP(C161,A01A02!$A$3:$K$13,11,FALSE),\"\")","v":""},null,0,"","","","",{"$f":"IF(I161<>0,VLOOKUP(J161,A01A02!$A$3:$K$13,11,FALSE),\"\")","v":""},{"$f":"IF(I161<>0,VLOOKUP(J161,A01A02!A:J,10,0),\"\")","v":""}]
[null,0,"","","","",{"$f":"IF(B162<>0,VLOOKUP(C162,A01A02!$A$3:$K$13,11,FALSE),\"\")","v":""},null,0,"","","","",{"$f":"IF(I162<>0,VLOOKUP(J162,A01A02!$A$3:$K$13,11,FALSE),\"\")","v":""},{"$f":"IF(I162<>0,VLOOKUP(J162,A01A02!A:J,10,0),\"\")","v":""}]
[null,0,"","","","",{"$f":"IF(B163<>0,VLOOKUP(C163,A01A02!$A$3:$K$13,11,FALSE),\"\")","v":""},null,0,"","","","",{"$f":"IF(I163<>0,VLOOKUP(J163,A01A02!$A$3:$K$13,11,FALSE),\"\")","v":""},{"$f":"IF(I163<>0,VLOOKUP(J163,A01A02!A:J,10,0),\"\")","v":""}]
[null,0,"","","","",{"$f":"IF(B164<>0,VLOOKUP(C164,A01A02!$A$3:$K$13,11,FALSE),\"\")","v":""},null,0,"","","","",{"$f":"IF(I164<>0,VLOOKUP(J164,A01A02!$A$3:$K$13,11,FALSE),\"\")","v":""},{"$f":"IF(I164<>0,VLOOKUP(J164,A01A02!A:J,10,0),\"\")","v":""}]
[null,0,"",{"$f":"IF(B165<>0,znaget(B165),\"\")","v":""},{"$f":"IF(B165<>0,xget(B165),\"\")","v":""},{"$f":"IF(B165<>0,yget(B165),\"\")","v":""},{"$f":"IF(B165<>0,VLOOKUP(C165,A01A02!$A$3:$K$13,11,FALSE),\"\")","v":""},null,0,"",{"$f":"IF(I165<>0,znaget(I165),\"\")","v":""},{"$f":"IF(I165<>0,xget(I165),\"\")","v":""},{"$f":"IF(I165<>0,yget(I165),\"\")","v":""},{"$f":"IF(I165<>0,VLOOKUP(J165,A01A02!$A$3:$K$13,11,FALSE),\"\")","v":""},{"$f":"IF(I165<>0,VLOOKUP(J165,A01A02!A:J,10,0),\"\")","v":""}]
[null,0,"","","","",{"$f":"IF(B166<>0,VLOOKUP(C166,A01A02!$A$3:$K$13,11,FALSE),\"\")","v":""},null,0,"","","","",{"$f":"IF(I166<>0,VLOOKUP(J166,A01A02!$A$3:$K$13,11,FALSE),\"\")","v":""},{"$f":"IF(I166<>0,VLOOKUP(J166,A01A02!A:J,10,0),\"\")","v":""}]
[null,0,"","","","",{"$f":"IF(B167<>0,VLOOKUP(C167,A01A02!$A$3:$K$13,11,FALSE),\"\")","v":""},null,0,"","","","",{"$f":"IF(I167<>0,VLOOKUP(J167,A01A02!$A$3:$K$13,11,FALSE),\"\")","v":""},{"$f":"IF(I167<>0,VLOOKUP(J167,A01A02!A:J,10,0),\"\")","v":""}]
[null,0,"","","","",{"$f":"IF(B168<>0,VLOOKUP(C168,A01A02!$A$3:$K$13,11,FALSE),\"\")","v":""},null,0,"","","","",{"$f":"IF(I168<>0,VLOOKUP(J168,A01A02!$A$3:$K$13,11,FALSE),\"\")","v":""},{"$f":"IF(I168<>0,VLOOKUP(J168,A01A02!A:J,10,0),\"\")","v":""}]
[null,0,"","","","",{"$f":"IF(B169<>0,VLOOKUP(C169,A01A02!$A$3:$K$13,11,FALSE),\"\")","v":""},null,0,"","","","",{"$f":"IF(I169<>0,VLOOKUP(J169,A01A02!$A$3:$K$13,11,FALSE),\"\")","v":""},{"$f":"IF(I169<>0,VLOOKUP(J169,A01A02!A:J,10,0),\"\")","v":""}]
[null,0,"","","","",{"$f":"IF(B170<>0,VLOOKUP(C170,A01A02!$A$3:$K$13,11,FALSE),\"\")","v":""},null,0,"","","","",{"$f":"IF(I170<>0,VLOOKUP(J170,A01A02!$A$3:$K$13,11,FALSE),\"\")","v":""},{"$f":"IF(I170<>0,VLOOKUP(J170,A01A02!A:J,10,0),\"\")","v":""}]
[null,0,"","","","",{"$f":"IF(B171<>0,VLOOKUP(C171,A01A02!$A$3:$K$13,11,FALSE),\"\")","v":""},null,0,"","","","",{"$f":"IF(I171<>0,VLOOKUP(J171,A01A02!$A$3:$K$13,11,FALSE),\"\")","v":""},{"$f":"IF(I171<>0,VLOOKUP(J171,A01A02!A:J,10,0),\"\")","v":""}]
[null,0,"","","","",{"$f":"IF(B172<>0,VLOOKUP(C172,A01A02!$A$3:$K$13,11,FALSE),\"\")","v":""},null,0,"","","","",{"$f":"IF(I172<>0,VLOOKUP(J172,A01A02!$A$3:$K$13,11,FALSE),\"\")","v":""},{"$f":"IF(I172<>0,VLOOKUP(J172,A01A02!A:J,10,0),\"\")","v":""}]
[null,0,"","","","",{"$f":"IF(B173<>0,VLOOKUP(C173,A01A02!$A$3:$K$13,11,FALSE),\"\")","v":""},null,0,"","","","",{"$f":"IF(I173<>0,VLOOKUP(J173,A01A02!$A$3:$K$13,11,FALSE),\"\")","v":""},{"$f":"IF(I173<>0,VLOOKUP(J173,A01A02!A:J,10,0),\"\")","v":""}]
[null,0,"","","","",{"$f":"IF(B174<>0,VLOOKUP(C174,A01A02!$A$3:$K$13,11,FALSE),\"\")","v":""},null,0,"","","","",{"$f":"IF(I174<>0,VLOOKUP(J174,A01A02!$A$3:$K$13,11,FALSE),\"\")","v":""},{"$f":"IF(I174<>0,VLOOKUP(J174,A01A02!A:J,10,0),\"\")","v":""}]
[null,0,"","","","",{"$f":"IF(B175<>0,VLOOKUP(C175,A01A02!$A$3:$K$13,11,FALSE),\"\")","v":""},null,0,"","","","",{"$f":"IF(I175<>0,VLOOKUP(J175,A01A02!$A$3:$K$13,11,FALSE),\"\")","v":""},{"$f":"IF(I175<>0,VLOOKUP(J175,A01A02!A:J,10,0),\"\")","v":""}]
[null,0,"","","","",{"$f":"IF(B176<>0,VLOOKUP(C176,A01A02!$A$3:$K$13,11,FALSE),\"\")","v":""},null,0,"","","","",{"$f":"IF(I176<>0,VLOOKUP(J176,A01A02!$A$3:$K$13,11,FALSE),\"\")","v":""},{"$f":"IF(I176<>0,VLOOKUP(J176,A01A02!A:J,10,0),\"\")","v":""}]
[null,0,"","","","",{"$f":"IF(B177<>0,VLOOKUP(C177,A01A02!$A$3:$K$13,11,FALSE),\"\")","v":""},null,0,"","","","",{"$f":"IF(I177<>0,VLOOKUP(J177,A01A02!$A$3:$K$13,11,FALSE),\"\")","v":""},{"$f":"IF(I177<>0,VLOOKUP(J177,A01A02!A:J,10,0),\"\")","v":""}]
[null,0,"","","","",{"$f":"IF(B178<>0,VLOOKUP(C178,A01A02!$A$3:$K$13,11,FALSE),\"\")","v":""},null,0,"","","","",{"$f":"IF(I178<>0,VLOOKUP(J178,A01A02!$A$3:$K$13,11,FALSE),\"\")","v":""},{"$f":"IF(I178<>0,VLOOKUP(J178,A01A02!A:J,10,0),\"\")","v":""}]
[null,0,"","","","",{"$f":"IF(B179<>0,VLOOKUP(C179,A01A02!$A$3:$K$13,11,FALSE),\"\")","v":""},null,0,"","","","",{"$f":"IF(I179<>0,VLOOKUP(J179,A01A02!$A$3:$K$13,11,FALSE),\"\")","v":""},{"$f":"IF(I179<>0,VLOOKUP(J179,A01A02!A:J,10,0),\"\")","v":""}]
[null,0,"","","","",{"$f":"IF(B180<>0,VLOOKUP(C180,A01A02!$A$3:$K$13,11,FALSE),\"\")","v":""},null,0,"","","","",{"$f":"IF(I180<>0,VLOOKUP(J180,A01A02!$A$3:$K$13,11,FALSE),\"\")","v":""},{"$f":"IF(I180<>0,VLOOKUP(J180,A01A02!A:J,10,0),\"\")","v":""}]
[null,0,"","","","",{"$f":"IF(B181<>0,VLOOKUP(C181,A01A02!$A$3:$K$13,11,FALSE),\"\")","v":""},null,0,"","","","",{"$f":"IF(I181<>0,VLOOKUP(J181,A01A02!$A$3:$K$13,11,FALSE),\"\")","v":""},{"$f":"IF(I181<>0,VLOOKUP(J181,A01A02!A:J,10,0),\"\")","v":""}]
[null,0,"","","","",{"$f":"IF(B182<>0,VLOOKUP(C182,A01A02!$A$3:$K$13,11,FALSE),\"\")","v":""},null,0,"","","","",{"$f":"IF(I182<>0,VLOOKUP(J182,A01A02!$A$3:$K$13,11,FALSE),\"\")","v":""},{"$f":"IF(I182<>0,VLOOKUP(J182,A01A02!A:J,10,0),\"\")","v":""}]
[null,0,"","","","",{"$f":"IF(B183<>0,VLOOKUP(C183,A01A02!$A$3:$K$13,11,FALSE),\"\")","v":""},null,0,"","","","",{"$f":"IF(I183<>0,VLOOKUP(J183,A01A02!$A$3:$K$13,11,FALSE),\"\")","v":""},{"$f":"IF(I183<>0,VLOOKUP(J183,A01A02!A:J,10,0),\"\")","v":""}]
[null,0,"","","","",{"$f":"IF(B184<>0,VLOOKUP(C184,A01A02!$A$3:$K$13,11,FALSE),\"\")","v":""},null,0,"","","","",{"$f":"IF(I184<>0,VLOOKUP(J184,A01A02!$A$3:$K$13,11,FALSE),\"\")","v":""},{"$f":"IF(I184<>0,VLOOKUP(J184,A01A02!A:J,10,0),\"\")","v":""}]
[null,0,"","","","",{"$f":"IF(B185<>0,VLOOKUP(C185,A01A02!$A$3:$K$13,11,FALSE),\"\")","v":""},null,0,"","","","",{"$f":"IF(I185<>0,VLOOKUP(J185,A01A02!$A$3:$K$13,11,FALSE),\"\")","v":""},{"$f":"IF(I185<>0,VLOOKUP(J185,A01A02!A:J,10,0),\"\")","v":""}]
[null,0,"","","","",{"$f":"IF(B186<>0,VLOOKUP(C186,A01A02!$A$3:$K$13,11,FALSE),\"\")","v":""},null,0,"","","","",{"$f":"IF(I186<>0,VLOOKUP(J186,A01A02!$A$3:$K$13,11,FALSE),\"\")","v":""},{"$f":"IF(I186<>0,VLOOKUP(J186,A01A02!A:J,10,0),\"\")","v":""}]
[null,0,"","","","",{"$f":"IF(B187<>0,VLOOKUP(C187,A01A02!$A$3:$K$13,11,FALSE),\"\")","v":""},null,0,"","","","",{"$f":"IF(I187<>0,VLOOKUP(J187,A01A02!$A$3:$K$13,11,FALSE),\"\")","v":""},{"$f":"IF(I187<>0,VLOOKUP(J187,A01A02!A:J,10,0),\"\")","v":""}]
[null,0,"","","","",{"$f":"IF(B188<>0,VLOOKUP(C188,A01A02!$A$3:$K$13,11,FALSE),\"\")","v":""},null,0,"","","","",{"$f":"IF(I188<>0,VLOOKUP(J188,A01A02!$A$3:$K$13,11,FALSE),\"\")","v":""},{"$f":"IF(I188<>0,VLOOKUP(J188,A01A02!A:J,10,0),\"\")","v":""}]
[null,0,"","","","",{"$f":"IF(B189<>0,VLOOKUP(C189,A01A02!$A$3:$K$13,11,FALSE),\"\")","v":""},null,0,"","","","",{"$f":"IF(I189<>0,VLOOKUP(J189,A01A02!$A$3:$K$13,11,FALSE),\"\")","v":""},{"$f":"IF(I189<>0,VLOOKUP(J189,A01A02!A:J,10,0),\"\")","v":""}]
[null,0,"","","","",{"$f":"IF(B190<>0,VLOOKUP(C190,A01A02!$A$3:$K$13,11,FALSE),\"\")","v":""},null,0,"","","","",{"$f":"IF(I190<>0,VLOOKUP(J190,A01A02!$A$3:$K$13,11,FALSE),\"\")","v":""},{"$f":"IF(I190<>0,VLOOKUP(J190,A01A02!A:J,10,0),\"\")","v":""}]
[null,0,"","","","",{"$f":"IF(B191<>0,VLOOKUP(C191,A01A02!$A$3:$K$13,11,FALSE),\"\")","v":""},null,0,"","","","",{"$f":"IF(I191<>0,VLOOKUP(J191,A01A02!$A$3:$K$13,11,FALSE),\"\")","v":""},{"$f":"IF(I191<>0,VLOOKUP(J191,A01A02!A:J,10,0),\"\")","v":""}]
[null,0,"","","","",{"$f":"IF(B192<>0,VLOOKUP(C192,A01A02!$A$3:$K$13,11,FALSE),\"\")","v":""},null,0,"","","","",{"$f":"IF(I192<>0,VLOOKUP(J192,A01A02!$A$3:$K$13,11,FALSE),\"\")","v":""},{"$f":"IF(I192<>0,VLOOKUP(J192,A01A02!A:J,10,0),\"\")","v":""}]
[null,0,"","","","",{"$f":"IF(B193<>0,VLOOKUP(C193,A01A02!$A$3:$K$13,11,FALSE),\"\")","v":""},null,0,"","","","",{"$f":"IF(I193<>0,VLOOKUP(J193,A01A02!$A$3:$K$13,11,FALSE),\"\")","v":""},{"$f":"IF(I193<>0,VLOOKUP(J193,A01A02!A:J,10,0),\"\")","v":""}]
[null,0,"","","","",{"$f":"IF(B194<>0,VLOOKUP(C194,A01A02!$A$3:$K$13,11,FALSE),\"\")","v":""},null,0,"","","","",{"$f":"IF(I194<>0,VLOOKUP(J194,A01A02!$A$3:$K$13,11,FALSE),\"\")","v":""},{"$f":"IF(I194<>0,VLOOKUP(J194,A01A02!A:J,10,0),\"\")","v":""}]
[null,{"$f":"IF(A195<>\"\",xycall(A195),0)","v":0},"","","","",{"$f":"IF(B195<>0,VLOOKUP(C195,A01A02!$A$3:$K$13,11,FALSE),\"\")","v":""},null,0,"","","","",{"$f":"IF(I195<>0,VLOOKUP(J195,A01A02!$A$3:$K$13,11,FALSE),\"\")","v":""},{"$f":"IF(I195<>0,VLOOKUP(J195,A01A02!A:J,10,0),\"\")","v":""}]
[null,0,{"$f":"IF(B196<>0,znoget(B196),\"\")","v":""},"","","",{"$f":"IF(B196<>0,VLOOKUP(C196,A01A02!$A$3:$K$13,11,FALSE),\"\")","v":""},null,{"$f":"IF(H196<>\"\",xycall(H196),0)","v":0},{"$f":"IF(I196<>0,znoget(I196),\"\")","v":""},"","","",{"$f":"IF(I196<>0,VLOOKUP(J196,A01A02!$A$3:$K$13,11,FALSE),\"\")","v":""},{"$f":"IF(I196<>0,VLOOKUP(J196,A01A02!A:J,10,0),\"\")","v":""}]
[null,0,"","","","",{"$f":"IF(B197<>0,VLOOKUP(C197,A01A02!$A$3:$K$13,11,FALSE),\"\")","v":""},null,0,"","","","",{"$f":"IF(I197<>0,VLOOKUP(J197,A01A02!$A$3:$K$13,11,FALSE),\"\")","v":""},{"$f":"IF(I197<>0,VLOOKUP(J197,A01A02!A:J,10,0),\"\")","v":""}]
[null,0,"","","","",{"$f":"IF(B198<>0,VLOOKUP(C198,A01A02!$A$3:$K$13,11,FALSE),\"\")","v":""},null,0,"","","","",{"$f":"IF(I198<>0,VLOOKUP(J198,A01A02!$A$3:$K$13,11,FALSE),\"\")","v":""},{"$f":"IF(I198<>0,VLOOKUP(J198,A01A02!A:J,10,0),\"\")","v":""}]
[null,0,"","","","",{"$f":"IF(B199<>0,VLOOKUP(C199,A01A02!$A$3:$K$13,11,FALSE),\"\")","v":""},null,0,"","","","",{"$f":"IF(I199<>0,VLOOKUP(J199,A01A02!$A$3:$K$13,11,FALSE),\"\")","v":""},{"$f":"IF(I199<>0,VLOOKUP(J199,A01A02!A:J,10,0),\"\")","v":""}]
[null,0,"","","","",{"$f":"IF(B200<>0,VLOOKUP(C200,A01A02!$A$3:$K$13,11,FALSE),\"\")","v":""},null,0,"","","","",{"$f":"IF(I200<>0,VLOOKUP(J200,A01A02!$A$3:$K$13,11,FALSE),\"\")","v":""},{"$f":"IF(I200<>0,VLOOKUP(J200,A01A02!A:J,10,0),\"\")","v":""}]
[null,0,"","","","",{"$f":"IF(B201<>0,VLOOKUP(C201,A01A02!$A$3:$K$13,11,FALSE),\"\")","v":""},null,0,"","","","",{"$f":"IF(I201<>0,VLOOKUP(J201,A01A02!$A$3:$K$13,11,FALSE),\"\")","v":""},{"$f":"IF(I201<>0,VLOOKUP(J201,A01A02!A:J,10,0),\"\")","v":""}]
[null,0,"","","","",{"$f":"IF(B202<>0,VLOOKUP(C202,A01A02!$A$3:$K$13,11,FALSE),\"\")","v":""},null,0,"","","","",{"$f":"IF(I202<>0,VLOOKUP(J202,A01A02!$A$3:$K$13,11,FALSE),\"\")","v":""},{"$f":"IF(I202<>0,VLOOKUP(J202,A01A02!A:J,10,0),\"\")","v":""}]
[null,0,"","","","",{"$f":"IF(B203<>0,VLOOKUP(C203,A01A02!$A$3:$K$13,11,FALSE),\"\")","v":""},null,0,"","","","",{"$f":"IF(I203<>0,VLOOKUP(J203,A01A02!$A$3:$K$13,11,FALSE),\"\")","v":""},{"$f":"IF(I203<>0,VLOOKUP(J203,A01A02!A:J,10,0),\"\")","v":""}]
[null,0,"","","","",{"$f":"IF(B204<>0,VLOOKUP(C204,A01A02!$A$3:$K$13,11,FALSE),\"\")","v":""},null,0,"","","","",{"$f":"IF(I204<>0,VLOOKUP(J204,A01A02!$A$3:$K$13,11,FALSE),\"\")","v":""},{"$f":"IF(I204<>0,VLOOKUP(J204,A01A02!A:J,10,0),\"\")","v":""}]
[null,0,"","","","",{"$f":"IF(B205<>0,VLOOKUP(C205,A01A02!$A$3:$K$13,11,FALSE),\"\")","v":""},null,0,"","","","",{"$f":"IF(I205<>0,VLOOKUP(J205,A01A02!$A$3:$K$13,11,FALSE),\"\")","v":""},{"$f":"IF(I205<>0,VLOOKUP(J205,A01A02!A:J,10,0),\"\")","v":""}]
[null,0,"","","","",{"$f":"IF(B206<>0,VLOOKUP(C206,A01A02!$A$3:$K$13,11,FALSE),\"\")","v":""},null,0,"","","","",{"$f":"IF(I206<>0,VLOOKUP(J206,A01A02!$A$3:$K$13,11,FALSE),\"\")","v":""},{"$f":"IF(I206<>0,VLOOKUP(J206,A01A02!A:J,10,0),\"\")","v":""}]
[null,0,"","","","",{"$f":"IF(B207<>0,VLOOKUP(C207,A01A02!$A$3:$K$13,11,FALSE),\"\")","v":""},null,0,"","","","",{"$f":"IF(I207<>0,VLOOKUP(J207,A01A02!$A$3:$K$13,11,FALSE),\"\")","v":""},{"$f":"IF(I207<>0,VLOOKUP(J207,A01A02!A:J,10,0),\"\")","v":""}]
[null,0,"","","","",{"$f":"IF(B208<>0,VLOOKUP(C208,A01A02!$A$3:$K$13,11,FALSE),\"\")","v":""},null,0,"","","","",{"$f":"IF(I208<>0,VLOOKUP(J208,A01A02!$A$3:$K$13,11,FALSE),\"\")","v":""},{"$f":"IF(I208<>0,VLOOKUP(J208,A01A02!A:J,10,0),\"\")","v":""}]
[null,0,"","","","",{"$f":"IF(B209<>0,VLOOKUP(C209,A01A02!$A$3:$K$13,11,FALSE),\"\")","v":""},null,0,"","","","",{"$f":"IF(I209<>0,VLOOKUP(J209,A01A02!$A$3:$K$13,11,FALSE),\"\")","v":""},{"$f":"IF(I209<>0,VLOOKUP(J209,A01A02!A:J,10,0),\"\")","v":""}]
[null,0,"","","","",{"$f":"IF(B210<>0,VLOOKUP(C210,A01A02!$A$3:$K$13,11,FALSE),\"\")","v":""},null,0,"","","","",{"$f":"IF(I210<>0,VLOOKUP(J210,A01A02!$A$3:$K$13,11,FALSE),\"\")","v":""},{"$f":"IF(I210<>0,VLOOKUP(J210,A01A02!A:J,10,0),\"\")","v":""}]
[null,0,"","","","",{"$f":"IF(B211<>0,VLOOKUP(C211,A01A02!$A$3:$K$13,11,FALSE),\"\")","v":""},null,0,"","","","",{"$f":"IF(I211<>0,VLOOKUP(J211,A01A02!$A$3:$K$13,11,FALSE),\"\")","v":""},{"$f":"IF(I211<>0,VLOOKUP(J211,A01A02!A:J,10,0),\"\")","v":""}]
[null,0,"","","","",{"$f":"IF(B212<>0,VLOOKUP(C212,A01A02!$A$3:$K$13,11,FALSE),\"\")","v":""},null,0,"","","","",{"$f":"IF(I212<>0,VLOOKUP(J212,A01A02!$A$3:$K$13,11,FALSE),\"\")","v":""},{"$f":"IF(I212<>0,VLOOKUP(J212,A01A02!A:J,10,0),\"\")","v":""}]
[null,0,"","","","",{"$f":"IF(B213<>0,VLOOKUP(C213,A01A02!$A$3:$K$13,11,FALSE),\"\")","v":""},null,0,"","","","",{"$f":"IF(I213<>0,VLOOKUP(J213,A01A02!$A$3:$K$13,11,FALSE),\"\")","v":""},{"$f":"IF(I213<>0,VLOOKUP(J213,A01A02!A:J,10,0),\"\")","v":""}]
[null,0,"","","","",{"$f":"IF(B214<>0,VLOOKUP(C214,A01A02!$A$3:$K$13,11,FALSE),\"\")","v":""},null,0,"","","","",{"$f":"IF(I214<>0,VLOOKUP(J214,A01A02!$A$3:$K$13,11,FALSE),\"\")","v":""},{"$f":"IF(I214<>0,VLOOKUP(J214,A01A02!A:J,10,0),\"\")","v":""}]
[null,0,"","","","",{"$f":"IF(B215<>0,VLOOKUP(C215,A01A02!$A$3:$K$13,11,FALSE),\"\")","v":""},null,0,"","","","",{"$f":"IF(I215<>0,VLOOKUP(J215,A01A02!$A$3:$K$13,11,FALSE),\"\")","v":""},{"$f":"IF(I215<>0,VLOOKUP(J215,A01A02!A:J,10,0),\"\")","v":""}]
[null,0,"","","","",{"$f":"IF(B216<>0,VLOOKUP(C216,A01A02!$A$3:$K$13,11,FALSE),\"\")","v":""},null,0,"","","","",{"$f":"IF(I216<>0,VLOOKUP(J216,A01A02!$A$3:$K$13,11,FALSE),\"\")","v":""},{"$f":"IF(I216<>0,VLOOKUP(J216,A01A02!A:J,10,0),\"\")","v":""}]
[null,0,"","","","",{"$f":"IF(B217<>0,VLOOKUP(C217,A01A02!$A$3:$K$13,11,FALSE),\"\")","v":""},null,0,"","","","",{"$f":"IF(I217<>0,VLOOKUP(J217,A01A02!$A$3:$K$13,11,FALSE),\"\")","v":""},{"$f":"IF(I217<>0,VLOOKUP(J217,A01A02!A:J,10,0),\"\")","v":""}]
[null,0,"","","","",{"$f":"IF(B218<>0,VLOOKUP(C218,A01A02!$A$3:$K$13,11,FALSE),\"\")","v":""},null,0,"","","","",{"$f":"IF(I218<>0,VLOOKUP(J218,A01A02!$A$3:$K$13,11,FALSE),\"\")","v":""},{"$f":"IF(I218<>0,VLOOKUP(J218,A01A02!A:J,10,0),\"\")","v":""}]
[null,0,"","","","",{"$f":"IF(B219<>0,VLOOKUP(C219,A01A02!$A$3:$K$13,11,FALSE),\"\")","v":""},null,0,"","","","",{"$f":"IF(I219<>0,VLOOKUP(J219,A01A02!$A$3:$K$13,11,FALSE),\"\")","v":""},{"$f":"IF(I219<>0,VLOOKUP(J219,A01A02!A:J,10,0),\"\")","v":""}]
[null,0,"","","","",{"$f":"IF(B220<>0,VLOOKUP(C220,A01A02!$A$3:$K$13,11,FALSE),\"\")","v":""},null,0,"","","","",{"$f":"IF(I220<>0,VLOOKUP(J220,A01A02!$A$3:$K$13,11,FALSE),\"\")","v":""},{"$f":"IF(I220<>0,VLOOKUP(J220,A01A02!A:J,10,0),\"\")","v":""}]
[null,0,"","","","",{"$f":"IF(B221<>0,VLOOKUP(C221,A01A02!$A$3:$K$13,11,FALSE),\"\")","v":""},null,0,"","","","",{"$f":"IF(I221<>0,VLOOKUP(J221,A01A02!$A$3:$K$13,11,FALSE),\"\")","v":""},{"$f":"IF(I221<>0,VLOOKUP(J221,A01A02!A:J,10,0),\"\")","v":""}]
[null,0,"","","","",{"$f":"IF(B222<>0,VLOOKUP(C222,A01A02!$A$3:$K$13,11,FALSE),\"\")","v":""},null,0,"","","","",{"$f":"IF(I222<>0,VLOOKUP(J222,A01A02!$A$3:$K$13,11,FALSE),\"\")","v":""},{"$f":"IF(I222<>0,VLOOKUP(J222,A01A02!A:J,10,0),\"\")","v":""}]
[null,0,"","","","",{"$f":"IF(B223<>0,VLOOKUP(C223,A01A02!$A$3:$K$13,11,FALSE),\"\")","v":""},null,0,"","","","",{"$f":"IF(I223<>0,VLOOKUP(J223,A01A02!$A$3:$K$13,11,FALSE),\"\")","v":""},{"$f":"IF(I223<>0,VLOOKUP(J223,A01A02!A:J,10,0),\"\")","v":""}]
[null,0,"","","","",{"$f":"IF(B224<>0,VLOOKUP(C224,A01A02!$A$3:$K$13,11,FALSE),\"\")","v":""},null,0,"","","","",{"$f":"IF(I224<>0,VLOOKUP(J224,A01A02!$A$3:$K$13,11,FALSE),\"\")","v":""},{"$f":"IF(I224<>0,VLOOKUP(J224,A01A02!A:J,10,0),\"\")","v":""}]
[null,0,"","","","",{"$f":"IF(B225<>0,VLOOKUP(C225,A01A02!$A$3:$K$13,11,FALSE),\"\")","v":""},null,0,"","","","",{"$f":"IF(I225<>0,VLOOKUP(J225,A01A02!$A$3:$K$13,11,FALSE),\"\")","v":""},{"$f":"IF(I225<>0,VLOOKUP(J225,A01A02!A:J,10,0),\"\")","v":""}]
[null,0,"","","","",{"$f":"IF(B226<>0,VLOOKUP(C226,A01A02!$A$3:$K$13,11,FALSE),\"\")","v":""},null,0,"","","","",{"$f":"IF(I226<>0,VLOOKUP(J226,A01A02!$A$3:$K$13,11,FALSE),\"\")","v":""},{"$f":"IF(I226<>0,VLOOKUP(J226,A01A02!A:J,10,0),\"\")","v":""}]
[null,0,"","","","",{"$f":"IF(B227<>0,VLOOKUP(C227,A01A02!$A$3:$K$13,11,FALSE),\"\")","v":""},null,0,"","","","",{"$f":"IF(I227<>0,VLOOKUP(J227,A01A02!$A$3:$K$13,11,FALSE),\"\")","v":""},{"$f":"IF(I227<>0,VLOOKUP(J227,A01A02!A:J,10,0),\"\")","v":""}]
[null,0,"","","","",{"$f":"IF(B228<>0,VLOOKUP(C228,A01A02!$A$3:$K$13,11,FALSE),\"\")","v":""},null,0,"","","","",{"$f":"IF(I228<>0,VLOOKUP(J228,A01A02!$A$3:$K$13,11,FALSE),\"\")","v":""},{"$f":"IF(I228<>0,VLOOKUP(J228,A01A02!A:J,10,0),\"\")","v":""}]
[null,0,"",{"$f":"IF(B229<>0,znaget(B229),\"\")","v":""},{"$f":"IF(B229<>0,xget(B229),\"\")","v":""},{"$f":"IF(B229<>0,yget(B229),\"\")","v":""},{"$f":"IF(B229<>0,VLOOKUP(C229,A01A02!$A$3:$K$13,11,FALSE),\"\")","v":""},null,0,"",{"$f":"IF(I229<>0,znaget(I229),\"\")","v":""},{"$f":"IF(I229<>0,xget(I229),\"\")","v":""},{"$f":"IF(I229<>0,yget(I229),\"\")","v":""},{"$f":"IF(I229<>0,VLOOKUP(J229,A01A02!$A$3:$K$13,11,FALSE),\"\")","v":""},{"$f":"IF(I229<>0,VLOOKUP(J229,A01A02!A:J,10,0),\"\")","v":""}]
[null,0,"","","","",{"$f":"IF(B230<>0,VLOOKUP(C230,A01A02!$A$3:$K$13,11,FALSE),\"\")","v":""},null,0,"","","","",{"$f":"IF(I230<>0,VLOOKUP(J230,A01A02!$A$3:$K$13,11,FALSE),\"\")","v":""},{"$f":"IF(I230<>0,VLOOKUP(J230,A01A02!A:J,10,0),\"\")","v":""}]
[null,0,"","","","",{"$f":"IF(B231<>0,VLOOKUP(C231,A01A02!$A$3:$K$13,11,FALSE),\"\")","v":""},null,0,"","","","",{"$f":"IF(I231<>0,VLOOKUP(J231,A01A02!$A$3:$K$13,11,FALSE),\"\")","v":""},{"$f":"IF(I231<>0,VLOOKUP(J231,A01A02!A:J,10,0),\"\")","v":""}]
[null,0,"","","","",{"$f":"IF(B232<>0,VLOOKUP(C232,A01A02!$A$3:$K$13,11,FALSE),\"\")","v":""},null,0,"","","","",{"$f":"IF(I232<>0,VLOOKUP(J232,A01A02!$A$3:$K$13,11,FALSE),\"\")","v":""},{"$f":"IF(I232<>0,VLOOKUP(J232,A01A02!A:J,10,0),\"\")","v":""}]
[null,0,"","","","",{"$f":"IF(B233<>0,VLOOKUP(C233,A01A02!$A$3:$K$13,11,FALSE),\"\")","v":""},null,0,"","","","",{"$f":"IF(I233<>0,VLOOKUP(J233,A01A02!$A$3:$K$13,11,FALSE),\"\")","v":""},{"$f":"IF(I233<>0,VLOOKUP(J233,A01A02!A:J,10,0),\"\")","v":""}]
[null,0,"","","","",{"$f":"IF(B234<>0,VLOOKUP(C234,A01A02!$A$3:$K$13,11,FALSE),\"\")","v":""},null,0,"","","","",{"$f":"IF(I234<>0,VLOOKUP(J234,A01A02!$A$3:$K$13,11,FALSE),\"\")","v":""},{"$f":"IF(I234<>0,VLOOKUP(J234,A01A02!A:J,10,0),\"\")","v":""}]
[null,0,"","","","",{"$f":"IF(B235<>0,VLOOKUP(C235,A01A02!$A$3:$K$13,11,FALSE),\"\")","v":""},null,0,"","","","",{"$f":"IF(I235<>0,VLOOKUP(J235,A01A02!$A$3:$K$13,11,FALSE),\"\")","v":""},{"$f":"IF(I235<>0,VLOOKUP(J235,A01A02!A:J,10,0),\"\")","v":""}]
[null,0,"","","","",{"$f":"IF(B236<>0,VLOOKUP(C236,A01A02!$A$3:$K$13,11,FALSE),\"\")","v":""},null,0,"","","","",{"$f":"IF(I236<>0,VLOOKUP(J236,A01A02!$A$3:$K$13,11,FALSE),\"\")","v":""},{"$f":"IF(I236<>0,VLOOKUP(J236,A01A02!A:J,10,0),\"\")","v":""}]
[null,0,"","","","",{"$f":"IF(B237<>0,VLOOKUP(C237,A01A02!$A$3:$K$13,11,FALSE),\"\")","v":""},null,0,"","","","",{"$f":"IF(I237<>0,VLOOKUP(J237,A01A02!$A$3:$K$13,11,FALSE),\"\")","v":""},{"$f":"IF(I237<>0,VLOOKUP(J237,A01A02!A:J,10,0),\"\")","v":""}]
[null,0,"","","","",{"$f":"IF(B238<>0,VLOOKUP(C238,A01A02!$A$3:$K$13,11,FALSE),\"\")","v":""},null,0,"","","","",{"$f":"IF(I238<>0,VLOOKUP(J238,A01A02!$A$3:$K$13,11,FALSE),\"\")","v":""},{"$f":"IF(I238<>0,VLOOKUP(J238,A01A02!A:J,10,0),\"\")","v":""}]
[null,0,"","","","",{"$f":"IF(B239<>0,VLOOKUP(C239,A01A02!$A$3:$K$13,11,FALSE),\"\")","v":""},null,0,"","","","",{"$f":"IF(I239<>0,VLOOKUP(J239,A01A02!$A$3:$K$13,11,FALSE),\"\")","v":""},{"$f":"IF(I239<>0,VLOOKUP(J239,A01A02!A:J,10,0),\"\")","v":""}]
[null,0,"","","","",{"$f":"IF(B240<>0,VLOOKUP(C240,A01A02!$A$3:$K$13,11,FALSE),\"\")","v":""},null,0,"","","","",{"$f":"IF(I240<>0,VLOOKUP(J240,A01A02!$A$3:$K$13,11,FALSE),\"\")","v":""},{"$f":"IF(I240<>0,VLOOKUP(J240,A01A02!A:J,10,0),\"\")","v":""}]
[null,0,"","","","",{"$f":"IF(B241<>0,VLOOKUP(C241,A01A02!$A$3:$K$13,11,FALSE),\"\")","v":""},null,0,"","","","",{"$f":"IF(I241<>0,VLOOKUP(J241,A01A02!$A$3:$K$13,11,FALSE),\"\")","v":""},{"$f":"IF(I241<>0,VLOOKUP(J241,A01A02!A:J,10,0),\"\")","v":""}]
[null,0,"","","","",{"$f":"IF(B242<>0,VLOOKUP(C242,A01A02!$A$3:$K$13,11,FALSE),\"\")","v":""},null,0,"","","","",{"$f":"IF(I242<>0,VLOOKUP(J242,A01A02!$A$3:$K$13,11,FALSE),\"\")","v":""},{"$f":"IF(I242<>0,VLOOKUP(J242,A01A02!A:J,10,0),\"\")","v":""}]
[null,0,"","","","",{"$f":"IF(B243<>0,VLOOKUP(C243,A01A02!$A$3:$K$13,11,FALSE),\"\")","v":""},null,0,"","","","",{"$f":"IF(I243<>0,VLOOKUP(J243,A01A02!$A$3:$K$13,11,FALSE),\"\")","v":""},{"$f":"IF(I243<>0,VLOOKUP(J243,A01A02!A:J,10,0),\"\")","v":""}]
[null,0,"","","","",{"$f":"IF(B244<>0,VLOOKUP(C244,A01A02!$A$3:$K$13,11,FALSE),\"\")","v":""},null,0,"","","","",{"$f":"IF(I244<>0,VLOOKUP(J244,A01A02!$A$3:$K$13,11,FALSE),\"\")","v":""},{"$f":"IF(I244<>0,VLOOKUP(J244,A01A02!A:J,10,0),\"\")","v":""}]
[null,0,"","","","",{"$f":"IF(B245<>0,VLOOKUP(C245,A01A02!$A$3:$K$13,11,FALSE),\"\")","v":""},null,0,"","","","",{"$f":"IF(I245<>0,VLOOKUP(J245,A01A02!$A$3:$K$13,11,FALSE),\"\")","v":""},{"$f":"IF(I245<>0,VLOOKUP(J245,A01A02!A:J,10,0),\"\")","v":""}]
[null,0,"","","","",{"$f":"IF(B246<>0,VLOOKUP(C246,A01A02!$A$3:$K$13,11,FALSE),\"\")","v":""},null,0,"","","","",{"$f":"IF(I246<>0,VLOOKUP(J246,A01A02!$A$3:$K$13,11,FALSE),\"\")","v":""},{"$f":"IF(I246<>0,VLOOKUP(J246,A01A02!A:J,10,0),\"\")","v":""}]
[null,0,"","","","",{"$f":"IF(B247<>0,VLOOKUP(C247,A01A02!$A$3:$K$13,11,FALSE),\"\")","v":""},null,0,"","","","",{"$f":"IF(I247<>0,VLOOKUP(J247,A01A02!$A$3:$K$13,11,FALSE),\"\")","v":""},{"$f":"IF(I247<>0,VLOOKUP(J247,A01A02!A:J,10,0),\"\")","v":""}]
[null,0,"","","","",{"$f":"IF(B248<>0,VLOOKUP(C248,A01A02!$A$3:$K$13,11,FALSE),\"\")","v":""},null,0,"","","","",{"$f":"IF(I248<>0,VLOOKUP(J248,A01A02!$A$3:$K$13,11,FALSE),\"\")","v":""},{"$f":"IF(I248<>0,VLOOKUP(J248,A01A02!A:J,10,0),\"\")","v":""}]
[null,0,"","","","",{"$f":"IF(B249<>0,VLOOKUP(C249,A01A02!$A$3:$K$13,11,FALSE),\"\")","v":""},null,0,"","","","",{"$f":"IF(I249<>0,VLOOKUP(J249,A01A02!$A$3:$K$13,11,FALSE),\"\")","v":""},{"$f":"IF(I249<>0,VLOOKUP(J249,A01A02!A:J,10,0),\"\")","v":""}]
[null,0,"","","","",{"$f":"IF(B250<>0,VLOOKUP(C250,A01A02!$A$3:$K$13,11,FALSE),\"\")","v":""},null,0,"","","","",{"$f":"IF(I250<>0,VLOOKUP(J250,A01A02!$A$3:$K$13,11,FALSE),\"\")","v":""},{"$f":"IF(I250<>0,VLOOKUP(J250,A01A02!A:J,10,0),\"\")","v":""}]
[null,0,"","","","",{"$f":"IF(B251<>0,VLOOKUP(C251,A01A02!$A$3:$K$13,11,FALSE),\"\")","v":""},null,0,"","","","",{"$f":"IF(I251<>0,VLOOKUP(J251,A01A02!$A$3:$K$13,11,FALSE),\"\")","v":""},{"$f":"IF(I251<>0,VLOOKUP(J251,A01A02!A:J,10,0),\"\")","v":""}]
[null,0,"","","","",{"$f":"IF(B252<>0,VLOOKUP(C252,A01A02!$A$3:$K$13,11,FALSE),\"\")","v":""},null,0,"","","","",{"$f":"IF(I252<>0,VLOOKUP(J252,A01A02!$A$3:$K$13,11,FALSE),\"\")","v":""},{"$f":"IF(I252<>0,VLOOKUP(J252,A01A02!A:J,10,0),\"\")","v":""}]
[null,0,"","","","",{"$f":"IF(B253<>0,VLOOKUP(C253,A01A02!$A$3:$K$13,11,FALSE),\"\")","v":""},null,0,"","","","",{"$f":"IF(I253<>0,VLOOKUP(J253,A01A02!$A$3:$K$13,11,FALSE),\"\")","v":""},{"$f":"IF(I253<>0,VLOOKUP(J253,A01A02!A:J,10,0),\"\")","v":""}]
[null,0,"","","","",{"$f":"IF(B254<>0,VLOOKUP(C254,A01A02!$A$3:$K$13,11,FALSE),\"\")","v":""},null,0,"","","","",{"$f":"IF(I254<>0,VLOOKUP(J254,A01A02!$A$3:$K$13,11,FALSE),\"\")","v":""},{"$f":"IF(I254<>0,VLOOKUP(J254,A01A02!A:J,10,0),\"\")","v":""}]
[null,0,"","","","",{"$f":"IF(B255<>0,VLOOKUP(C255,A01A02!$A$3:$K$13,11,FALSE),\"\")","v":""},null,0,"","","","",{"$f":"IF(I255<>0,VLOOKUP(J255,A01A02!$A$3:$K$13,11,FALSE),\"\")","v":""},{"$f":"IF(I255<>0,VLOOKUP(J255,A01A02!A:J,10,0),\"\")","v":""}]
[null,0,"","","","",{"$f":"IF(B256<>0,VLOOKUP(C256,A01A02!$A$3:$K$13,11,FALSE),\"\")","v":""},null,0,"","","","",{"$f":"IF(I256<>0,VLOOKUP(J256,A01A02!$A$3:$K$13,11,FALSE),\"\")","v":""},{"$f":"IF(I256<>0,VLOOKUP(J256,A01A02!A:J,10,0),\"\")","v":""}]
[null,0,"","","","",{"$f":"IF(B257<>0,VLOOKUP(C257,A01A02!$A$3:$K$13,11,FALSE),\"\")","v":""},null,0,"","","","",{"$f":"IF(I257<>0,VLOOKUP(J257,A01A02!$A$3:$K$13,11,FALSE),\"\")","v":""},{"$f":"IF(I257<>0,VLOOKUP(J257,A01A02!A:J,10,0),\"\")","v":""}]
[null,0,"","","","",{"$f":"IF(B258<>0,VLOOKUP(C258,A01A02!$A$3:$K$13,11,FALSE),\"\")","v":""},null,0,"","","","",{"$f":"IF(I258<>0,VLOOKUP(J258,A01A02!$A$3:$K$13,11,FALSE),\"\")","v":""},{"$f":"IF(I258<>0,VLOOKUP(J258,A01A02!A:J,10,0),\"\")","v":""}]
[null,{"$f":"IF(A259<>\"\",xycall(A259),0)","v":0},"","","","",{"$f":"IF(B259<>0,VLOOKUP(C259,A01A02!$A$3:$K$13,11,FALSE),\"\")","v":""},null,0,"","","","",{"$f":"IF(I259<>0,VLOOKUP(J259,A01A02!$A$3:$K$13,11,FALSE),\"\")","v":""},{"$f":"IF(I259<>0,VLOOKUP(J259,A01A02!A:J,10,0),\"\")","v":""}]
[null,0,{"$f":"IF(B260<>0,znoget(B260),\"\")","v":""},"","","",{"$f":"IF(B260<>0,VLOOKUP(C260,A01A02!$A$3:$K$13,11,FALSE),\"\")","v":""},null,{"$f":"IF(H260<>\"\",xycall(H260),0)","v":0},{"$f":"IF(I260<>0,znoget(I260),\"\")","v":""},"","","",{"$f":"IF(I260<>0,VLOOKUP(J260,A01A02!$A$3:$K$13,11,FALSE),\"\")","v":""},{"$f":"IF(I260<>0,VLOOKUP(J260,A01A02!A:J,10,0),\"\")","v":""}]
[null,0,"","","","",{"$f":"IF(B261<>0,VLOOKUP(C261,A01A02!$A$3:$K$13,11,FALSE),\"\")","v":""},null,0,"","","","",{"$f":"IF(I261<>0,VLOOKUP(J261,A01A02!$A$3:$K$13,11,FALSE),\"\")","v":""},{"$f":"IF(I261<>0,VLOOKUP(J261,A01A02!A:J,10,0),\"\")","v":""}]
[null,0,"","","","",{"$f":"IF(B262<>0,VLOOKUP(C262,A01A02!$A$3:$K$13,11,FALSE),\"\")","v":""},null,0,"","","","",{"$f":"IF(I262<>0,VLOOKUP(J262,A01A02!$A$3:$K$13,11,FALSE),\"\")","v":""},{"$f":"IF(I262<>0,VLOOKUP(J262,A01A02!A:J,10,0),\"\")","v":""}]
[null,0,"","","","",{"$f":"IF(B263<>0,VLOOKUP(C263,A01A02!$A$3:$K$13,11,FALSE),\"\")","v":""},null,0,"","","","",{"$f":"IF(I263<>0,VLOOKUP(J263,A01A02!$A$3:$K$13,11,FALSE),\"\")","v":""},{"$f":"IF(I263<>0,VLOOKUP(J263,A01A02!A:J,10,0),\"\")","v":""}]
[null,0,"","","","",{"$f":"IF(B264<>0,VLOOKUP(C264,A01A02!$A$3:$K$13,11,FALSE),\"\")","v":""},null,0,"","","","",{"$f":"IF(I264<>0,VLOOKUP(J264,A01A02!$A$3:$K$13,11,FALSE),\"\")","v":""},{"$f":"IF(I264<>0,VLOOKUP(J264,A01A02!A:J,10,0),\"\")","v":""}]
[null,0,"","","","",{"$f":"IF(B265<>0,VLOOKUP(C265,A01A02!$A$3:$K$13,11,FALSE),\"\")","v":""},null,0,"","","","",{"$f":"IF(I265<>0,VLOOKUP(J265,A01A02!$A$3:$K$13,11,FALSE),\"\")","v":""},{"$f":"IF(I265<>0,VLOOKUP(J265,A01A02!A:J,10,0),\"\")","v":""}]
[null,0,"","","","",{"$f":"IF(B266<>0,VLOOKUP(C266,A01A02!$A$3:$K$13,11,FALSE),\"\")","v":""},null,0,"","","","",{"$f":"IF(I266<>0,VLOOKUP(J266,A01A02!$A$3:$K$13,11,FALSE),\"\")","v":""},{"$f":"IF(I266<>0,VLOOKUP(J266,A01A02!A:J,10,0),\"\")","v":""}]
[null,0,"","","","",{"$f":"IF(B267<>0,VLOOKUP(C267,A01A02!$A$3:$K$13,11,FALSE),\"\")","v":""},null,0,"","","","",{"$f":"IF(I267<>0,VLOOKUP(J267,A01A02!$A$3:$K$13,11,FALSE),\"\")","v":""},{"$f":"IF(I267<>0,VLOOKUP(J267,A01A02!A:J,10,0),\"\")","v":""}]
[null,0,"","","","",{"$f":"IF(B268<>0,VLOOKUP(C268,A01A02!$A$3:$K$13,11,FALSE),\"\")","v":""},null,0,"","","","",{"$f":"IF(I268<>0,VLOOKUP(J268,A01A02!$A$3:$K$13,11,FALSE),\"\")","v":""},{"$f":"IF(I268<>0,VLOOKUP(J268,A01A02!A:J,10,0),\"\")","v":""}]
[null,0,"","","","",{"$f":"IF(B269<>0,VLOOKUP(C269,A01A02!$A$3:$K$13,11,FALSE),\"\")","v":""},null,0,"","","","",{"$f":"IF(I269<>0,VLOOKUP(J269,A01A02!$A$3:$K$13,11,FALSE),\"\")","v":""},{"$f":"IF(I269<>0,VLOOKUP(J269,A01A02!A:J,10,0),\"\")","v":""}]
[null,0,"","","","",{"$f":"IF(B270<>0,VLOOKUP(C270,A01A02!$A$3:$K$13,11,FALSE),\"\")","v":""},null,0,"","","","",{"$f":"IF(I270<>0,VLOOKUP(J270,A01A02!$A$3:$K$13,11,FALSE),\"\")","v":""},{"$f":"IF(I270<>0,VLOOKUP(J270,A01A02!A:J,10,0),\"\")","v":""}]
[null,0,"","","","",{"$f":"IF(B271<>0,VLOOKUP(C271,A01A02!$A$3:$K$13,11,FALSE),\"\")","v":""},null,0,"","","","",{"$f":"IF(I271<>0,VLOOKUP(J271,A01A02!$A$3:$K$13,11,FALSE),\"\")","v":""},{"$f":"IF(I271<>0,VLOOKUP(J271,A01A02!A:J,10,0),\"\")","v":""}]
[null,0,"","","","",{"$f":"IF(B272<>0,VLOOKUP(C272,A01A02!$A$3:$K$13,11,FALSE),\"\")","v":""},null,0,"","","","",{"$f":"IF(I272<>0,VLOOKUP(J272,A01A02!$A$3:$K$13,11,FALSE),\"\")","v":""},{"$f":"IF(I272<>0,VLOOKUP(J272,A01A02!A:J,10,0),\"\")","v":""}]
[null,0,"","","","",{"$f":"IF(B273<>0,VLOOKUP(C273,A01A02!$A$3:$K$13,11,FALSE),\"\")","v":""},null,0,"","","","",{"$f":"IF(I273<>0,VLOOKUP(J273,A01A02!$A$3:$K$13,11,FALSE),\"\")","v":""},{"$f":"IF(I273<>0,VLOOKUP(J273,A01A02!A:J,10,0),\"\")","v":""}]
[null,0,"","","","",{"$f":"IF(B274<>0,VLOOKUP(C274,A01A02!$A$3:$K$13,11,FALSE),\"\")","v":""},null,0,"","","","",{"$f":"IF(I274<>0,VLOOKUP(J274,A01A02!$A$3:$K$13,11,FALSE),\"\")","v":""},{"$f":"IF(I274<>0,VLOOKUP(J274,A01A02!A:J,10,0),\"\")","v":""}]
[null,0,"","","","",{"$f":"IF(B275<>0,VLOOKUP(C275,A01A02!$A$3:$K$13,11,FALSE),\"\")","v":""},null,0,"","","","",{"$f":"IF(I275<>0,VLOOKUP(J275,A01A02!$A$3:$K$13,11,FALSE),\"\")","v":""},{"$f":"IF(I275<>0,VLOOKUP(J275,A01A02!A:J,10,0),\"\")","v":""}]
[null,0,"","","","",{"$f":"IF(B276<>0,VLOOKUP(C276,A01A02!$A$3:$K$13,11,FALSE),\"\")","v":""},null,0,"","","","",{"$f":"IF(I276<>0,VLOOKUP(J276,A01A02!$A$3:$K$13,11,FALSE),\"\")","v":""},{"$f":"IF(I276<>0,VLOOKUP(J276,A01A02!A:J,10,0),\"\")","v":""}]
[null,0,"","","","",{"$f":"IF(B277<>0,VLOOKUP(C277,A01A02!$A$3:$K$13,11,FALSE),\"\")","v":""},null,0,"","","","",{"$f":"IF(I277<>0,VLOOKUP(J277,A01A02!$A$3:$K$13,11,FALSE),\"\")","v":""},{"$f":"IF(I277<>0,VLOOKUP(J277,A01A02!A:J,10,0),\"\")","v":""}]
[null,0,"","","","",{"$f":"IF(B278<>0,VLOOKUP(C278,A01A02!$A$3:$K$13,11,FALSE),\"\")","v":""},null,0,"","","","",{"$f":"IF(I278<>0,VLOOKUP(J278,A01A02!$A$3:$K$13,11,FALSE),\"\")","v":""},{"$f":"IF(I278<>0,VLOOKUP(J278,A01A02!A:J,10,0),\"\")","v":""}]
[null,0,"","","","",{"$f":"IF(B279<>0,VLOOKUP(C279,A01A02!$A$3:$K$13,11,FALSE),\"\")","v":""},null,0,"","","","",{"$f":"IF(I279<>0,VLOOKUP(J279,A01A02!$A$3:$K$13,11,FALSE),\"\")","v":""},{"$f":"IF(I279<>0,VLOOKUP(J279,A01A02!A:J,10,0),\"\")","v":""}]
[null,0,"","","","",{"$f":"IF(B280<>0,VLOOKUP(C280,A01A02!$A$3:$K$13,11,FALSE),\"\")","v":""},null,0,"","","","",{"$f":"IF(I280<>0,VLOOKUP(J280,A01A02!$A$3:$K$13,11,FALSE),\"\")","v":""},{"$f":"IF(I280<>0,VLOOKUP(J280,A01A02!A:J,10,0),\"\")","v":""}]
[null,0,"","","","",{"$f":"IF(B281<>0,VLOOKUP(C281,A01A02!$A$3:$K$13,11,FALSE),\"\")","v":""},null,0,"","","","",{"$f":"IF(I281<>0,VLOOKUP(J281,A01A02!$A$3:$K$13,11,FALSE),\"\")","v":""},{"$f":"IF(I281<>0,VLOOKUP(J281,A01A02!A:J,10,0),\"\")","v":""}]
[null,0,"","","","",{"$f":"IF(B282<>0,VLOOKUP(C282,A01A02!$A$3:$K$13,11,FALSE),\"\")","v":""},null,0,"","","","",{"$f":"IF(I282<>0,VLOOKUP(J282,A01A02!$A$3:$K$13,11,FALSE),\"\")","v":""},{"$f":"IF(I282<>0,VLOOKUP(J282,A01A02!A:J,10,0),\"\")","v":""}]
[null,0,"","","","",{"$f":"IF(B283<>0,VLOOKUP(C283,A01A02!$A$3:$K$13,11,FALSE),\"\")","v":""},null,0,"","","","",{"$f":"IF(I283<>0,VLOOKUP(J283,A01A02!$A$3:$K$13,11,FALSE),\"\")","v":""},{"$f":"IF(I283<>0,VLOOKUP(J283,A01A02!A:J,10,0),\"\")","v":""}]
[null,0,"","","","",{"$f":"IF(B284<>0,VLOOKUP(C284,A01A02!$A$3:$K$13,11,FALSE),\"\")","v":""},null,0,"","","","",{"$f":"IF(I284<>0,VLOOKUP(J284,A01A02!$A$3:$K$13,11,FALSE),\"\")","v":""},{"$f":"IF(I284<>0,VLOOKUP(J284,A01A02!A:J,10,0),\"\")","v":""}]
[null,0,"","","","",{"$f":"IF(B285<>0,VLOOKUP(C285,A01A02!$A$3:$K$13,11,FALSE),\"\")","v":""},null,0,"","","","",{"$f":"IF(I285<>0,VLOOKUP(J285,A01A02!$A$3:$K$13,11,FALSE),\"\")","v":""},{"$f":"IF(I285<>0,VLOOKUP(J285,A01A02!A:J,10,0),\"\")","v":""}]
[null,0,"","","","",{"$f":"IF(B286<>0,VLOOKUP(C286,A01A02!$A$3:$K$13,11,FALSE),\"\")","v":""},null,0,"","","","",{"$f":"IF(I286<>0,VLOOKUP(J286,A01A02!$A$3:$K$13,11,FALSE),\"\")","v":""},{"$f":"IF(I286<>0,VLOOKUP(J286,A01A02!A:J,10,0),\"\")","v":""}]
[null,0,"","","","",{"$f":"IF(B287<>0,VLOOKUP(C287,A01A02!$A$3:$K$13,11,FALSE),\"\")","v":""},null,0,"","","","",{"$f":"IF(I287<>0,VLOOKUP(J287,A01A02!$A$3:$K$13,11,FALSE),\"\")","v":""},{"$f":"IF(I287<>0,VLOOKUP(J287,A01A02!A:J,10,0),\"\")","v":""}]
[null,0,"","","","",{"$f":"IF(B288<>0,VLOOKUP(C288,A01A02!$A$3:$K$13,11,FALSE),\"\")","v":""},null,0,"","","","",{"$f":"IF(I288<>0,VLOOKUP(J288,A01A02!$A$3:$K$13,11,FALSE),\"\")","v":""},{"$f":"IF(I288<>0,VLOOKUP(J288,A01A02!A:J,10,0),\"\")","v":""}]
[null,0,"","","","",{"$f":"IF(B289<>0,VLOOKUP(C289,A01A02!$A$3:$K$13,11,FALSE),\"\")","v":""},null,0,"","","","",{"$f":"IF(I289<>0,VLOOKUP(J289,A01A02!$A$3:$K$13,11,FALSE),\"\")","v":""},{"$f":"IF(I289<>0,VLOOKUP(J289,A01A02!A:J,10,0),\"\")","v":""}]
[null,0,"","","","",{"$f":"IF(B290<>0,VLOOKUP(C290,A01A02!$A$3:$K$13,11,FALSE),\"\")","v":""},null,0,"","","","",{"$f":"IF(I290<>0,VLOOKUP(J290,A01A02!$A$3:$K$13,11,FALSE),\"\")","v":""},{"$f":"IF(I290<>0,VLOOKUP(J290,A01A02!A:J,10,0),\"\")","v":""}]
[null,0,"","","","",{"$f":"IF(B291<>0,VLOOKUP(C291,A01A02!$A$3:$K$13,11,FALSE),\"\")","v":""},null,0,"","","","",{"$f":"IF(I291<>0,VLOOKUP(J291,A01A02!$A$3:$K$13,11,FALSE),\"\")","v":""},{"$f":"IF(I291<>0,VLOOKUP(J291,A01A02!A:J,10,0),\"\")","v":""}]
[null,0,"","","","",{"$f":"IF(B292<>0,VLOOKUP(C292,A01A02!$A$3:$K$13,11,FALSE),\"\")","v":""},null,0,"","","","",{"$f":"IF(I292<>0,VLOOKUP(J292,A01A02!$A$3:$K$13,11,FALSE),\"\")","v":""},{"$f":"IF(I292<>0,VLOOKUP(J292,A01A02!A:J,10,0),\"\")","v":""}]
[null,0,"",{"$f":"IF(B293<>0,znaget(B293),\"\")","v":""},{"$f":"IF(B293<>0,xget(B293),\"\")","v":""},{"$f":"IF(B293<>0,yget(B293),\"\")","v":""},{"$f":"IF(B293<>0,VLOOKUP(C293,A01A02!$A$3:$K$13,11,FALSE),\"\")","v":""},null,0,"",{"$f":"IF(I293<>0,znaget(I293),\"\")","v":""},{"$f":"IF(I293<>0,xget(I293),\"\")","v":""},{"$f":"IF(I293<>0,yget(I293),\"\")","v":""},{"$f":"IF(I293<>0,VLOOKUP(J293,A01A02!$A$3:$K$13,11,FALSE),\"\")","v":""},{"$f":"IF(I293<>0,VLOOKUP(J293,A01A02!A:J,10,0),\"\")","v":""}]
[null,0,"","","","",{"$f":"IF(B294<>0,VLOOKUP(C294,A01A02!$A$3:$K$13,11,FALSE),\"\")","v":""},null,0,"","","","",{"$f":"IF(I294<>0,VLOOKUP(J294,A01A02!$A$3:$K$13,11,FALSE),\"\")","v":""},{"$f":"IF(I294<>0,VLOOKUP(J294,A01A02!A:J,10,0),\"\")","v":""}]
[null,0,"","","","",{"$f":"IF(B295<>0,VLOOKUP(C295,A01A02!$A$3:$K$13,11,FALSE),\"\")","v":""},null,0,"","","","",{"$f":"IF(I295<>0,VLOOKUP(J295,A01A02!$A$3:$K$13,11,FALSE),\"\")","v":""},{"$f":"IF(I295<>0,VLOOKUP(J295,A01A02!A:J,10,0),\"\")","v":""}]
[null,0,"","","","",{"$f":"IF(B296<>0,VLOOKUP(C296,A01A02!$A$3:$K$13,11,FALSE),\"\")","v":""},null,0,"","","","",{"$f":"IF(I296<>0,VLOOKUP(J296,A01A02!$A$3:$K$13,11,FALSE),\"\")","v":""},{"$f":"IF(I296<>0,VLOOKUP(J296,A01A02!A:J,10,0),\"\")","v":""}]
[null,0,"","","","",{"$f":"IF(B297<>0,VLOOKUP(C297,A01A02!$A$3:$K$13,11,FALSE),\"\")","v":""},null,0,"","","","",{"$f":"IF(I297<>0,VLOOKUP(J297,A01A02!$A$3:$K$13,11,FALSE),\"\")","v":""},{"$f":"IF(I297<>0,VLOOKUP(J297,A01A02!A:J,10,0),\"\")","v":""}]
[null,0,"","","","",{"$f":"IF(B298<>0,VLOOKUP(C298,A01A02!$A$3:$K$13,11,FALSE),\"\")","v":""},null,0,"","","","",{"$f":"IF(I298<>0,VLOOKUP(J298,A01A02!$A$3:$K$13,11,FALSE),\"\")","v":""},{"$f":"IF(I298<>0,VLOOKUP(J298,A01A02!A:J,10,0),\"\")","v":""}]
[null,0,"","","","",{"$f":"IF(B299<>0,VLOOKUP(C299,A01A02!$A$3:$K$13,11,FALSE),\"\")","v":""},null,0,"","","","",{"$f":"IF(I299<>0,VLOOKUP(J299,A01A02!$A$3:$K$13,11,FALSE),\"\")","v":""},{"$f":"IF(I299<>0,VLOOKUP(J299,A01A02!A:J,10,0),\"\")","v":""}]
[null,0,"","","","",{"$f":"IF(B300<>0,VLOOKUP(C300,A01A02!$A$3:$K$13,11,FALSE),\"\")","v":""},null,0,"","","","",{"$f":"IF(I300<>0,VLOOKUP(J300,A01A02!$A$3:$K$13,11,FALSE),\"\")","v":""},{"$f":"IF(I300<>0,VLOOKUP(J300,A01A02!A:J,10,0),\"\")","v":""}]
[null,0,"","","","",{"$f":"IF(B301<>0,VLOOKUP(C301,A01A02!$A$3:$K$13,11,FALSE),\"\")","v":""},null,0,"","","","",{"$f":"IF(I301<>0,VLOOKUP(J301,A01A02!$A$3:$K$13,11,FALSE),\"\")","v":""},{"$f":"IF(I301<>0,VLOOKUP(J301,A01A02!A:J,10,0),\"\")","v":""}]
[null,0,"","","","",{"$f":"IF(B302<>0,VLOOKUP(C302,A01A02!$A$3:$K$13,11,FALSE),\"\")","v":""},null,0,"","","","",{"$f":"IF(I302<>0,VLOOKUP(J302,A01A02!$A$3:$K$13,11,FALSE),\"\")","v":""},{"$f":"IF(I302<>0,VLOOKUP(J302,A01A02!A:J,10,0),\"\")","v":""}]
[null,0,"","","","",{"$f":"IF(B303<>0,VLOOKUP(C303,A01A02!$A$3:$K$13,11,FALSE),\"\")","v":""},null,0,"","","","",{"$f":"IF(I303<>0,VLOOKUP(J303,A01A02!$A$3:$K$13,11,FALSE),\"\")","v":""},{"$f":"IF(I303<>0,VLOOKUP(J303,A01A02!A:J,10,0),\"\")","v":""}]
[null,0,"","","","",{"$f":"IF(B304<>0,VLOOKUP(C304,A01A02!$A$3:$K$13,11,FALSE),\"\")","v":""},null,0,"","","","",{"$f":"IF(I304<>0,VLOOKUP(J304,A01A02!$A$3:$K$13,11,FALSE),\"\")","v":""},{"$f":"IF(I304<>0,VLOOKUP(J304,A01A02!A:J,10,0),\"\")","v":""}]
[null,0,"","","","",{"$f":"IF(B305<>0,VLOOKUP(C305,A01A02!$A$3:$K$13,11,FALSE),\"\")","v":""},null,0,"","","","",{"$f":"IF(I305<>0,VLOOKUP(J305,A01A02!$A$3:$K$13,11,FALSE),\"\")","v":""},{"$f":"IF(I305<>0,VLOOKUP(J305,A01A02!A:J,10,0),\"\")","v":""}]
[null,0,"","","","",{"$f":"IF(B306<>0,VLOOKUP(C306,A01A02!$A$3:$K$13,11,FALSE),\"\")","v":""},null,0,"","","","",{"$f":"IF(I306<>0,VLOOKUP(J306,A01A02!$A$3:$K$13,11,FALSE),\"\")","v":""},{"$f":"IF(I306<>0,VLOOKUP(J306,A01A02!A:J,10,0),\"\")","v":""}]
[null,0,"","","","",{"$f":"IF(B307<>0,VLOOKUP(C307,A01A02!$A$3:$K$13,11,FALSE),\"\")","v":""},null,0,"","","","",{"$f":"IF(I307<>0,VLOOKUP(J307,A01A02!$A$3:$K$13,11,FALSE),\"\")","v":""},{"$f":"IF(I307<>0,VLOOKUP(J307,A01A02!A:J,10,0),\"\")","v":""}]
[null,0,"","","","",{"$f":"IF(B308<>0,VLOOKUP(C308,A01A02!$A$3:$K$13,11,FALSE),\"\")","v":""},null,0,"","","","",{"$f":"IF(I308<>0,VLOOKUP(J308,A01A02!$A$3:$K$13,11,FALSE),\"\")","v":""},{"$f":"IF(I308<>0,VLOOKUP(J308,A01A02!A:J,10,0),\"\")","v":""}]
[null,0,"","","","",{"$f":"IF(B309<>0,VLOOKUP(C309,A01A02!$A$3:$K$13,11,FALSE),\"\")","v":""},null,0,"","","","",{"$f":"IF(I309<>0,VLOOKUP(J309,A01A02!$A$3:$K$13,11,FALSE),\"\")","v":""},{"$f":"IF(I309<>0,VLOOKUP(J309,A01A02!A:J,10,0),\"\")","v":""}]
[null,0,"","","","",{"$f":"IF(B310<>0,VLOOKUP(C310,A01A02!$A$3:$K$13,11,FALSE),\"\")","v":""},null,0,"","","","",{"$f":"IF(I310<>0,VLOOKUP(J310,A01A02!$A$3:$K$13,11,FALSE),\"\")","v":""},{"$f":"IF(I310<>0,VLOOKUP(J310,A01A02!A:J,10,0),\"\")","v":""}]
[null,0,"","","","",{"$f":"IF(B311<>0,VLOOKUP(C311,A01A02!$A$3:$K$13,11,FALSE),\"\")","v":""},null,0,"","","","",{"$f":"IF(I311<>0,VLOOKUP(J311,A01A02!$A$3:$K$13,11,FALSE),\"\")","v":""},{"$f":"IF(I311<>0,VLOOKUP(J311,A01A02!A:J,10,0),\"\")","v":""}]
[null,0,"","","","",{"$f":"IF(B312<>0,VLOOKUP(C312,A01A02!$A$3:$K$13,11,FALSE),\"\")","v":""},null,0,"","","","",{"$f":"IF(I312<>0,VLOOKUP(J312,A01A02!$A$3:$K$13,11,FALSE),\"\")","v":""},{"$f":"IF(I312<>0,VLOOKUP(J312,A01A02!A:J,10,0),\"\")","v":""}]
[null,0,"","","","",{"$f":"IF(B313<>0,VLOOKUP(C313,A01A02!$A$3:$K$13,11,FALSE),\"\")","v":""},null,0,"","","","",{"$f":"IF(I313<>0,VLOOKUP(J313,A01A02!$A$3:$K$13,11,FALSE),\"\")","v":""},{"$f":"IF(I313<>0,VLOOKUP(J313,A01A02!A:J,10,0),\"\")","v":""}]
[null,0,"","","","",{"$f":"IF(B314<>0,VLOOKUP(C314,A01A02!$A$3:$K$13,11,FALSE),\"\")","v":""},null,0,"","","","",{"$f":"IF(I314<>0,VLOOKUP(J314,A01A02!$A$3:$K$13,11,FALSE),\"\")","v":""},{"$f":"IF(I314<>0,VLOOKUP(J314,A01A02!A:J,10,0),\"\")","v":""}]
[null,0,"","","","",{"$f":"IF(B315<>0,VLOOKUP(C315,A01A02!$A$3:$K$13,11,FALSE),\"\")","v":""},null,0,"","","","",{"$f":"IF(I315<>0,VLOOKUP(J315,A01A02!$A$3:$K$13,11,FALSE),\"\")","v":""},{"$f":"IF(I315<>0,VLOOKUP(J315,A01A02!A:J,10,0),\"\")","v":""}]
[null,0,"","","","",{"$f":"IF(B316<>0,VLOOKUP(C316,A01A02!$A$3:$K$13,11,FALSE),\"\")","v":""},null,0,"","","","",{"$f":"IF(I316<>0,VLOOKUP(J316,A01A02!$A$3:$K$13,11,FALSE),\"\")","v":""},{"$f":"IF(I316<>0,VLOOKUP(J316,A01A02!A:J,10,0),\"\")","v":""}]
[null,0,"","","","",{"$f":"IF(B317<>0,VLOOKUP(C317,A01A02!$A$3:$K$13,11,FALSE),\"\")","v":""},null,0,"","","","",{"$f":"IF(I317<>0,VLOOKUP(J317,A01A02!$A$3:$K$13,11,FALSE),\"\")","v":""},{"$f":"IF(I317<>0,VLOOKUP(J317,A01A02!A:J,10,0),\"\")","v":""}]
[null,0,"","","","",{"$f":"IF(B318<>0,VLOOKUP(C318,A01A02!$A$3:$K$13,11,FALSE),\"\")","v":""},null,0,"","","","",{"$f":"IF(I318<>0,VLOOKUP(J318,A01A02!$A$3:$K$13,11,FALSE),\"\")","v":""},{"$f":"IF(I318<>0,VLOOKUP(J318,A01A02!A:J,10,0),\"\")","v":""}]
[null,0,"","","","",{"$f":"IF(B319<>0,VLOOKUP(C319,A01A02!$A$3:$K$13,11,FALSE),\"\")","v":""},null,0,"","","","",{"$f":"IF(I319<>0,VLOOKUP(J319,A01A02!$A$3:$K$13,11,FALSE),\"\")","v":""},{"$f":"IF(I319<>0,VLOOKUP(J319,A01A02!A:J,10,0),\"\")","v":""}]
[null,0,"","","","",{"$f":"IF(B320<>0,VLOOKUP(C320,A01A02!$A$3:$K$13,11,FALSE),\"\")","v":""},null,0,"","","","",{"$f":"IF(I320<>0,VLOOKUP(J320,A01A02!$A$3:$K$13,11,FALSE),\"\")","v":""},{"$f":"IF(I320<>0,VLOOKUP(J320,A01A02!A:J,10,0),\"\")","v":""}]
[null,0,"","","","",{"$f":"IF(B321<>0,VLOOKUP(C321,A01A02!$A$3:$K$13,11,FALSE),\"\")","v":""},null,0,"","","","",{"$f":"IF(I321<>0,VLOOKUP(J321,A01A02!$A$3:$K$13,11,FALSE),\"\")","v":""},{"$f":"IF(I321<>0,VLOOKUP(J321,A01A02!A:J,10,0),\"\")","v":""}]
[null,0,"","","","",{"$f":"IF(B322<>0,VLOOKUP(C322,A01A02!$A$3:$K$13,11,FALSE),\"\")","v":""},null,0,"","","","",{"$f":"IF(I322<>0,VLOOKUP(J322,A01A02!$A$3:$K$13,11,FALSE),\"\")","v":""},{"$f":"IF(I322<>0,VLOOKUP(J322,A01A02!A:J,10,0),\"\")","v":""}]
[null,{"$f":"IF(A323<>\"\",xycall(A323),0)","v":0},"","","","",{"$f":"IF(B323<>0,VLOOKUP(C323,A01A02!$A$3:$K$13,11,FALSE),\"\")","v":""},null,0,"","","","",{"$f":"IF(I323<>0,VLOOKUP(J323,A01A02!$A$3:$K$13,11,FALSE),\"\")","v":""},{"$f":"IF(I323<>0,VLOOKUP(J323,A01A02!A:J,10,0),\"\")","v":""}]
[null,0,{"$f":"IF(B324<>0,znoget(B324),\"\")","v":""},"","","",{"$f":"IF(B324<>0,VLOOKUP(C324,A01A02!$A$3:$K$13,11,FALSE),\"\")","v":""},null,{"$f":"IF(H324<>\"\",xycall(H324),0)","v":0},{"$f":"IF(I324<>0,znoget(I324),\"\")","v":""},"","","",{"$f":"IF(I324<>0,VLOOKUP(J324,A01A02!$A$3:$K$13,11,FALSE),\"\")","v":""},{"$f":"IF(I324<>0,VLOOKUP(J324,A01A02!A:J,10,0),\"\")","v":""}]
[null,0,"","","","",{"$f":"IF(B325<>0,VLOOKUP(C325,A01A02!$A$3:$K$13,11,FALSE),\"\")","v":""},null,0,"","","","",{"$f":"IF(I325<>0,VLOOKUP(J325,A01A02!$A$3:$K$13,11,FALSE),\"\")","v":""},{"$f":"IF(I325<>0,VLOOKUP(J325,A01A02!A:J,10,0),\"\")","v":""}]
[null,0,"","","","",{"$f":"IF(B326<>0,VLOOKUP(C326,A01A02!$A$3:$K$13,11,FALSE),\"\")","v":""},null,0,"","","","",{"$f":"IF(I326<>0,VLOOKUP(J326,A01A02!$A$3:$K$13,11,FALSE),\"\")","v":""},{"$f":"IF(I326<>0,VLOOKUP(J326,A01A02!A:J,10,0),\"\")","v":""}]
[null,0,"","","","",{"$f":"IF(B327<>0,VLOOKUP(C327,A01A02!$A$3:$K$13,11,FALSE),\"\")","v":""},null,0,"","","","",{"$f":"IF(I327<>0,VLOOKUP(J327,A01A02!$A$3:$K$13,11,FALSE),\"\")","v":""},{"$f":"IF(I327<>0,VLOOKUP(J327,A01A02!A:J,10,0),\"\")","v":""}]
[null,0,"","","","",{"$f":"IF(B328<>0,VLOOKUP(C328,A01A02!$A$3:$K$13,11,FALSE),\"\")","v":""},null,0,"","","","",{"$f":"IF(I328<>0,VLOOKUP(J328,A01A02!$A$3:$K$13,11,FALSE),\"\")","v":""},{"$f":"IF(I328<>0,VLOOKUP(J328,A01A02!A:J,10,0),\"\")","v":""}]
[null,0,"","","","",{"$f":"IF(B329<>0,VLOOKUP(C329,A01A02!$A$3:$K$13,11,FALSE),\"\")","v":""},null,0,"","","","",{"$f":"IF(I329<>0,VLOOKUP(J329,A01A02!$A$3:$K$13,11,FALSE),\"\")","v":""},{"$f":"IF(I329<>0,VLOOKUP(J329,A01A02!A:J,10,0),\"\")","v":""}]
[null,0,"","","","",{"$f":"IF(B330<>0,VLOOKUP(C330,A01A02!$A$3:$K$13,11,FALSE),\"\")","v":""},null,0,"","","","",{"$f":"IF(I330<>0,VLOOKUP(J330,A01A02!$A$3:$K$13,11,FALSE),\"\")","v":""},{"$f":"IF(I330<>0,VLOOKUP(J330,A01A02!A:J,10,0),\"\")","v":""}]
[null,0,"","","","",{"$f":"IF(B331<>0,VLOOKUP(C331,A01A02!$A$3:$K$13,11,FALSE),\"\")","v":""},null,0,"","","","",{"$f":"IF(I331<>0,VLOOKUP(J331,A01A02!$A$3:$K$13,11,FALSE),\"\")","v":""},{"$f":"IF(I331<>0,VLOOKUP(J331,A01A02!A:J,10,0),\"\")","v":""}]
[null,0,"","","","",{"$f":"IF(B332<>0,VLOOKUP(C332,A01A02!$A$3:$K$13,11,FALSE),\"\")","v":""},null,0,"","","","",{"$f":"IF(I332<>0,VLOOKUP(J332,A01A02!$A$3:$K$13,11,FALSE),\"\")","v":""},{"$f":"IF(I332<>0,VLOOKUP(J332,A01A02!A:J,10,0),\"\")","v":""}]
[null,0,"","","","",{"$f":"IF(B333<>0,VLOOKUP(C333,A01A02!$A$3:$K$13,11,FALSE),\"\")","v":""},null,0,"","","","",{"$f":"IF(I333<>0,VLOOKUP(J333,A01A02!$A$3:$K$13,11,FALSE),\"\")","v":""},{"$f":"IF(I333<>0,VLOOKUP(J333,A01A02!A:J,10,0),\"\")","v":""}]
[null,0,"","","","",{"$f":"IF(B334<>0,VLOOKUP(C334,A01A02!$A$3:$K$13,11,FALSE),\"\")","v":""},null,0,"","","","",{"$f":"IF(I334<>0,VLOOKUP(J334,A01A02!$A$3:$K$13,11,FALSE),\"\")","v":""},{"$f":"IF(I334<>0,VLOOKUP(J334,A01A02!A:J,10,0),\"\")","v":""}]
[null,0,"","","","",{"$f":"IF(B335<>0,VLOOKUP(C335,A01A02!$A$3:$K$13,11,FALSE),\"\")","v":""},null,0,"","","","",{"$f":"IF(I335<>0,VLOOKUP(J335,A01A02!$A$3:$K$13,11,FALSE),\"\")","v":""},{"$f":"IF(I335<>0,VLOOKUP(J335,A01A02!A:J,10,0),\"\")","v":""}]
[null,0,"","","","",{"$f":"IF(B336<>0,VLOOKUP(C336,A01A02!$A$3:$K$13,11,FALSE),\"\")","v":""},null,0,"","","","",{"$f":"IF(I336<>0,VLOOKUP(J336,A01A02!$A$3:$K$13,11,FALSE),\"\")","v":""},{"$f":"IF(I336<>0,VLOOKUP(J336,A01A02!A:J,10,0),\"\")","v":""}]
[null,0,"","","","",{"$f":"IF(B337<>0,VLOOKUP(C337,A01A02!$A$3:$K$13,11,FALSE),\"\")","v":""},null,0,"","","","",{"$f":"IF(I337<>0,VLOOKUP(J337,A01A02!$A$3:$K$13,11,FALSE),\"\")","v":""},{"$f":"IF(I337<>0,VLOOKUP(J337,A01A02!A:J,10,0),\"\")","v":""}]
[null,0,"","","","",{"$f":"IF(B338<>0,VLOOKUP(C338,A01A02!$A$3:$K$13,11,FALSE),\"\")","v":""},null,0,"","","","",{"$f":"IF(I338<>0,VLOOKUP(J338,A01A02!$A$3:$K$13,11,FALSE),\"\")","v":""},{"$f":"IF(I338<>0,VLOOKUP(J338,A01A02!A:J,10,0),\"\")","v":""}]
[null,0,"","","","",{"$f":"IF(B339<>0,VLOOKUP(C339,A01A02!$A$3:$K$13,11,FALSE),\"\")","v":""},null,0,"","","","",{"$f":"IF(I339<>0,VLOOKUP(J339,A01A02!$A$3:$K$13,11,FALSE),\"\")","v":""},{"$f":"IF(I339<>0,VLOOKUP(J339,A01A02!A:J,10,0),\"\")","v":""}]
[null,0,"","","","",{"$f":"IF(B340<>0,VLOOKUP(C340,A01A02!$A$3:$K$13,11,FALSE),\"\")","v":""},null,0,"","","","",{"$f":"IF(I340<>0,VLOOKUP(J340,A01A02!$A$3:$K$13,11,FALSE),\"\")","v":""},{"$f":"IF(I340<>0,VLOOKUP(J340,A01A02!A:J,10,0),\"\")","v":""}]
[null,0,"","","","",{"$f":"IF(B341<>0,VLOOKUP(C341,A01A02!$A$3:$K$13,11,FALSE),\"\")","v":""},null,0,"","","","",{"$f":"IF(I341<>0,VLOOKUP(J341,A01A02!$A$3:$K$13,11,FALSE),\"\")","v":""},{"$f":"IF(I341<>0,VLOOKUP(J341,A01A02!A:J,10,0),\"\")","v":""}]
[null,0,"","","","",{"$f":"IF(B342<>0,VLOOKUP(C342,A01A02!$A$3:$K$13,11,FALSE),\"\")","v":""},null,0,"","","","",{"$f":"IF(I342<>0,VLOOKUP(J342,A01A02!$A$3:$K$13,11,FALSE),\"\")","v":""},{"$f":"IF(I342<>0,VLOOKUP(J342,A01A02!A:J,10,0),\"\")","v":""}]
[null,0,"","","","",{"$f":"IF(B343<>0,VLOOKUP(C343,A01A02!$A$3:$K$13,11,FALSE),\"\")","v":""},null,0,"","","","",{"$f":"IF(I343<>0,VLOOKUP(J343,A01A02!$A$3:$K$13,11,FALSE),\"\")","v":""},{"$f":"IF(I343<>0,VLOOKUP(J343,A01A02!A:J,10,0),\"\")","v":""}]
[null,0,"","","","",{"$f":"IF(B344<>0,VLOOKUP(C344,A01A02!$A$3:$K$13,11,FALSE),\"\")","v":""},null,0,"","","","",{"$f":"IF(I344<>0,VLOOKUP(J344,A01A02!$A$3:$K$13,11,FALSE),\"\")","v":""},{"$f":"IF(I344<>0,VLOOKUP(J344,A01A02!A:J,10,0),\"\")","v":""}]
[null,0,"","","","",{"$f":"IF(B345<>0,VLOOKUP(C345,A01A02!$A$3:$K$13,11,FALSE),\"\")","v":""},null,0,"","","","",{"$f":"IF(I345<>0,VLOOKUP(J345,A01A02!$A$3:$K$13,11,FALSE),\"\")","v":""},{"$f":"IF(I345<>0,VLOOKUP(J345,A01A02!A:J,10,0),\"\")","v":""}]
[null,0,"","","","",{"$f":"IF(B346<>0,VLOOKUP(C346,A01A02!$A$3:$K$13,11,FALSE),\"\")","v":""},null,0,"","","","",{"$f":"IF(I346<>0,VLOOKUP(J346,A01A02!$A$3:$K$13,11,FALSE),\"\")","v":""},{"$f":"IF(I346<>0,VLOOKUP(J346,A01A02!A:J,10,0),\"\")","v":""}]
[null,0,"","","","",{"$f":"IF(B347<>0,VLOOKUP(C347,A01A02!$A$3:$K$13,11,FALSE),\"\")","v":""},null,0,"","","","",{"$f":"IF(I347<>0,VLOOKUP(J347,A01A02!$A$3:$K$13,11,FALSE),\"\")","v":""},{"$f":"IF(I347<>0,VLOOKUP(J347,A01A02!A:J,10,0),\"\")","v":""}]
[null,0,"","","","",{"$f":"IF(B348<>0,VLOOKUP(C348,A01A02!$A$3:$K$13,11,FALSE),\"\")","v":""},null,0,"","","","",{"$f":"IF(I348<>0,VLOOKUP(J348,A01A02!$A$3:$K$13,11,FALSE),\"\")","v":""},{"$f":"IF(I348<>0,VLOOKUP(J348,A01A02!A:J,10,0),\"\")","v":""}]
[null,0,"","","","",{"$f":"IF(B349<>0,VLOOKUP(C349,A01A02!$A$3:$K$13,11,FALSE),\"\")","v":""},null,0,"","","","",{"$f":"IF(I349<>0,VLOOKUP(J349,A01A02!$A$3:$K$13,11,FALSE),\"\")","v":""},{"$f":"IF(I349<>0,VLOOKUP(J349,A01A02!A:J,10,0),\"\")","v":""}]
[null,0,"","","","",{"$f":"IF(B350<>0,VLOOKUP(C350,A01A02!$A$3:$K$13,11,FALSE),\"\")","v":""},null,0,"","","","",{"$f":"IF(I350<>0,VLOOKUP(J350,A01A02!$A$3:$K$13,11,FALSE),\"\")","v":""},{"$f":"IF(I350<>0,VLOOKUP(J350,A01A02!A:J,10,0),\"\")","v":""}]
[null,0,"","","","",{"$f":"IF(B351<>0,VLOOKUP(C351,A01A02!$A$3:$K$13,11,FALSE),\"\")","v":""},null,0,"","","","",{"$f":"IF(I351<>0,VLOOKUP(J351,A01A02!$A$3:$K$13,11,FALSE),\"\")","v":""},{"$f":"IF(I351<>0,VLOOKUP(J351,A01A02!A:J,10,0),\"\")","v":""}]
[null,0,"","","","",{"$f":"IF(B352<>0,VLOOKUP(C352,A01A02!$A$3:$K$13,11,FALSE),\"\")","v":""},null,0,"","","","",{"$f":"IF(I352<>0,VLOOKUP(J352,A01A02!$A$3:$K$13,11,FALSE),\"\")","v":""},{"$f":"IF(I352<>0,VLOOKUP(J352,A01A02!A:J,10,0),\"\")","v":""}]
[null,0,"","","","",{"$f":"IF(B353<>0,VLOOKUP(C353,A01A02!$A$3:$K$13,11,FALSE),\"\")","v":""},null,0,"","","","",{"$f":"IF(I353<>0,VLOOKUP(J353,A01A02!$A$3:$K$13,11,FALSE),\"\")","v":""},{"$f":"IF(I353<>0,VLOOKUP(J353,A01A02!A:J,10,0),\"\")","v":""}]
[null,0,"","","","",{"$f":"IF(B354<>0,VLOOKUP(C354,A01A02!$A$3:$K$13,11,FALSE),\"\")","v":""},null,0,"","","","",{"$f":"IF(I354<>0,VLOOKUP(J354,A01A02!$A$3:$K$13,11,FALSE),\"\")","v":""},{"$f":"IF(I354<>0,VLOOKUP(J354,A01A02!A:J,10,0),\"\")","v":""}]
[null,0,"","","","",{"$f":"IF(B355<>0,VLOOKUP(C355,A01A02!$A$3:$K$13,11,FALSE),\"\")","v":""},null,0,"","","","",{"$f":"IF(I355<>0,VLOOKUP(J355,A01A02!$A$3:$K$13,11,FALSE),\"\")","v":""},{"$f":"IF(I355<>0,VLOOKUP(J355,A01A02!A:J,10,0),\"\")","v":""}]
[null,0,"","","","",{"$f":"IF(B356<>0,VLOOKUP(C356,A01A02!$A$3:$K$13,11,FALSE),\"\")","v":""},null,0,"","","","",{"$f":"IF(I356<>0,VLOOKUP(J356,A01A02!$A$3:$K$13,11,FALSE),\"\")","v":""},{"$f":"IF(I356<>0,VLOOKUP(J356,A01A02!A:J,10,0),\"\")","v":""}]
[null,0,"",{"$f":"IF(B357<>0,znaget(B357),\"\")","v":""},{"$f":"IF(B357<>0,xget(B357),\"\")","v":""},{"$f":"IF(B357<>0,yget(B357),\"\")","v":""},{"$f":"IF(B357<>0,VLOOKUP(C357,A01A02!$A$3:$K$13,11,FALSE),\"\")","v":""},null,0,"",{"$f":"IF(I357<>0,znaget(I357),\"\")","v":""},{"$f":"IF(I357<>0,xget(I357),\"\")","v":""},{"$f":"IF(I357<>0,yget(I357),\"\")","v":""},{"$f":"IF(I357<>0,VLOOKUP(J357,A01A02!$A$3:$K$13,11,FALSE),\"\")","v":""},{"$f":"IF(I357<>0,VLOOKUP(J357,A01A02!A:J,10,0),\"\")","v":""}]
[null,0,"","","","",{"$f":"IF(B358<>0,VLOOKUP(C358,A01A02!$A$3:$K$13,11,FALSE),\"\")","v":""},null,0,"","","","",{"$f":"IF(I358<>0,VLOOKUP(J358,A01A02!$A$3:$K$13,11,FALSE),\"\")","v":""},{"$f":"IF(I358<>0,VLOOKUP(J358,A01A02!A:J,10,0),\"\")","v":""}]
[null,0,"","","","",{"$f":"IF(B359<>0,VLOOKUP(C359,A01A02!$A$3:$K$13,11,FALSE),\"\")","v":""},null,0,"","","","",{"$f":"IF(I359<>0,VLOOKUP(J359,A01A02!$A$3:$K$13,11,FALSE),\"\")","v":""},{"$f":"IF(I359<>0,VLOOKUP(J359,A01A02!A:J,10,0),\"\")","v":""}]
[null,0,"","","","",{"$f":"IF(B360<>0,VLOOKUP(C360,A01A02!$A$3:$K$13,11,FALSE),\"\")","v":""},null,0,"","","","",{"$f":"IF(I360<>0,VLOOKUP(J360,A01A02!$A$3:$K$13,11,FALSE),\"\")","v":""},{"$f":"IF(I360<>0,VLOOKUP(J360,A01A02!A:J,10,0),\"\")","v":""}]
[null,0,"","","","",{"$f":"IF(B361<>0,VLOOKUP(C361,A01A02!$A$3:$K$13,11,FALSE),\"\")","v":""},null,0,"","","","",{"$f":"IF(I361<>0,VLOOKUP(J361,A01A02!$A$3:$K$13,11,FALSE),\"\")","v":""},{"$f":"IF(I361<>0,VLOOKUP(J361,A01A02!A:J,10,0),\"\")","v":""}]
[null,0,"","","","",{"$f":"IF(B362<>0,VLOOKUP(C362,A01A02!$A$3:$K$13,11,FALSE),\"\")","v":""},null,0,"","","","",{"$f":"IF(I362<>0,VLOOKUP(J362,A01A02!$A$3:$K$13,11,FALSE),\"\")","v":""},{"$f":"IF(I362<>0,VLOOKUP(J362,A01A02!A:J,10,0),\"\")","v":""}]
[null,0,"","","","",{"$f":"IF(B363<>0,VLOOKUP(C363,A01A02!$A$3:$K$13,11,FALSE),\"\")","v":""},null,0,"","","","",{"$f":"IF(I363<>0,VLOOKUP(J363,A01A02!$A$3:$K$13,11,FALSE),\"\")","v":""},{"$f":"IF(I363<>0,VLOOKUP(J363,A01A02!A:J,10,0),\"\")","v":""}]
[null,0,"","","","",{"$f":"IF(B364<>0,VLOOKUP(C364,A01A02!$A$3:$K$13,11,FALSE),\"\")","v":""},null,0,"","","","",{"$f":"IF(I364<>0,VLOOKUP(J364,A01A02!$A$3:$K$13,11,FALSE),\"\")","v":""},{"$f":"IF(I364<>0,VLOOKUP(J364,A01A02!A:J,10,0),\"\")","v":""}]
[null,0,"","","","",{"$f":"IF(B365<>0,VLOOKUP(C365,A01A02!$A$3:$K$13,11,FALSE),\"\")","v":""},null,0,"","","","",{"$f":"IF(I365<>0,VLOOKUP(J365,A01A02!$A$3:$K$13,11,FALSE),\"\")","v":""},{"$f":"IF(I365<>0,VLOOKUP(J365,A01A02!A:J,10,0),\"\")","v":""}]
[null,0,"","","","",{"$f":"IF(B366<>0,VLOOKUP(C366,A01A02!$A$3:$K$13,11,FALSE),\"\")","v":""},null,0,"","","","",{"$f":"IF(I366<>0,VLOOKUP(J366,A01A02!$A$3:$K$13,11,FALSE),\"\")","v":""},{"$f":"IF(I366<>0,VLOOKUP(J366,A01A02!A:J,10,0),\"\")","v":""}]
[null,0,"","","","",{"$f":"IF(B367<>0,VLOOKUP(C367,A01A02!$A$3:$K$13,11,FALSE),\"\")","v":""},null,0,"","","","",{"$f":"IF(I367<>0,VLOOKUP(J367,A01A02!$A$3:$K$13,11,FALSE),\"\")","v":""},{"$f":"IF(I367<>0,VLOOKUP(J367,A01A02!A:J,10,0),\"\")","v":""}]
[null,0,"","","","",{"$f":"IF(B368<>0,VLOOKUP(C368,A01A02!$A$3:$K$13,11,FALSE),\"\")","v":""},null,0,"","","","",{"$f":"IF(I368<>0,VLOOKUP(J368,A01A02!$A$3:$K$13,11,FALSE),\"\")","v":""},{"$f":"IF(I368<>0,VLOOKUP(J368,A01A02!A:J,10,0),\"\")","v":""}]
[null,0,"","","","",{"$f":"IF(B369<>0,VLOOKUP(C369,A01A02!$A$3:$K$13,11,FALSE),\"\")","v":""},null,0,"","","","",{"$f":"IF(I369<>0,VLOOKUP(J369,A01A02!$A$3:$K$13,11,FALSE),\"\")","v":""},{"$f":"IF(I369<>0,VLOOKUP(J369,A01A02!A:J,10,0),\"\")","v":""}]
[null,0,"","","","",{"$f":"IF(B370<>0,VLOOKUP(C370,A01A02!$A$3:$K$13,11,FALSE),\"\")","v":""},null,0,"","","","",{"$f":"IF(I370<>0,VLOOKUP(J370,A01A02!$A$3:$K$13,11,FALSE),\"\")","v":""},{"$f":"IF(I370<>0,VLOOKUP(J370,A01A02!A:J,10,0),\"\")","v":""}]
[null,0,"","","","",{"$f":"IF(B371<>0,VLOOKUP(C371,A01A02!$A$3:$K$13,11,FALSE),\"\")","v":""},null,0,"","","","",{"$f":"IF(I371<>0,VLOOKUP(J371,A01A02!$A$3:$K$13,11,FALSE),\"\")","v":""},{"$f":"IF(I371<>0,VLOOKUP(J371,A01A02!A:J,10,0),\"\")","v":""}]
[null,0,"","","","",{"$f":"IF(B372<>0,VLOOKUP(C372,A01A02!$A$3:$K$13,11,FALSE),\"\")","v":""},null,0,"","","","",{"$f":"IF(I372<>0,VLOOKUP(J372,A01A02!$A$3:$K$13,11,FALSE),\"\")","v":""},{"$f":"IF(I372<>0,VLOOKUP(J372,A01A02!A:J,10,0),\"\")","v":""}]
[null,0,"","","","",{"$f":"IF(B373<>0,VLOOKUP(C373,A01A02!$A$3:$K$13,11,FALSE),\"\")","v":""},null,0,"","","","",{"$f":"IF(I373<>0,VLOOKUP(J373,A01A02!$A$3:$K$13,11,FALSE),\"\")","v":""},{"$f":"IF(I373<>0,VLOOKUP(J373,A01A02!A:J,10,0),\"\")","v":""}]
[null,0,"","","","",{"$f":"IF(B374<>0,VLOOKUP(C374,A01A02!$A$3:$K$13,11,FALSE),\"\")","v":""},null,0,"","","","",{"$f":"IF(I374<>0,VLOOKUP(J374,A01A02!$A$3:$K$13,11,FALSE),\"\")","v":""},{"$f":"IF(I374<>0,VLOOKUP(J374,A01A02!A:J,10,0),\"\")","v":""}]
[null,0,"","","","",{"$f":"IF(B375<>0,VLOOKUP(C375,A01A02!$A$3:$K$13,11,FALSE),\"\")","v":""},null,0,"","","","",{"$f":"IF(I375<>0,VLOOKUP(J375,A01A02!$A$3:$K$13,11,FALSE),\"\")","v":""},{"$f":"IF(I375<>0,VLOOKUP(J375,A01A02!A:J,10,0),\"\")","v":""}]
[null,0,"","","","",{"$f":"IF(B376<>0,VLOOKUP(C376,A01A02!$A$3:$K$13,11,FALSE),\"\")","v":""},null,0,"","","","",{"$f":"IF(I376<>0,VLOOKUP(J376,A01A02!$A$3:$K$13,11,FALSE),\"\")","v":""},{"$f":"IF(I376<>0,VLOOKUP(J376,A01A02!A:J,10,0),\"\")","v":""}]
[null,0,"","","","",{"$f":"IF(B377<>0,VLOOKUP(C377,A01A02!$A$3:$K$13,11,FALSE),\"\")","v":""},null,0,"","","","",{"$f":"IF(I377<>0,VLOOKUP(J377,A01A02!$A$3:$K$13,11,FALSE),\"\")","v":""},{"$f":"IF(I377<>0,VLOOKUP(J377,A01A02!A:J,10,0),\"\")","v":""}]
[null,0,"","","","",{"$f":"IF(B378<>0,VLOOKUP(C378,A01A02!$A$3:$K$13,11,FALSE),\"\")","v":""},null,0,"","","","",{"$f":"IF(I378<>0,VLOOKUP(J378,A01A02!$A$3:$K$13,11,FALSE),\"\")","v":""},{"$f":"IF(I378<>0,VLOOKUP(J378,A01A02!A:J,10,0),\"\")","v":""}]
[null,0,"","","","",{"$f":"IF(B379<>0,VLOOKUP(C379,A01A02!$A$3:$K$13,11,FALSE),\"\")","v":""},null,0,"","","","",{"$f":"IF(I379<>0,VLOOKUP(J379,A01A02!$A$3:$K$13,11,FALSE),\"\")","v":""},{"$f":"IF(I379<>0,VLOOKUP(J379,A01A02!A:J,10,0),\"\")","v":""}]
[null,0,"","","","",{"$f":"IF(B380<>0,VLOOKUP(C380,A01A02!$A$3:$K$13,11,FALSE),\"\")","v":""},null,0,"","","","",{"$f":"IF(I380<>0,VLOOKUP(J380,A01A02!$A$3:$K$13,11,FALSE),\"\")","v":""},{"$f":"IF(I380<>0,VLOOKUP(J380,A01A02!A:J,10,0),\"\")","v":""}]
[null,0,"","","","",{"$f":"IF(B381<>0,VLOOKUP(C381,A01A02!$A$3:$K$13,11,FALSE),\"\")","v":""},null,0,"","","","",{"$f":"IF(I381<>0,VLOOKUP(J381,A01A02!$A$3:$K$13,11,FALSE),\"\")","v":""},{"$f":"IF(I381<>0,VLOOKUP(J381,A01A02!A:J,10,0),\"\")","v":""}]
[null,0,"","","","",{"$f":"IF(B382<>0,VLOOKUP(C382,A01A02!$A$3:$K$13,11,FALSE),\"\")","v":""},null,0,"","","","",{"$f":"IF(I382<>0,VLOOKUP(J382,A01A02!$A$3:$K$13,11,FALSE),\"\")","v":""},{"$f":"IF(I382<>0,VLOOKUP(J382,A01A02!A:J,10,0),\"\")","v":""}]
[null,0,"","","","",{"$f":"IF(B383<>0,VLOOKUP(C383,A01A02!$A$3:$K$13,11,FALSE),\"\")","v":""},null,0,"","","","",{"$f":"IF(I383<>0,VLOOKUP(J383,A01A02!$A$3:$K$13,11,FALSE),\"\")","v":""},{"$f":"IF(I383<>0,VLOOKUP(J383,A01A02!A:J,10,0),\"\")","v":""}]
[null,0,"","","","",{"$f":"IF(B384<>0,VLOOKUP(C384,A01A02!$A$3:$K$13,11,FALSE),\"\")","v":""},null,0,"","","","",{"$f":"IF(I384<>0,VLOOKUP(J384,A01A02!$A$3:$K$13,11,FALSE),\"\")","v":""},{"$f":"IF(I384<>0,VLOOKUP(J384,A01A02!A:J,10,0),\"\")","v":""}]
[null,0,"","","","",{"$f":"IF(B385<>0,VLOOKUP(C385,A01A02!$A$3:$K$13,11,FALSE),\"\")","v":""},null,0,"","","","",{"$f":"IF(I385<>0,VLOOKUP(J385,A01A02!$A$3:$K$13,11,FALSE),\"\")","v":""},{"$f":"IF(I385<>0,VLOOKUP(J385,A01A02!A:J,10,0),\"\")","v":""}]
[null,0,"","","","",{"$f":"IF(B386<>0,VLOOKUP(C386,A01A02!$A$3:$K$13,11,FALSE),\"\")","v":""},null,0,"","","","",{"$f":"IF(I386<>0,VLOOKUP(J386,A01A02!$A$3:$K$13,11,FALSE),\"\")","v":""},{"$f":"IF(I386<>0,VLOOKUP(J386,A01A02!A:J,10,0),\"\")","v":""}]
[null,{"$f":"IF(A387<>\"\",xycall(A387),0)","v":0},"","","","",{"$f":"IF(B387<>0,VLOOKUP(C387,A01A02!$A$3:$K$13,11,FALSE),\"\")","v":""},null,0,"","","","",{"$f":"IF(I387<>0,VLOOKUP(J387,A01A02!$A$3:$K$13,11,FALSE),\"\")","v":""},{"$f":"IF(I387<>0,VLOOKUP(J387,A01A02!A:J,10,0),\"\")","v":""}]
[null,0,{"$f":"IF(B388<>0,znoget(B388),\"\")","v":""},"","","",{"$f":"IF(B388<>0,VLOOKUP(C388,A01A02!$A$3:$K$13,11,FALSE),\"\")","v":""},null,{"$f":"IF(H388<>\"\",xycall(H388),0)","v":0},{"$f":"IF(I388<>0,znoget(I388),\"\")","v":""},"","","",{"$f":"IF(I388<>0,VLOOKUP(J388,A01A02!$A$3:$K$13,11,FALSE),\"\")","v":""},{"$f":"IF(I388<>0,VLOOKUP(J388,A01A02!A:J,10,0),\"\")","v":""}]
[null,0,"","","","",{"$f":"IF(B389<>0,VLOOKUP(C389,A01A02!$A$3:$K$13,11,FALSE),\"\")","v":""},null,0,"","","","",{"$f":"IF(I389<>0,VLOOKUP(J389,A01A02!$A$3:$K$13,11,FALSE),\"\")","v":""},{"$f":"IF(I389<>0,VLOOKUP(J389,A01A02!A:J,10,0),\"\")","v":""}]
[null,0,"","","","",{"$f":"IF(B390<>0,VLOOKUP(C390,A01A02!$A$3:$K$13,11,FALSE),\"\")","v":""},null,0,"","","","",{"$f":"IF(I390<>0,VLOOKUP(J390,A01A02!$A$3:$K$13,11,FALSE),\"\")","v":""},{"$f":"IF(I390<>0,VLOOKUP(J390,A01A02!A:J,10,0),\"\")","v":""}]
[null,0,"","","","",{"$f":"IF(B391<>0,VLOOKUP(C391,A01A02!$A$3:$K$13,11,FALSE),\"\")","v":""},null,0,"","","","",{"$f":"IF(I391<>0,VLOOKUP(J391,A01A02!$A$3:$K$13,11,FALSE),\"\")","v":""},{"$f":"IF(I391<>0,VLOOKUP(J391,A01A02!A:J,10,0),\"\")","v":""}]
[null,0,"","","","",{"$f":"IF(B392<>0,VLOOKUP(C392,A01A02!$A$3:$K$13,11,FALSE),\"\")","v":""},null,0,"","","","",{"$f":"IF(I392<>0,VLOOKUP(J392,A01A02!$A$3:$K$13,11,FALSE),\"\")","v":""},{"$f":"IF(I392<>0,VLOOKUP(J392,A01A02!A:J,10,0),\"\")","v":""}]
[null,0,"","","","",{"$f":"IF(B393<>0,VLOOKUP(C393,A01A02!$A$3:$K$13,11,FALSE),\"\")","v":""},null,0,"","","","",{"$f":"IF(I393<>0,VLOOKUP(J393,A01A02!$A$3:$K$13,11,FALSE),\"\")","v":""},{"$f":"IF(I393<>0,VLOOKUP(J393,A01A02!A:J,10,0),\"\")","v":""}]
[null,0,"","","","",{"$f":"IF(B394<>0,VLOOKUP(C394,A01A02!$A$3:$K$13,11,FALSE),\"\")","v":""},null,0,"","","","",{"$f":"IF(I394<>0,VLOOKUP(J394,A01A02!$A$3:$K$13,11,FALSE),\"\")","v":""},{"$f":"IF(I394<>0,VLOOKUP(J394,A01A02!A:J,10,0),\"\")","v":""}]
[null,0,"","","","",{"$f":"IF(B395<>0,VLOOKUP(C395,A01A02!$A$3:$K$13,11,FALSE),\"\")","v":""},null,0,"","","","",{"$f":"IF(I395<>0,VLOOKUP(J395,A01A02!$A$3:$K$13,11,FALSE),\"\")","v":""},{"$f":"IF(I395<>0,VLOOKUP(J395,A01A02!A:J,10,0),\"\")","v":""}]
[null,0,"","","","",{"$f":"IF(B396<>0,VLOOKUP(C396,A01A02!$A$3:$K$13,11,FALSE),\"\")","v":""},null,0,"","","","",{"$f":"IF(I396<>0,VLOOKUP(J396,A01A02!$A$3:$K$13,11,FALSE),\"\")","v":""},{"$f":"IF(I396<>0,VLOOKUP(J396,A01A02!A:J,10,0),\"\")","v":""}]
[null,0,"","","","",{"$f":"IF(B397<>0,VLOOKUP(C397,A01A02!$A$3:$K$13,11,FALSE),\"\")","v":""},null,0,"","","","",{"$f":"IF(I397<>0,VLOOKUP(J397,A01A02!$A$3:$K$13,11,FALSE),\"\")","v":""},{"$f":"IF(I397<>0,VLOOKUP(J397,A01A02!A:J,10,0),\"\")","v":""}]
[null,0,"","","","",{"$f":"IF(B398<>0,VLOOKUP(C398,A01A02!$A$3:$K$13,11,FALSE),\"\")","v":""},null,0,"","","","",{"$f":"IF(I398<>0,VLOOKUP(J398,A01A02!$A$3:$K$13,11,FALSE),\"\")","v":""},{"$f":"IF(I398<>0,VLOOKUP(J398,A01A02!A:J,10,0),\"\")","v":""}]
[null,0,"","","","",{"$f":"IF(B399<>0,VLOOKUP(C399,A01A02!$A$3:$K$13,11,FALSE),\"\")","v":""},null,0,"","","","",{"$f":"IF(I399<>0,VLOOKUP(J399,A01A02!$A$3:$K$13,11,FALSE),\"\")","v":""},{"$f":"IF(I399<>0,VLOOKUP(J399,A01A02!A:J,10,0),\"\")","v":""}]
[null,0,"","","","",{"$f":"IF(B400<>0,VLOOKUP(C400,A01A02!$A$3:$K$13,11,FALSE),\"\")","v":""},null,0,"","","","",{"$f":"IF(I400<>0,VLOOKUP(J400,A01A02!$A$3:$K$13,11,FALSE),\"\")","v":""},{"$f":"IF(I400<>0,VLOOKUP(J400,A01A02!A:J,10,0),\"\")","v":""}]
[null,0,"","","","",{"$f":"IF(B401<>0,VLOOKUP(C401,A01A02!$A$3:$K$13,11,FALSE),\"\")","v":""},null,0,"","","","",{"$f":"IF(I401<>0,VLOOKUP(J401,A01A02!$A$3:$K$13,11,FALSE),\"\")","v":""},{"$f":"IF(I401<>0,VLOOKUP(J401,A01A02!A:J,10,0),\"\")","v":""}]
[null,0,"","","","",{"$f":"IF(B402<>0,VLOOKUP(C402,A01A02!$A$3:$K$13,11,FALSE),\"\")","v":""},null,0,"","","","",{"$f":"IF(I402<>0,VLOOKUP(J402,A01A02!$A$3:$K$13,11,FALSE),\"\")","v":""},{"$f":"IF(I402<>0,VLOOKUP(J402,A01A02!A:J,10,0),\"\")","v":""}]
[null,0,"","","","",{"$f":"IF(B403<>0,VLOOKUP(C403,A01A02!$A$3:$K$13,11,FALSE),\"\")","v":""},null,0,"","","","",{"$f":"IF(I403<>0,VLOOKUP(J403,A01A02!$A$3:$K$13,11,FALSE),\"\")","v":""},{"$f":"IF(I403<>0,VLOOKUP(J403,A01A02!A:J,10,0),\"\")","v":""}]
[null,0,"","","","",{"$f":"IF(B404<>0,VLOOKUP(C404,A01A02!$A$3:$K$13,11,FALSE),\"\")","v":""},null,0,"","","","",{"$f":"IF(I404<>0,VLOOKUP(J404,A01A02!$A$3:$K$13,11,FALSE),\"\")","v":""},{"$f":"IF(I404<>0,VLOOKUP(J404,A01A02!A:J,10,0),\"\")","v":""}]
[null,0,"","","","",{"$f":"IF(B405<>0,VLOOKUP(C405,A01A02!$A$3:$K$13,11,FALSE),\"\")","v":""},null,0,"","","","",{"$f":"IF(I405<>0,VLOOKUP(J405,A01A02!$A$3:$K$13,11,FALSE),\"\")","v":""},{"$f":"IF(I405<>0,VLOOKUP(J405,A01A02!A:J,10,0),\"\")","v":""}]
[null,0,"","","","",{"$f":"IF(B406<>0,VLOOKUP(C406,A01A02!$A$3:$K$13,11,FALSE),\"\")","v":""},null,0,"","","","",{"$f":"IF(I406<>0,VLOOKUP(J406,A01A02!$A$3:$K$13,11,FALSE),\"\")","v":""},{"$f":"IF(I406<>0,VLOOKUP(J406,A01A02!A:J,10,0),\"\")","v":""}]
[null,0,"","","","",{"$f":"IF(B407<>0,VLOOKUP(C407,A01A02!$A$3:$K$13,11,FALSE),\"\")","v":""},null,0,"","","","",{"$f":"IF(I407<>0,VLOOKUP(J407,A01A02!$A$3:$K$13,11,FALSE),\"\")","v":""},{"$f":"IF(I407<>0,VLOOKUP(J407,A01A02!A:J,10,0),\"\")","v":""}]
[null,0,"","","","",{"$f":"IF(B408<>0,VLOOKUP(C408,A01A02!$A$3:$K$13,11,FALSE),\"\")","v":""},null,0,"","","","",{"$f":"IF(I408<>0,VLOOKUP(J408,A01A02!$A$3:$K$13,11,FALSE),\"\")","v":""},{"$f":"IF(I408<>0,VLOOKUP(J408,A01A02!A:J,10,0),\"\")","v":""}]
[null,0,"","","","",{"$f":"IF(B409<>0,VLOOKUP(C409,A01A02!$A$3:$K$13,11,FALSE),\"\")","v":""},null,0,"","","","",{"$f":"IF(I409<>0,VLOOKUP(J409,A01A02!$A$3:$K$13,11,FALSE),\"\")","v":""},{"$f":"IF(I409<>0,VLOOKUP(J409,A01A02!A:J,10,0),\"\")","v":""}]
[null,0,"","","","",{"$f":"IF(B410<>0,VLOOKUP(C410,A01A02!$A$3:$K$13,11,FALSE),\"\")","v":""},null,0,"","","","",{"$f":"IF(I410<>0,VLOOKUP(J410,A01A02!$A$3:$K$13,11,FALSE),\"\")","v":""},{"$f":"IF(I410<>0,VLOOKUP(J410,A01A02!A:J,10,0),\"\")","v":""}]
[null,0,"","","","",{"$f":"IF(B411<>0,VLOOKUP(C411,A01A02!$A$3:$K$13,11,FALSE),\"\")","v":""},null,0,"","","","",{"$f":"IF(I411<>0,VLOOKUP(J411,A01A02!$A$3:$K$13,11,FALSE),\"\")","v":""},{"$f":"IF(I411<>0,VLOOKUP(J411,A01A02!A:J,10,0),\"\")","v":""}]
[null,0,"","","","",{"$f":"IF(B412<>0,VLOOKUP(C412,A01A02!$A$3:$K$13,11,FALSE),\"\")","v":""},null,0,"","","","",{"$f":"IF(I412<>0,VLOOKUP(J412,A01A02!$A$3:$K$13,11,FALSE),\"\")","v":""},{"$f":"IF(I412<>0,VLOOKUP(J412,A01A02!A:J,10,0),\"\")","v":""}]
[null,0,"","","","",{"$f":"IF(B413<>0,VLOOKUP(C413,A01A02!$A$3:$K$13,11,FALSE),\"\")","v":""},null,0,"","","","",{"$f":"IF(I413<>0,VLOOKUP(J413,A01A02!$A$3:$K$13,11,FALSE),\"\")","v":""},{"$f":"IF(I413<>0,VLOOKUP(J413,A01A02!A:J,10,0),\"\")","v":""}]
[null,0,"","","","",{"$f":"IF(B414<>0,VLOOKUP(C414,A01A02!$A$3:$K$13,11,FALSE),\"\")","v":""},null,0,"","","","",{"$f":"IF(I414<>0,VLOOKUP(J414,A01A02!$A$3:$K$13,11,FALSE),\"\")","v":""},{"$f":"IF(I414<>0,VLOOKUP(J414,A01A02!A:J,10,0),\"\")","v":""}]
[null,0,"","","","",{"$f":"IF(B415<>0,VLOOKUP(C415,A01A02!$A$3:$K$13,11,FALSE),\"\")","v":""},null,0,"","","","",{"$f":"IF(I415<>0,VLOOKUP(J415,A01A02!$A$3:$K$13,11,FALSE),\"\")","v":""},{"$f":"IF(I415<>0,VLOOKUP(J415,A01A02!A:J,10,0),\"\")","v":""}]
[null,0,"","","","",{"$f":"IF(B416<>0,VLOOKUP(C416,A01A02!$A$3:$K$13,11,FALSE),\"\")","v":""},null,0,"","","","",{"$f":"IF(I416<>0,VLOOKUP(J416,A01A02!$A$3:$K$13,11,FALSE),\"\")","v":""},{"$f":"IF(I416<>0,VLOOKUP(J416,A01A02!A:J,10,0),\"\")","v":""}]
[null,0,"","","","",{"$f":"IF(B417<>0,VLOOKUP(C417,A01A02!$A$3:$K$13,11,FALSE),\"\")","v":""},null,0,"","","","",{"$f":"IF(I417<>0,VLOOKUP(J417,A01A02!$A$3:$K$13,11,FALSE),\"\")","v":""},{"$f":"IF(I417<>0,VLOOKUP(J417,A01A02!A:J,10,0),\"\")","v":""}]
[null,0,"","","","",{"$f":"IF(B418<>0,VLOOKUP(C418,A01A02!$A$3:$K$13,11,FALSE),\"\")","v":""},null,0,"","","","",{"$f":"IF(I418<>0,VLOOKUP(J418,A01A02!$A$3:$K$13,11,FALSE),\"\")","v":""},{"$f":"IF(I418<>0,VLOOKUP(J418,A01A02!A:J,10,0),\"\")","v":""}]
[null,0,"","","","",{"$f":"IF(B419<>0,VLOOKUP(C419,A01A02!$A$3:$K$13,11,FALSE),\"\")","v":""},null,0,"","","","",{"$f":"IF(I419<>0,VLOOKUP(J419,A01A02!$A$3:$K$13,11,FALSE),\"\")","v":""},{"$f":"IF(I419<>0,VLOOKUP(J419,A01A02!A:J,10,0),\"\")","v":""}]
[null,0,"","","","",{"$f":"IF(B420<>0,VLOOKUP(C420,A01A02!$A$3:$K$13,11,FALSE),\"\")","v":""},null,0,"","","","",{"$f":"IF(I420<>0,VLOOKUP(J420,A01A02!$A$3:$K$13,11,FALSE),\"\")","v":""},{"$f":"IF(I420<>0,VLOOKUP(J420,A01A02!A:J,10,0),\"\")","v":""}]
[null,0,"",{"$f":"IF(B421<>0,znaget(B421),\"\")","v":""},{"$f":"IF(B421<>0,xget(B421),\"\")","v":""},{"$f":"IF(B421<>0,yget(B421),\"\")","v":""},{"$f":"IF(B421<>0,VLOOKUP(C421,A01A02!$A$3:$K$13,11,FALSE),\"\")","v":""},null,0,"",{"$f":"IF(I421<>0,znaget(I421),\"\")","v":""},{"$f":"IF(I421<>0,xget(I421),\"\")","v":""},{"$f":"IF(I421<>0,yget(I421),\"\")","v":""},{"$f":"IF(I421<>0,VLOOKUP(J421,A01A02!$A$3:$K$13,11,FALSE),\"\")","v":""},{"$f":"IF(I421<>0,VLOOKUP(J421,A01A02!A:J,10,0),\"\")","v":""}]
[null,0,"","","","",{"$f":"IF(B422<>0,VLOOKUP(C422,A01A02!$A$3:$K$13,11,FALSE),\"\")","v":""},null,0,"","","","",{"$f":"IF(I422<>0,VLOOKUP(J422,A01A02!$A$3:$K$13,11,FALSE),\"\")","v":""},{"$f":"IF(I422<>0,VLOOKUP(J422,A01A02!A:J,10,0),\"\")","v":""}]
[null,0,"","","","",{"$f":"IF(B423<>0,VLOOKUP(C423,A01A02!$A$3:$K$13,11,FALSE),\"\")","v":""},null,0,"","","","",{"$f":"IF(I423<>0,VLOOKUP(J423,A01A02!$A$3:$K$13,11,FALSE),\"\")","v":""},{"$f":"IF(I423<>0,VLOOKUP(J423,A01A02!A:J,10,0),\"\")","v":""}]
[null,0,"","","","",{"$f":"IF(B424<>0,VLOOKUP(C424,A01A02!$A$3:$K$13,11,FALSE),\"\")","v":""},null,0,"","","","",{"$f":"IF(I424<>0,VLOOKUP(J424,A01A02!$A$3:$K$13,11,FALSE),\"\")","v":""},{"$f":"IF(I424<>0,VLOOKUP(J424,A01A02!A:J,10,0),\"\")","v":""}]
[null,0,"","","","",{"$f":"IF(B425<>0,VLOOKUP(C425,A01A02!$A$3:$K$13,11,FALSE),\"\")","v":""},null,0,"","","","",{"$f":"IF(I425<>0,VLOOKUP(J425,A01A02!$A$3:$K$13,11,FALSE),\"\")","v":""},{"$f":"IF(I425<>0,VLOOKUP(J425,A01A02!A:J,10,0),\"\")","v":""}]
[null,0,"","","","",{"$f":"IF(B426<>0,VLOOKUP(C426,A01A02!$A$3:$K$13,11,FALSE),\"\")","v":""},null,0,"","","","",{"$f":"IF(I426<>0,VLOOKUP(J426,A01A02!$A$3:$K$13,11,FALSE),\"\")","v":""},{"$f":"IF(I426<>0,VLOOKUP(J426,A01A02!A:J,10,0),\"\")","v":""}]
[null,0,"","","","",{"$f":"IF(B427<>0,VLOOKUP(C427,A01A02!$A$3:$K$13,11,FALSE),\"\")","v":""},null,0,"","","","",{"$f":"IF(I427<>0,VLOOKUP(J427,A01A02!$A$3:$K$13,11,FALSE),\"\")","v":""},{"$f":"IF(I427<>0,VLOOKUP(J427,A01A02!A:J,10,0),\"\")","v":""}]
[null,0,"","","","",{"$f":"IF(B428<>0,VLOOKUP(C428,A01A02!$A$3:$K$13,11,FALSE),\"\")","v":""},null,0,"","","","",{"$f":"IF(I428<>0,VLOOKUP(J428,A01A02!$A$3:$K$13,11,FALSE),\"\")","v":""},{"$f":"IF(I428<>0,VLOOKUP(J428,A01A02!A:J,10,0),\"\")","v":""}]
[null,0,"","","","",{"$f":"IF(B429<>0,VLOOKUP(C429,A01A02!$A$3:$K$13,11,FALSE),\"\")","v":""},null,0,"","","","",{"$f":"IF(I429<>0,VLOOKUP(J429,A01A02!$A$3:$K$13,11,FALSE),\"\")","v":""},{"$f":"IF(I429<>0,VLOOKUP(J429,A01A02!A:J,10,0),\"\")","v":""}]
[null,0,"","","","",{"$f":"IF(B430<>0,VLOOKUP(C430,A01A02!$A$3:$K$13,11,FALSE),\"\")","v":""},null,0,"","","","",{"$f":"IF(I430<>0,VLOOKUP(J430,A01A02!$A$3:$K$13,11,FALSE),\"\")","v":""},{"$f":"IF(I430<>0,VLOOKUP(J430,A01A02!A:J,10,0),\"\")","v":""}]
[null,0,"","","","",{"$f":"IF(B431<>0,VLOOKUP(C431,A01A02!$A$3:$K$13,11,FALSE),\"\")","v":""},null,0,"","","","",{"$f":"IF(I431<>0,VLOOKUP(J431,A01A02!$A$3:$K$13,11,FALSE),\"\")","v":""},{"$f":"IF(I431<>0,VLOOKUP(J431,A01A02!A:J,10,0),\"\")","v":""}]
[null,0,"","","","",{"$f":"IF(B432<>0,VLOOKUP(C432,A01A02!$A$3:$K$13,11,FALSE),\"\")","v":""},null,0,"","","","",{"$f":"IF(I432<>0,VLOOKUP(J432,A01A02!$A$3:$K$13,11,FALSE),\"\")","v":""},{"$f":"IF(I432<>0,VLOOKUP(J432,A01A02!A:J,10,0),\"\")","v":""}]
[null,0,"","","","",{"$f":"IF(B433<>0,VLOOKUP(C433,A01A02!$A$3:$K$13,11,FALSE),\"\")","v":""},null,0,"","","","",{"$f":"IF(I433<>0,VLOOKUP(J433,A01A02!$A$3:$K$13,11,FALSE),\"\")","v":""},{"$f":"IF(I433<>0,VLOOKUP(J433,A01A02!A:J,10,0),\"\")","v":""}]
[null,0,"","","","",{"$f":"IF(B434<>0,VLOOKUP(C434,A01A02!$A$3:$K$13,11,FALSE),\"\")","v":""},null,0,"","","","",{"$f":"IF(I434<>0,VLOOKUP(J434,A01A02!$A$3:$K$13,11,FALSE),\"\")","v":""},{"$f":"IF(I434<>0,VLOOKUP(J434,A01A02!A:J,10,0),\"\")","v":""}]
[null,0,"","","","",{"$f":"IF(B435<>0,VLOOKUP(C435,A01A02!$A$3:$K$13,11,FALSE),\"\")","v":""},null,0,"","","","",{"$f":"IF(I435<>0,VLOOKUP(J435,A01A02!$A$3:$K$13,11,FALSE),\"\")","v":""},{"$f":"IF(I435<>0,VLOOKUP(J435,A01A02!A:J,10,0),\"\")","v":""}]
[null,0,"","","","",{"$f":"IF(B436<>0,VLOOKUP(C436,A01A02!$A$3:$K$13,11,FALSE),\"\")","v":""},null,0,"","","","",{"$f":"IF(I436<>0,VLOOKUP(J436,A01A02!$A$3:$K$13,11,FALSE),\"\")","v":""},{"$f":"IF(I436<>0,VLOOKUP(J436,A01A02!A:J,10,0),\"\")","v":""}]
[null,0,"","","","",{"$f":"IF(B437<>0,VLOOKUP(C437,A01A02!$A$3:$K$13,11,FALSE),\"\")","v":""},null,0,"","","","",{"$f":"IF(I437<>0,VLOOKUP(J437,A01A02!$A$3:$K$13,11,FALSE),\"\")","v":""},{"$f":"IF(I437<>0,VLOOKUP(J437,A01A02!A:J,10,0),\"\")","v":""}]
[null,0,"","","","",{"$f":"IF(B438<>0,VLOOKUP(C438,A01A02!$A$3:$K$13,11,FALSE),\"\")","v":""},null,0,"","","","",{"$f":"IF(I438<>0,VLOOKUP(J438,A01A02!$A$3:$K$13,11,FALSE),\"\")","v":""},{"$f":"IF(I438<>0,VLOOKUP(J438,A01A02!A:J,10,0),\"\")","v":""}]
[null,0,"","","","",{"$f":"IF(B439<>0,VLOOKUP(C439,A01A02!$A$3:$K$13,11,FALSE),\"\")","v":""},null,0,"","","","",{"$f":"IF(I439<>0,VLOOKUP(J439,A01A02!$A$3:$K$13,11,FALSE),\"\")","v":""},{"$f":"IF(I439<>0,VLOOKUP(J439,A01A02!A:J,10,0),\"\")","v":""}]
[null,0,"","","","",{"$f":"IF(B440<>0,VLOOKUP(C440,A01A02!$A$3:$K$13,11,FALSE),\"\")","v":""},null,0,"","","","",{"$f":"IF(I440<>0,VLOOKUP(J440,A01A02!$A$3:$K$13,11,FALSE),\"\")","v":""},{"$f":"IF(I440<>0,VLOOKUP(J440,A01A02!A:J,10,0),\"\")","v":""}]
[null,0,"","","","",{"$f":"IF(B441<>0,VLOOKUP(C441,A01A02!$A$3:$K$13,11,FALSE),\"\")","v":""},null,0,"","","","",{"$f":"IF(I441<>0,VLOOKUP(J441,A01A02!$A$3:$K$13,11,FALSE),\"\")","v":""},{"$f":"IF(I441<>0,VLOOKUP(J441,A01A02!A:J,10,0),\"\")","v":""}]
[null,0,"","","","",{"$f":"IF(B442<>0,VLOOKUP(C442,A01A02!$A$3:$K$13,11,FALSE),\"\")","v":""},null,0,"","","","",{"$f":"IF(I442<>0,VLOOKUP(J442,A01A02!$A$3:$K$13,11,FALSE),\"\")","v":""},{"$f":"IF(I442<>0,VLOOKUP(J442,A01A02!A:J,10,0),\"\")","v":""}]
[null,0,"","","","",{"$f":"IF(B443<>0,VLOOKUP(C443,A01A02!$A$3:$K$13,11,FALSE),\"\")","v":""},null,0,"","","","",{"$f":"IF(I443<>0,VLOOKUP(J443,A01A02!$A$3:$K$13,11,FALSE),\"\")","v":""},{"$f":"IF(I443<>0,VLOOKUP(J443,A01A02!A:J,10,0),\"\")","v":""}]
[null,0,"","","","",{"$f":"IF(B444<>0,VLOOKUP(C444,A01A02!$A$3:$K$13,11,FALSE),\"\")","v":""},null,0,"","","","",{"$f":"IF(I444<>0,VLOOKUP(J444,A01A02!$A$3:$K$13,11,FALSE),\"\")","v":""},{"$f":"IF(I444<>0,VLOOKUP(J444,A01A02!A:J,10,0),\"\")","v":""}]
[null,0,"","","","",{"$f":"IF(B445<>0,VLOOKUP(C445,A01A02!$A$3:$K$13,11,FALSE),\"\")","v":""},null,0,"","","","",{"$f":"IF(I445<>0,VLOOKUP(J445,A01A02!$A$3:$K$13,11,FALSE),\"\")","v":""},{"$f":"IF(I445<>0,VLOOKUP(J445,A01A02!A:J,10,0),\"\")","v":""}]
[null,0,"","","","",{"$f":"IF(B446<>0,VLOOKUP(C446,A01A02!$A$3:$K$13,11,FALSE),\"\")","v":""},null,0,"","","","",{"$f":"IF(I446<>0,VLOOKUP(J446,A01A02!$A$3:$K$13,11,FALSE),\"\")","v":""},{"$f":"IF(I446<>0,VLOOKUP(J446,A01A02!A:J,10,0),\"\")","v":""}]
[null,0,"","","","",{"$f":"IF(B447<>0,VLOOKUP(C447,A01A02!$A$3:$K$13,11,FALSE),\"\")","v":""},null,0,"","","","",{"$f":"IF(I447<>0,VLOOKUP(J447,A01A02!$A$3:$K$13,11,FALSE),\"\")","v":""},{"$f":"IF(I447<>0,VLOOKUP(J447,A01A02!A:J,10,0),\"\")","v":""}]
[null,0,"","","","",{"$f":"IF(B448<>0,VLOOKUP(C448,A01A02!$A$3:$K$13,11,FALSE),\"\")","v":""},null,0,"","","","",{"$f":"IF(I448<>0,VLOOKUP(J448,A01A02!$A$3:$K$13,11,FALSE),\"\")","v":""},{"$f":"IF(I448<>0,VLOOKUP(J448,A01A02!A:J,10,0),\"\")","v":""}]
[null,0,"","","","",{"$f":"IF(B449<>0,VLOOKUP(C449,A01A02!$A$3:$K$13,11,FALSE),\"\")","v":""},null,0,"","","","",{"$f":"IF(I449<>0,VLOOKUP(J449,A01A02!$A$3:$K$13,11,FALSE),\"\")","v":""},{"$f":"IF(I449<>0,VLOOKUP(J449,A01A02!A:J,10,0),\"\")","v":""}]
[null,0,"","","","",{"$f":"IF(B450<>0,VLOOKUP(C450,A01A02!$A$3:$K$13,11,FALSE),\"\")","v":""},null,0,"","","","",{"$f":"IF(I450<>0,VLOOKUP(J450,A01A02!$A$3:$K$13,11,FALSE),\"\")","v":""},{"$f":"IF(I450<>0,VLOOKUP(J450,A01A02!A:J,10,0),\"\")","v":""}]
[null,{"$f":"IF(A451<>\"\",xycall(A451),0)","v":0},"","","","",{"$f":"IF(B451<>0,VLOOKUP(C451,A01A02!$A$3:$K$13,11,FALSE),\"\")","v":""},null,0,"","","","",{"$f":"IF(I451<>0,VLOOKUP(J451,A01A02!$A$3:$K$13,11,FALSE),\"\")","v":""},{"$f":"IF(I451<>0,VLOOKUP(J451,A01A02!A:J,10,0),\"\")","v":""}]
[null,0,{"$f":"IF(B452<>0,znoget(B452),\"\")","v":""},"","","",{"$f":"IF(B452<>0,VLOOKUP(C452,A01A02!$A$3:$K$13,11,FALSE),\"\")","v":""},null,{"$f":"IF(H452<>\"\",xycall(H452),0)","v":0},{"$f":"IF(I452<>0,znoget(I452),\"\")","v":""},"","","",{"$f":"IF(I452<>0,VLOOKUP(J452,A01A02!$A$3:$K$13,11,FALSE),\"\")","v":""},{"$f":"IF(I452<>0,VLOOKUP(J452,A01A02!A:J,10,0),\"\")","v":""}]
[null,0,"","","","",{"$f":"IF(B453<>0,VLOOKUP(C453,A01A02!$A$3:$K$13,11,FALSE),\"\")","v":""},null,0,"","","","",{"$f":"IF(I453<>0,VLOOKUP(J453,A01A02!$A$3:$K$13,11,FALSE),\"\")","v":""},{"$f":"IF(I453<>0,VLOOKUP(J453,A01A02!A:J,10,0),\"\")","v":""}]
[null,0,"","","","",{"$f":"IF(B454<>0,VLOOKUP(C454,A01A02!$A$3:$K$13,11,FALSE),\"\")","v":""},null,0,"","","","",{"$f":"IF(I454<>0,VLOOKUP(J454,A01A02!$A$3:$K$13,11,FALSE),\"\")","v":""},{"$f":"IF(I454<>0,VLOOKUP(J454,A01A02!A:J,10,0),\"\")","v":""}]
[null,0,"","","","",{"$f":"IF(B455<>0,VLOOKUP(C455,A01A02!$A$3:$K$13,11,FALSE),\"\")","v":""},null,0,"","","","",{"$f":"IF(I455<>0,VLOOKUP(J455,A01A02!$A$3:$K$13,11,FALSE),\"\")","v":""},{"$f":"IF(I455<>0,VLOOKUP(J455,A01A02!A:J,10,0),\"\")","v":""}]
[null,0,"","","","",{"$f":"IF(B456<>0,VLOOKUP(C456,A01A02!$A$3:$K$13,11,FALSE),\"\")","v":""},null,0,"","","","",{"$f":"IF(I456<>0,VLOOKUP(J456,A01A02!$A$3:$K$13,11,FALSE),\"\")","v":""},{"$f":"IF(I456<>0,VLOOKUP(J456,A01A02!A:J,10,0),\"\")","v":""}]
[null,0,"","","","",{"$f":"IF(B457<>0,VLOOKUP(C457,A01A02!$A$3:$K$13,11,FALSE),\"\")","v":""},null,0,"","","","",{"$f":"IF(I457<>0,VLOOKUP(J457,A01A02!$A$3:$K$13,11,FALSE),\"\")","v":""},{"$f":"IF(I457<>0,VLOOKUP(J457,A01A02!A:J,10,0),\"\")","v":""}]
[null,0,"","","","",{"$f":"IF(B458<>0,VLOOKUP(C458,A01A02!$A$3:$K$13,11,FALSE),\"\")","v":""},null,0,"","","","",{"$f":"IF(I458<>0,VLOOKUP(J458,A01A02!$A$3:$K$13,11,FALSE),\"\")","v":""},{"$f":"IF(I458<>0,VLOOKUP(J458,A01A02!A:J,10,0),\"\")","v":""}]
[null,0,"","","","",{"$f":"IF(B459<>0,VLOOKUP(C459,A01A02!$A$3:$K$13,11,FALSE),\"\")","v":""},null,0,"","","","",{"$f":"IF(I459<>0,VLOOKUP(J459,A01A02!$A$3:$K$13,11,FALSE),\"\")","v":""},{"$f":"IF(I459<>0,VLOOKUP(J459,A01A02!A:J,10,0),\"\")","v":""}]
[null,0,"","","","",{"$f":"IF(B460<>0,VLOOKUP(C460,A01A02!$A$3:$K$13,11,FALSE),\"\")","v":""},null,0,"","","","",{"$f":"IF(I460<>0,VLOOKUP(J460,A01A02!$A$3:$K$13,11,FALSE),\"\")","v":""},{"$f":"IF(I460<>0,VLOOKUP(J460,A01A02!A:J,10,0),\"\")","v":""}]
[null,0,"","","","",{"$f":"IF(B461<>0,VLOOKUP(C461,A01A02!$A$3:$K$13,11,FALSE),\"\")","v":""},null,0,"","","","",{"$f":"IF(I461<>0,VLOOKUP(J461,A01A02!$A$3:$K$13,11,FALSE),\"\")","v":""},{"$f":"IF(I461<>0,VLOOKUP(J461,A01A02!A:J,10,0),\"\")","v":""}]
[null,0,"","","","",{"$f":"IF(B462<>0,VLOOKUP(C462,A01A02!$A$3:$K$13,11,FALSE),\"\")","v":""},null,0,"","","","",{"$f":"IF(I462<>0,VLOOKUP(J462,A01A02!$A$3:$K$13,11,FALSE),\"\")","v":""},{"$f":"IF(I462<>0,VLOOKUP(J462,A01A02!A:J,10,0),\"\")","v":""}]
[null,0,"","","","",{"$f":"IF(B463<>0,VLOOKUP(C463,A01A02!$A$3:$K$13,11,FALSE),\"\")","v":""},null,0,"","","","",{"$f":"IF(I463<>0,VLOOKUP(J463,A01A02!$A$3:$K$13,11,FALSE),\"\")","v":""},{"$f":"IF(I463<>0,VLOOKUP(J463,A01A02!A:J,10,0),\"\")","v":""}]
[null,0,"","","","",{"$f":"IF(B464<>0,VLOOKUP(C464,A01A02!$A$3:$K$13,11,FALSE),\"\")","v":""},null,0,"","","","",{"$f":"IF(I464<>0,VLOOKUP(J464,A01A02!$A$3:$K$13,11,FALSE),\"\")","v":""},{"$f":"IF(I464<>0,VLOOKUP(J464,A01A02!A:J,10,0),\"\")","v":""}]
[null,0,"","","","",{"$f":"IF(B465<>0,VLOOKUP(C465,A01A02!$A$3:$K$13,11,FALSE),\"\")","v":""},null,0,"","","","",{"$f":"IF(I465<>0,VLOOKUP(J465,A01A02!$A$3:$K$13,11,FALSE),\"\")","v":""},{"$f":"IF(I465<>0,VLOOKUP(J465,A01A02!A:J,10,0),\"\")","v":""}]
[null,0,"","","","",{"$f":"IF(B466<>0,VLOOKUP(C466,A01A02!$A$3:$K$13,11,FALSE),\"\")","v":""},null,0,"","","","",{"$f":"IF(I466<>0,VLOOKUP(J466,A01A02!$A$3:$K$13,11,FALSE),\"\")","v":""},{"$f":"IF(I466<>0,VLOOKUP(J466,A01A02!A:J,10,0),\"\")","v":""}]
[null,0,"","","","",{"$f":"IF(B467<>0,VLOOKUP(C467,A01A02!$A$3:$K$13,11,FALSE),\"\")","v":""},null,0,"","","","",{"$f":"IF(I467<>0,VLOOKUP(J467,A01A02!$A$3:$K$13,11,FALSE),\"\")","v":""},{"$f":"IF(I467<>0,VLOOKUP(J467,A01A02!A:J,10,0),\"\")","v":""}]
[null,0,"","","","",{"$f":"IF(B468<>0,VLOOKUP(C468,A01A02!$A$3:$K$13,11,FALSE),\"\")","v":""},null,0,"","","","",{"$f":"IF(I468<>0,VLOOKUP(J468,A01A02!$A$3:$K$13,11,FALSE),\"\")","v":""},{"$f":"IF(I468<>0,VLOOKUP(J468,A01A02!A:J,10,0),\"\")","v":""}]
[null,0,"","","","",{"$f":"IF(B469<>0,VLOOKUP(C469,A01A02!$A$3:$K$13,11,FALSE),\"\")","v":""},null,0,"","","","",{"$f":"IF(I469<>0,VLOOKUP(J469,A01A02!$A$3:$K$13,11,FALSE),\"\")","v":""},{"$f":"IF(I469<>0,VLOOKUP(J469,A01A02!A:J,10,0),\"\")","v":""}]
[null,0,"","","","",{"$f":"IF(B470<>0,VLOOKUP(C470,A01A02!$A$3:$K$13,11,FALSE),\"\")","v":""},null,0,"","","","",{"$f":"IF(I470<>0,VLOOKUP(J470,A01A02!$A$3:$K$13,11,FALSE),\"\")","v":""},{"$f":"IF(I470<>0,VLOOKUP(J470,A01A02!A:J,10,0),\"\")","v":""}]
[null,0,"","","","",{"$f":"IF(B471<>0,VLOOKUP(C471,A01A02!$A$3:$K$13,11,FALSE),\"\")","v":""},null,0,"","","","",{"$f":"IF(I471<>0,VLOOKUP(J471,A01A02!$A$3:$K$13,11,FALSE),\"\")","v":""},{"$f":"IF(I471<>0,VLOOKUP(J471,A01A02!A:J,10,0),\"\")","v":""}]
[null,0,"","","","",{"$f":"IF(B472<>0,VLOOKUP(C472,A01A02!$A$3:$K$13,11,FALSE),\"\")","v":""},null,0,"","","","",{"$f":"IF(I472<>0,VLOOKUP(J472,A01A02!$A$3:$K$13,11,FALSE),\"\")","v":""},{"$f":"IF(I472<>0,VLOOKUP(J472,A01A02!A:J,10,0),\"\")","v":""}]
[null,0,"","","","",{"$f":"IF(B473<>0,VLOOKUP(C473,A01A02!$A$3:$K$13,11,FALSE),\"\")","v":""},null,0,"","","","",{"$f":"IF(I473<>0,VLOOKUP(J473,A01A02!$A$3:$K$13,11,FALSE),\"\")","v":""},{"$f":"IF(I473<>0,VLOOKUP(J473,A01A02!A:J,10,0),\"\")","v":""}]
[null,0,"","","","",{"$f":"IF(B474<>0,VLOOKUP(C474,A01A02!$A$3:$K$13,11,FALSE),\"\")","v":""},null,0,"","","","",{"$f":"IF(I474<>0,VLOOKUP(J474,A01A02!$A$3:$K$13,11,FALSE),\"\")","v":""},{"$f":"IF(I474<>0,VLOOKUP(J474,A01A02!A:J,10,0),\"\")","v":""}]
[null,0,"","","","",{"$f":"IF(B475<>0,VLOOKUP(C475,A01A02!$A$3:$K$13,11,FALSE),\"\")","v":""},null,0,"","","","",{"$f":"IF(I475<>0,VLOOKUP(J475,A01A02!$A$3:$K$13,11,FALSE),\"\")","v":""},{"$f":"IF(I475<>0,VLOOKUP(J475,A01A02!A:J,10,0),\"\")","v":""}]
[null,0,"","","","",{"$f":"IF(B476<>0,VLOOKUP(C476,A01A02!$A$3:$K$13,11,FALSE),\"\")","v":""},null,0,"","","","",{"$f":"IF(I476<>0,VLOOKUP(J476,A01A02!$A$3:$K$13,11,FALSE),\"\")","v":""},{"$f":"IF(I476<>0,VLOOKUP(J476,A01A02!A:J,10,0),\"\")","v":""}]
[null,0,"","","","",{"$f":"IF(B477<>0,VLOOKUP(C477,A01A02!$A$3:$K$13,11,FALSE),\"\")","v":""},null,0,"","","","",{"$f":"IF(I477<>0,VLOOKUP(J477,A01A02!$A$3:$K$13,11,FALSE),\"\")","v":""},{"$f":"IF(I477<>0,VLOOKUP(J477,A01A02!A:J,10,0),\"\")","v":""}]
[null,0,"","","","",{"$f":"IF(B478<>0,VLOOKUP(C478,A01A02!$A$3:$K$13,11,FALSE),\"\")","v":""},null,0,"","","","",{"$f":"IF(I478<>0,VLOOKUP(J478,A01A02!$A$3:$K$13,11,FALSE),\"\")","v":""},{"$f":"IF(I478<>0,VLOOKUP(J478,A01A02!A:J,10,0),\"\")","v":""}]
[null,0,"","","","",{"$f":"IF(B479<>0,VLOOKUP(C479,A01A02!$A$3:$K$13,11,FALSE),\"\")","v":""},null,0,"","","","",{"$f":"IF(I479<>0,VLOOKUP(J479,A01A02!$A$3:$K$13,11,FALSE),\"\")","v":""},{"$f":"IF(I479<>0,VLOOKUP(J479,A01A02!A:J,10,0),\"\")","v":""}]
[null,0,"","","","",{"$f":"IF(B480<>0,VLOOKUP(C480,A01A02!$A$3:$K$13,11,FALSE),\"\")","v":""},null,0,"","","","",{"$f":"IF(I480<>0,VLOOKUP(J480,A01A02!$A$3:$K$13,11,FALSE),\"\")","v":""},{"$f":"IF(I480<>0,VLOOKUP(J480,A01A02!A:J,10,0),\"\")","v":""}]
[null,0,"","","","",{"$f":"IF(B481<>0,VLOOKUP(C481,A01A02!$A$3:$K$13,11,FALSE),\"\")","v":""},null,0,"","","","",{"$f":"IF(I481<>0,VLOOKUP(J481,A01A02!$A$3:$K$13,11,FALSE),\"\")","v":""},{"$f":"IF(I481<>0,VLOOKUP(J481,A01A02!A:J,10,0),\"\")","v":""}]
[null,0,"","","","",{"$f":"IF(B482<>0,VLOOKUP(C482,A01A02!$A$3:$K$13,11,FALSE),\"\")","v":""},null,0,"","","","",{"$f":"IF(I482<>0,VLOOKUP(J482,A01A02!$A$3:$K$13,11,FALSE),\"\")","v":""},{"$f":"IF(I482<>0,VLOOKUP(J482,A01A02!A:J,10,0),\"\")","v":""}]
[null,0,"","","","",{"$f":"IF(B483<>0,VLOOKUP(C483,A01A02!$A$3:$K$13,11,FALSE),\"\")","v":""},null,0,"","","","",{"$f":"IF(I483<>0,VLOOKUP(J483,A01A02!$A$3:$K$13,11,FALSE),\"\")","v":""},{"$f":"IF(I483<>0,VLOOKUP(J483,A01A02!A:J,10,0),\"\")","v":""}]
[null,0,"","","","",{"$f":"IF(B484<>0,VLOOKUP(C484,A01A02!$A$3:$K$13,11,FALSE),\"\")","v":""},null,0,"","","","",{"$f":"IF(I484<>0,VLOOKUP(J484,A01A02!$A$3:$K$13,11,FALSE),\"\")","v":""},{"$f":"IF(I484<>0,VLOOKUP(J484,A01A02!A:J,10,0),\"\")","v":""}]
[null,0,"",{"$f":"IF(B485<>0,znaget(B485),\"\")","v":""},{"$f":"IF(B485<>0,xget(B485),\"\")","v":""},{"$f":"IF(B485<>0,yget(B485),\"\")","v":""},{"$f":"IF(B485<>0,VLOOKUP(C485,A01A02!$A$3:$K$13,11,FALSE),\"\")","v":""},null,0,"",{"$f":"IF(I485<>0,znaget(I485),\"\")","v":""},{"$f":"IF(I485<>0,xget(I485),\"\")","v":""},{"$f":"IF(I485<>0,yget(I485),\"\")","v":""},{"$f":"IF(I485<>0,VLOOKUP(J485,A01A02!$A$3:$K$13,11,FALSE),\"\")","v":""},{"$f":"IF(I485<>0,VLOOKUP(J485,A01A02!A:J,10,0),\"\")","v":""}]
[null,0,"","","","",{"$f":"IF(B486<>0,VLOOKUP(C486,A01A02!$A$3:$K$13,11,FALSE),\"\")","v":""},null,0,"","","","",{"$f":"IF(I486<>0,VLOOKUP(J486,A01A02!$A$3:$K$13,11,FALSE),\"\")","v":""},{"$f":"IF(I486<>0,VLOOKUP(J486,A01A02!A:J,10,0),\"\")","v":""}]
[null,0,"","","","",{"$f":"IF(B487<>0,VLOOKUP(C487,A01A02!$A$3:$K$13,11,FALSE),\"\")","v":""},null,0,"","","","",{"$f":"IF(I487<>0,VLOOKUP(J487,A01A02!$A$3:$K$13,11,FALSE),\"\")","v":""},{"$f":"IF(I487<>0,VLOOKUP(J487,A01A02!A:J,10,0),\"\")","v":""}]
[null,0,"","","","",{"$f":"IF(B488<>0,VLOOKUP(C488,A01A02!$A$3:$K$13,11,FALSE),\"\")","v":""},null,0,"","","","",{"$f":"IF(I488<>0,VLOOKUP(J488,A01A02!$A$3:$K$13,11,FALSE),\"\")","v":""},{"$f":"IF(I488<>0,VLOOKUP(J488,A01A02!A:J,10,0),\"\")","v":""}]
[null,0,"","","","",{"$f":"IF(B489<>0,VLOOKUP(C489,A01A02!$A$3:$K$13,11,FALSE),\"\")","v":""},null,0,"","","","",{"$f":"IF(I489<>0,VLOOKUP(J489,A01A02!$A$3:$K$13,11,FALSE),\"\")","v":""},{"$f":"IF(I489<>0,VLOOKUP(J489,A01A02!A:J,10,0),\"\")","v":""}]
[null,0,"","","","",{"$f":"IF(B490<>0,VLOOKUP(C490,A01A02!$A$3:$K$13,11,FALSE),\"\")","v":""},null,0,"","","","",{"$f":"IF(I490<>0,VLOOKUP(J490,A01A02!$A$3:$K$13,11,FALSE),\"\")","v":""},{"$f":"IF(I490<>0,VLOOKUP(J490,A01A02!A:J,10,0),\"\")","v":""}]
[null,0,"","","","",{"$f":"IF(B491<>0,VLOOKUP(C491,A01A02!$A$3:$K$13,11,FALSE),\"\")","v":""},null,0,"","","","",{"$f":"IF(I491<>0,VLOOKUP(J491,A01A02!$A$3:$K$13,11,FALSE),\"\")","v":""},{"$f":"IF(I491<>0,VLOOKUP(J491,A01A02!A:J,10,0),\"\")","v":""}]
[null,0,"","","","",{"$f":"IF(B492<>0,VLOOKUP(C492,A01A02!$A$3:$K$13,11,FALSE),\"\")","v":""},null,0,"","","","",{"$f":"IF(I492<>0,VLOOKUP(J492,A01A02!$A$3:$K$13,11,FALSE),\"\")","v":""},{"$f":"IF(I492<>0,VLOOKUP(J492,A01A02!A:J,10,0),\"\")","v":""}]
[null,0,"","","","",{"$f":"IF(B493<>0,VLOOKUP(C493,A01A02!$A$3:$K$13,11,FALSE),\"\")","v":""},null,0,"","","","",{"$f":"IF(I493<>0,VLOOKUP(J493,A01A02!$A$3:$K$13,11,FALSE),\"\")","v":""},{"$f":"IF(I493<>0,VLOOKUP(J493,A01A02!A:J,10,0),\"\")","v":""}]
[null,0,"","","","",{"$f":"IF(B494<>0,VLOOKUP(C494,A01A02!$A$3:$K$13,11,FALSE),\"\")","v":""},null,0,"","","","",{"$f":"IF(I494<>0,VLOOKUP(J494,A01A02!$A$3:$K$13,11,FALSE),\"\")","v":""},{"$f":"IF(I494<>0,VLOOKUP(J494,A01A02!A:J,10,0),\"\")","v":""}]
[null,0,"","","","",{"$f":"IF(B495<>0,VLOOKUP(C495,A01A02!$A$3:$K$13,11,FALSE),\"\")","v":""},null,0,"","","","",{"$f":"IF(I495<>0,VLOOKUP(J495,A01A02!$A$3:$K$13,11,FALSE),\"\")","v":""},{"$f":"IF(I495<>0,VLOOKUP(J495,A01A02!A:J,10,0),\"\")","v":""}]
[null,0,"","","","",{"$f":"IF(B496<>0,VLOOKUP(C496,A01A02!$A$3:$K$13,11,FALSE),\"\")","v":""},null,0,"","","","",{"$f":"IF(I496<>0,VLOOKUP(J496,A01A02!$A$3:$K$13,11,FALSE),\"\")","v":""},{"$f":"IF(I496<>0,VLOOKUP(J496,A01A02!A:J,10,0),\"\")","v":""}]
[null,0,"","","","",{"$f":"IF(B497<>0,VLOOKUP(C497,A01A02!$A$3:$K$13,11,FALSE),\"\")","v":""},null,0,"","","","",{"$f":"IF(I497<>0,VLOOKUP(J497,A01A02!$A$3:$K$13,11,FALSE),\"\")","v":""},{"$f":"IF(I497<>0,VLOOKUP(J497,A01A02!A:J,10,0),\"\")","v":""}]
[null,0,"","","","",{"$f":"IF(B498<>0,VLOOKUP(C498,A01A02!$A$3:$K$13,11,FALSE),\"\")","v":""},null,0,"","","","",{"$f":"IF(I498<>0,VLOOKUP(J498,A01A02!$A$3:$K$13,11,FALSE),\"\")","v":""},{"$f":"IF(I498<>0,VLOOKUP(J498,A01A02!A:J,10,0),\"\")","v":""}]
[null,0,"","","","",{"$f":"IF(B499<>0,VLOOKUP(C499,A01A02!$A$3:$K$13,11,FALSE),\"\")","v":""},null,0,"","","","",{"$f":"IF(I499<>0,VLOOKUP(J499,A01A02!$A$3:$K$13,11,FALSE),\"\")","v":""},{"$f":"IF(I499<>0,VLOOKUP(J499,A01A02!A:J,10,0),\"\")","v":""}]
[null,0,"","","","",{"$f":"IF(B500<>0,VLOOKUP(C500,A01A02!$A$3:$K$13,11,FALSE),\"\")","v":""},null,0,"","","","",{"$f":"IF(I500<>0,VLOOKUP(J500,A01A02!$A$3:$K$13,11,FALSE),\"\")","v":""},{"$f":"IF(I500<>0,VLOOKUP(J500,A01A02!A:J,10,0),\"\")","v":""}]
[null,0,"","","","",{"$f":"IF(B501<>0,VLOOKUP(C501,A01A02!$A$3:$K$13,11,FALSE),\"\")","v":""},null,0,"","","","",{"$f":"IF(I501<>0,VLOOKUP(J501,A01A02!$A$3:$K$13,11,FALSE),\"\")","v":""},{"$f":"IF(I501<>0,VLOOKUP(J501,A01A02!A:J,10,0),\"\")","v":""}]
[null,0,"","","","",{"$f":"IF(B502<>0,VLOOKUP(C502,A01A02!$A$3:$K$13,11,FALSE),\"\")","v":""},null,0,"","","","",{"$f":"IF(I502<>0,VLOOKUP(J502,A01A02!$A$3:$K$13,11,FALSE),\"\")","v":""},{"$f":"IF(I502<>0,VLOOKUP(J502,A01A02!A:J,10,0),\"\")","v":""}]
[null,0,"","","","",{"$f":"IF(B503<>0,VLOOKUP(C503,A01A02!$A$3:$K$13,11,FALSE),\"\")","v":""},null,0,"","","","",{"$f":"IF(I503<>0,VLOOKUP(J503,A01A02!$A$3:$K$13,11,FALSE),\"\")","v":""},{"$f":"IF(I503<>0,VLOOKUP(J503,A01A02!A:J,10,0),\"\")","v":""}]
[null,0,"","","","",{"$f":"IF(B504<>0,VLOOKUP(C504,A01A02!$A$3:$K$13,11,FALSE),\"\")","v":""},null,0,"","","","",{"$f":"IF(I504<>0,VLOOKUP(J504,A01A02!$A$3:$K$13,11,FALSE),\"\")","v":""},{"$f":"IF(I504<>0,VLOOKUP(J504,A01A02!A:J,10,0),\"\")","v":""}]
[null,0,"","","","",{"$f":"IF(B505<>0,VLOOKUP(C505,A01A02!$A$3:$K$13,11,FALSE),\"\")","v":""},null,0,"","","","",{"$f":"IF(I505<>0,VLOOKUP(J505,A01A02!$A$3:$K$13,11,FALSE),\"\")","v":""},{"$f":"IF(I505<>0,VLOOKUP(J505,A01A02!A:J,10,0),\"\")","v":""}]
[null,0,"","","","",{"$f":"IF(B506<>0,VLOOKUP(C506,A01A02!$A$3:$K$13,11,FALSE),\"\")","v":""},null,0,"","","","",{"$f":"IF(I506<>0,VLOOKUP(J506,A01A02!$A$3:$K$13,11,FALSE),\"\")","v":""},{"$f":"IF(I506<>0,VLOOKUP(J506,A01A02!A:J,10,0),\"\")","v":""}]
[null,0,"","","","",{"$f":"IF(B507<>0,VLOOKUP(C507,A01A02!$A$3:$K$13,11,FALSE),\"\")","v":""},null,0,"","","","",{"$f":"IF(I507<>0,VLOOKUP(J507,A01A02!$A$3:$K$13,11,FALSE),\"\")","v":""},{"$f":"IF(I507<>0,VLOOKUP(J507,A01A02!A:J,10,0),\"\")","v":""}]
[null,0,"","","","",{"$f":"IF(B508<>0,VLOOKUP(C508,A01A02!$A$3:$K$13,11,FALSE),\"\")","v":""},null,0,"","","","",{"$f":"IF(I508<>0,VLOOKUP(J508,A01A02!$A$3:$K$13,11,FALSE),\"\")","v":""},{"$f":"IF(I508<>0,VLOOKUP(J508,A01A02!A:J,10,0),\"\")","v":""}]
[null,0,"","","","",{"$f":"IF(B509<>0,VLOOKUP(C509,A01A02!$A$3:$K$13,11,FALSE),\"\")","v":""},null,0,"","","","",{"$f":"IF(I509<>0,VLOOKUP(J509,A01A02!$A$3:$K$13,11,FALSE),\"\")","v":""},{"$f":"IF(I509<>0,VLOOKUP(J509,A01A02!A:J,10,0),\"\")","v":""}]
[null,0,"","","","",{"$f":"IF(B510<>0,VLOOKUP(C510,A01A02!$A$3:$K$13,11,FALSE),\"\")","v":""},null,0,"","","","",{"$f":"IF(I510<>0,VLOOKUP(J510,A01A02!$A$3:$K$13,11,FALSE),\"\")","v":""},{"$f":"IF(I510<>0,VLOOKUP(J510,A01A02!A:J,10,0),\"\")","v":""}]
[null,0,"","","","",{"$f":"IF(B511<>0,VLOOKUP(C511,A01A02!$A$3:$K$13,11,FALSE),\"\")","v":""},null,0,"","","","",{"$f":"IF(I511<>0,VLOOKUP(J511,A01A02!$A$3:$K$13,11,FALSE),\"\")","v":""},{"$f":"IF(I511<>0,VLOOKUP(J511,A01A02!A:J,10,0),\"\")","v":""}]
[null,0,"","","","",{"$f":"IF(B512<>0,VLOOKUP(C512,A01A02!$A$3:$K$13,11,FALSE),\"\")","v":""},null,0,"","","","",{"$f":"IF(I512<>0,VLOOKUP(J512,A01A02!$A$3:$K$13,11,FALSE),\"\")","v":""},{"$f":"IF(I512<>0,VLOOKUP(J512,A01A02!A:J,10,0),\"\")","v":""}]
[null,0,"","","","",{"$f":"IF(B513<>0,VLOOKUP(C513,A01A02!$A$3:$K$13,11,FALSE),\"\")","v":""},null,0,"","","","",{"$f":"IF(I513<>0,VLOOKUP(J513,A01A02!$A$3:$K$13,11,FALSE),\"\")","v":""},{"$f":"IF(I513<>0,VLOOKUP(J513,A01A02!A:J,10,0),\"\")","v":""}]
[null,0,"","","","",{"$f":"IF(B514<>0,VLOOKUP(C514,A01A02!$A$3:$K$13,11,FALSE),\"\")","v":""},null,0,"","","","",{"$f":"IF(I514<>0,VLOOKUP(J514,A01A02!$A$3:$K$13,11,FALSE),\"\")","v":""},{"$f":"IF(I514<>0,VLOOKUP(J514,A01A02!A:J,10,0),\"\")","v":""}]
[null,{"$f":"IF(A515<>\"\",xycall(A515),0)","v":0},"","","","",{"$f":"IF(B515<>0,VLOOKUP(C515,A01A02!$A$3:$K$13,11,FALSE),\"\")","v":""},null,0,"","","","",{"$f":"IF(I515<>0,VLOOKUP(J515,A01A02!$A$3:$K$13,11,FALSE),\"\")","v":""},{"$f":"IF(I515<>0,VLOOKUP(J515,A01A02!A:J,10,0),\"\")","v":""}]
[null,0,{"$f":"IF(B516<>0,znoget(B516),\"\")","v":""},"","","",{"$f":"IF(B516<>0,VLOOKUP(C516,A01A02!$A$3:$K$13,11,FALSE),\"\")","v":""},null,{"$f":"IF(H516<>\"\",xycall(H516),0)","v":0},{"$f":"IF(I516<>0,znoget(I516),\"\")","v":""},"","","",{"$f":"IF(I516<>0,VLOOKUP(J516,A01A02!$A$3:$K$13,11,FALSE),\"\")","v":""},{"$f":"IF(I516<>0,VLOOKUP(J516,A01A02!A:J,10,0),\"\")","v":""}]
[null,0,"","","","",{"$f":"IF(B517<>0,VLOOKUP(C517,A01A02!$A$3:$K$13,11,FALSE),\"\")","v":""},null,0,"","","","",{"$f":"IF(I517<>0,VLOOKUP(J517,A01A02!$A$3:$K$13,11,FALSE),\"\")","v":""},{"$f":"IF(I517<>0,VLOOKUP(J517,A01A02!A:J,10,0),\"\")","v":""}]
[null,0,"","","","",{"$f":"IF(B518<>0,VLOOKUP(C518,A01A02!$A$3:$K$13,11,FALSE),\"\")","v":""},null,0,"","","","",{"$f":"IF(I518<>0,VLOOKUP(J518,A01A02!$A$3:$K$13,11,FALSE),\"\")","v":""},{"$f":"IF(I518<>0,VLOOKUP(J518,A01A02!A:J,10,0),\"\")","v":""}]
[null,0,"","","","",{"$f":"IF(B519<>0,VLOOKUP(C519,A01A02!$A$3:$K$13,11,FALSE),\"\")","v":""},null,0,"","","","",{"$f":"IF(I519<>0,VLOOKUP(J519,A01A02!$A$3:$K$13,11,FALSE),\"\")","v":""},{"$f":"IF(I519<>0,VLOOKUP(J519,A01A02!A:J,10,0),\"\")","v":""}]
[null,0,"","","","",{"$f":"IF(B520<>0,VLOOKUP(C520,A01A02!$A$3:$K$13,11,FALSE),\"\")","v":""},null,0,"","","","",{"$f":"IF(I520<>0,VLOOKUP(J520,A01A02!$A$3:$K$13,11,FALSE),\"\")","v":""},{"$f":"IF(I520<>0,VLOOKUP(J520,A01A02!A:J,10,0),\"\")","v":""}]
[null,0,"","","","",{"$f":"IF(B521<>0,VLOOKUP(C521,A01A02!$A$3:$K$13,11,FALSE),\"\")","v":""},null,0,"","","","",{"$f":"IF(I521<>0,VLOOKUP(J521,A01A02!$A$3:$K$13,11,FALSE),\"\")","v":""},{"$f":"IF(I521<>0,VLOOKUP(J521,A01A02!A:J,10,0),\"\")","v":""}]
[null,0,"","","","",{"$f":"IF(B522<>0,VLOOKUP(C522,A01A02!$A$3:$K$13,11,FALSE),\"\")","v":""},null,0,"","","","",{"$f":"IF(I522<>0,VLOOKUP(J522,A01A02!$A$3:$K$13,11,FALSE),\"\")","v":""},{"$f":"IF(I522<>0,VLOOKUP(J522,A01A02!A:J,10,0),\"\")","v":""}]
[null,0,"","","","",{"$f":"IF(B523<>0,VLOOKUP(C523,A01A02!$A$3:$K$13,11,FALSE),\"\")","v":""},null,0,"","","","",{"$f":"IF(I523<>0,VLOOKUP(J523,A01A02!$A$3:$K$13,11,FALSE),\"\")","v":""},{"$f":"IF(I523<>0,VLOOKUP(J523,A01A02!A:J,10,0),\"\")","v":""}]
[null,0,"","","","",{"$f":"IF(B524<>0,VLOOKUP(C524,A01A02!$A$3:$K$13,11,FALSE),\"\")","v":""},null,0,"","","","",{"$f":"IF(I524<>0,VLOOKUP(J524,A01A02!$A$3:$K$13,11,FALSE),\"\")","v":""},{"$f":"IF(I524<>0,VLOOKUP(J524,A01A02!A:J,10,0),\"\")","v":""}]
[null,0,"","","","",{"$f":"IF(B525<>0,VLOOKUP(C525,A01A02!$A$3:$K$13,11,FALSE),\"\")","v":""},null,0,"","","","",{"$f":"IF(I525<>0,VLOOKUP(J525,A01A02!$A$3:$K$13,11,FALSE),\"\")","v":""},{"$f":"IF(I525<>0,VLOOKUP(J525,A01A02!A:J,10,0),\"\")","v":""}]
[null,0,"","","","",{"$f":"IF(B526<>0,VLOOKUP(C526,A01A02!$A$3:$K$13,11,FALSE),\"\")","v":""},null,0,"","","","",{"$f":"IF(I526<>0,VLOOKUP(J526,A01A02!$A$3:$K$13,11,FALSE),\"\")","v":""},{"$f":"IF(I526<>0,VLOOKUP(J526,A01A02!A:J,10,0),\"\")","v":""}]
[null,0,"","","","",{"$f":"IF(B527<>0,VLOOKUP(C527,A01A02!$A$3:$K$13,11,FALSE),\"\")","v":""},null,0,"","","","",{"$f":"IF(I527<>0,VLOOKUP(J527,A01A02!$A$3:$K$13,11,FALSE),\"\")","v":""},{"$f":"IF(I527<>0,VLOOKUP(J527,A01A02!A:J,10,0),\"\")","v":""}]
[null,0,"","","","",{"$f":"IF(B528<>0,VLOOKUP(C528,A01A02!$A$3:$K$13,11,FALSE),\"\")","v":""},null,0,"","","","",{"$f":"IF(I528<>0,VLOOKUP(J528,A01A02!$A$3:$K$13,11,FALSE),\"\")","v":""},{"$f":"IF(I528<>0,VLOOKUP(J528,A01A02!A:J,10,0),\"\")","v":""}]
[null,0,"","","","",{"$f":"IF(B529<>0,VLOOKUP(C529,A01A02!$A$3:$K$13,11,FALSE),\"\")","v":""},null,0,"","","","",{"$f":"IF(I529<>0,VLOOKUP(J529,A01A02!$A$3:$K$13,11,FALSE),\"\")","v":""},{"$f":"IF(I529<>0,VLOOKUP(J529,A01A02!A:J,10,0),\"\")","v":""}]
[null,0,"","","","",{"$f":"IF(B530<>0,VLOOKUP(C530,A01A02!$A$3:$K$13,11,FALSE),\"\")","v":""},null,0,"","","","",{"$f":"IF(I530<>0,VLOOKUP(J530,A01A02!$A$3:$K$13,11,FALSE),\"\")","v":""},{"$f":"IF(I530<>0,VLOOKUP(J530,A01A02!A:J,10,0),\"\")","v":""}]
[null,0,"","","","",{"$f":"IF(B531<>0,VLOOKUP(C531,A01A02!$A$3:$K$13,11,FALSE),\"\")","v":""},null,0,"","","","",{"$f":"IF(I531<>0,VLOOKUP(J531,A01A02!$A$3:$K$13,11,FALSE),\"\")","v":""},{"$f":"IF(I531<>0,VLOOKUP(J531,A01A02!A:J,10,0),\"\")","v":""}]
[null,0,"","","","",{"$f":"IF(B532<>0,VLOOKUP(C532,A01A02!$A$3:$K$13,11,FALSE),\"\")","v":""},null,0,"","","","",{"$f":"IF(I532<>0,VLOOKUP(J532,A01A02!$A$3:$K$13,11,FALSE),\"\")","v":""},{"$f":"IF(I532<>0,VLOOKUP(J532,A01A02!A:J,10,0),\"\")","v":""}]
[null,0,"","","","",{"$f":"IF(B533<>0,VLOOKUP(C533,A01A02!$A$3:$K$13,11,FALSE),\"\")","v":""},null,0,"","","","",{"$f":"IF(I533<>0,VLOOKUP(J533,A01A02!$A$3:$K$13,11,FALSE),\"\")","v":""},{"$f":"IF(I533<>0,VLOOKUP(J533,A01A02!A:J,10,0),\"\")","v":""}]
[null,0,"","","","",{"$f":"IF(B534<>0,VLOOKUP(C534,A01A02!$A$3:$K$13,11,FALSE),\"\")","v":""},null,0,"","","","",{"$f":"IF(I534<>0,VLOOKUP(J534,A01A02!$A$3:$K$13,11,FALSE),\"\")","v":""},{"$f":"IF(I534<>0,VLOOKUP(J534,A01A02!A:J,10,0),\"\")","v":""}]
[null,0,"","","","",{"$f":"IF(B535<>0,VLOOKUP(C535,A01A02!$A$3:$K$13,11,FALSE),\"\")","v":""},null,0,"","","","",{"$f":"IF(I535<>0,VLOOKUP(J535,A01A02!$A$3:$K$13,11,FALSE),\"\")","v":""},{"$f":"IF(I535<>0,VLOOKUP(J535,A01A02!A:J,10,0),\"\")","v":""}]
[null,0,"","","","",{"$f":"IF(B536<>0,VLOOKUP(C536,A01A02!$A$3:$K$13,11,FALSE),\"\")","v":""},null,0,"","","","",{"$f":"IF(I536<>0,VLOOKUP(J536,A01A02!$A$3:$K$13,11,FALSE),\"\")","v":""},{"$f":"IF(I536<>0,VLOOKUP(J536,A01A02!A:J,10,0),\"\")","v":""}]
[null,0,"","","","",{"$f":"IF(B537<>0,VLOOKUP(C537,A01A02!$A$3:$K$13,11,FALSE),\"\")","v":""},null,0,"","","","",{"$f":"IF(I537<>0,VLOOKUP(J537,A01A02!$A$3:$K$13,11,FALSE),\"\")","v":""},{"$f":"IF(I537<>0,VLOOKUP(J537,A01A02!A:J,10,0),\"\")","v":""}]
[null,0,"","","","",{"$f":"IF(B538<>0,VLOOKUP(C538,A01A02!$A$3:$K$13,11,FALSE),\"\")","v":""},null,0,"","","","",{"$f":"IF(I538<>0,VLOOKUP(J538,A01A02!$A$3:$K$13,11,FALSE),\"\")","v":""},{"$f":"IF(I538<>0,VLOOKUP(J538,A01A02!A:J,10,0),\"\")","v":""}]
[null,0,"","","","",{"$f":"IF(B539<>0,VLOOKUP(C539,A01A02!$A$3:$K$13,11,FALSE),\"\")","v":""},null,0,"","","","",{"$f":"IF(I539<>0,VLOOKUP(J539,A01A02!$A$3:$K$13,11,FALSE),\"\")","v":""},{"$f":"IF(I539<>0,VLOOKUP(J539,A01A02!A:J,10,0),\"\")","v":""}]
[null,0,"","","","",{"$f":"IF(B540<>0,VLOOKUP(C540,A01A02!$A$3:$K$13,11,FALSE),\"\")","v":""},null,0,"","","","",{"$f":"IF(I540<>0,VLOOKUP(J540,A01A02!$A$3:$K$13,11,FALSE),\"\")","v":""},{"$f":"IF(I540<>0,VLOOKUP(J540,A01A02!A:J,10,0),\"\")","v":""}]
[null,0,"","","","",{"$f":"IF(B541<>0,VLOOKUP(C541,A01A02!$A$3:$K$13,11,FALSE),\"\")","v":""},null,0,"","","","",{"$f":"IF(I541<>0,VLOOKUP(J541,A01A02!$A$3:$K$13,11,FALSE),\"\")","v":""},{"$f":"IF(I541<>0,VLOOKUP(J541,A01A02!A:J,10,0),\"\")","v":""}]
[null,0,"","","","",{"$f":"IF(B542<>0,VLOOKUP(C542,A01A02!$A$3:$K$13,11,FALSE),\"\")","v":""},null,0,"","","","",{"$f":"IF(I542<>0,VLOOKUP(J542,A01A02!$A$3:$K$13,11,FALSE),\"\")","v":""},{"$f":"IF(I542<>0,VLOOKUP(J542,A01A02!A:J,10,0),\"\")","v":""}]
[null,0,"","","","",{"$f":"IF(B543<>0,VLOOKUP(C543,A01A02!$A$3:$K$13,11,FALSE),\"\")","v":""},null,0,"","","","",{"$f":"IF(I543<>0,VLOOKUP(J543,A01A02!$A$3:$K$13,11,FALSE),\"\")","v":""},{"$f":"IF(I543<>0,VLOOKUP(J543,A01A02!A:J,10,0),\"\")","v":""}]
[null,0,"","","","",{"$f":"IF(B544<>0,VLOOKUP(C544,A01A02!$A$3:$K$13,11,FALSE),\"\")","v":""},null,0,"","","","",{"$f":"IF(I544<>0,VLOOKUP(J544,A01A02!$A$3:$K$13,11,FALSE),\"\")","v":""},{"$f":"IF(I544<>0,VLOOKUP(J544,A01A02!A:J,10,0),\"\")","v":""}]
[null,0,"","","","",{"$f":"IF(B545<>0,VLOOKUP(C545,A01A02!$A$3:$K$13,11,FALSE),\"\")","v":""},null,0,"","","","",{"$f":"IF(I545<>0,VLOOKUP(J545,A01A02!$A$3:$K$13,11,FALSE),\"\")","v":""},{"$f":"IF(I545<>0,VLOOKUP(J545,A01A02!A:J,10,0),\"\")","v":""}]
[null,0,"","","","",{"$f":"IF(B546<>0,VLOOKUP(C546,A01A02!$A$3:$K$13,11,FALSE),\"\")","v":""},null,0,"","","","",{"$f":"IF(I546<>0,VLOOKUP(J546,A01A02!$A$3:$K$13,11,FALSE),\"\")","v":""},{"$f":"IF(I546<>0,VLOOKUP(J546,A01A02!A:J,10,0),\"\")","v":""}]
[null,0,"","","","",{"$f":"IF(B547<>0,VLOOKUP(C547,A01A02!$A$3:$K$13,11,FALSE),\"\")","v":""},null,0,"","","","",{"$f":"IF(I547<>0,VLOOKUP(J547,A01A02!$A$3:$K$13,11,FALSE),\"\")","v":""},{"$f":"IF(I547<>0,VLOOKUP(J547,A01A02!A:J,10,0),\"\")","v":""}]
[null,0,"","","","",{"$f":"IF(B548<>0,VLOOKUP(C548,A01A02!$A$3:$K$13,11,FALSE),\"\")","v":""},null,0,"","","","",{"$f":"IF(I548<>0,VLOOKUP(J548,A01A02!$A$3:$K$13,11,FALSE),\"\")","v":""},{"$f":"IF(I548<>0,VLOOKUP(J548,A01A02!A:J,10,0),\"\")","v":""}]
[null,0,"",{"$f":"IF(B549<>0,znaget(B549),\"\")","v":""},{"$f":"IF(B549<>0,xget(B549),\"\")","v":""},{"$f":"IF(B549<>0,yget(B549),\"\")","v":""},{"$f":"IF(B549<>0,VLOOKUP(C549,A01A02!$A$3:$K$13,11,FALSE),\"\")","v":""},null,0,"",{"$f":"IF(I549<>0,znaget(I549),\"\")","v":""},{"$f":"IF(I549<>0,xget(I549),\"\")","v":""},{"$f":"IF(I549<>0,yget(I549),\"\")","v":""},{"$f":"IF(I549<>0,VLOOKUP(J549,A01A02!$A$3:$K$13,11,FALSE),\"\")","v":""},{"$f":"IF(I549<>0,VLOOKUP(J549,A01A02!A:J,10,0),\"\")","v":""}]
[null,0,"","","","",{"$f":"IF(B550<>0,VLOOKUP(C550,A01A02!$A$3:$K$13,11,FALSE),\"\")","v":""},null,0,"","","","",{"$f":"IF(I550<>0,VLOOKUP(J550,A01A02!$A$3:$K$13,11,FALSE),\"\")","v":""},{"$f":"IF(I550<>0,VLOOKUP(J550,A01A02!A:J,10,0),\"\")","v":""}]
[null,0,"","","","",{"$f":"IF(B551<>0,VLOOKUP(C551,A01A02!$A$3:$K$13,11,FALSE),\"\")","v":""},null,0,"","","","",{"$f":"IF(I551<>0,VLOOKUP(J551,A01A02!$A$3:$K$13,11,FALSE),\"\")","v":""},{"$f":"IF(I551<>0,VLOOKUP(J551,A01A02!A:J,10,0),\"\")","v":""}]
[null,0,"","","","",{"$f":"IF(B552<>0,VLOOKUP(C552,A01A02!$A$3:$K$13,11,FALSE),\"\")","v":""},null,0,"","","","",{"$f":"IF(I552<>0,VLOOKUP(J552,A01A02!$A$3:$K$13,11,FALSE),\"\")","v":""},{"$f":"IF(I552<>0,VLOOKUP(J552,A01A02!A:J,10,0),\"\")","v":""}]
[null,0,"","","","",{"$f":"IF(B553<>0,VLOOKUP(C553,A01A02!$A$3:$K$13,11,FALSE),\"\")","v":""},null,0,"","","","",{"$f":"IF(I553<>0,VLOOKUP(J553,A01A02!$A$3:$K$13,11,FALSE),\"\")","v":""},{"$f":"IF(I553<>0,VLOOKUP(J553,A01A02!A:J,10,0),\"\")","v":""}]
[null,0,"","","","",{"$f":"IF(B554<>0,VLOOKUP(C554,A01A02!$A$3:$K$13,11,FALSE),\"\")","v":""},null,0,"","","","",{"$f":"IF(I554<>0,VLOOKUP(J554,A01A02!$A$3:$K$13,11,FALSE),\"\")","v":""},{"$f":"IF(I554<>0,VLOOKUP(J554,A01A02!A:J,10,0),\"\")","v":""}]
[null,0,"","","","",{"$f":"IF(B555<>0,VLOOKUP(C555,A01A02!$A$3:$K$13,11,FALSE),\"\")","v":""},null,0,"","","","",{"$f":"IF(I555<>0,VLOOKUP(J555,A01A02!$A$3:$K$13,11,FALSE),\"\")","v":""},{"$f":"IF(I555<>0,VLOOKUP(J555,A01A02!A:J,10,0),\"\")","v":""}]
[null,0,"","","","",{"$f":"IF(B556<>0,VLOOKUP(C556,A01A02!$A$3:$K$13,11,FALSE),\"\")","v":""},null,0,"","","","",{"$f":"IF(I556<>0,VLOOKUP(J556,A01A02!$A$3:$K$13,11,FALSE),\"\")","v":""},{"$f":"IF(I556<>0,VLOOKUP(J556,A01A02!A:J,10,0),\"\")","v":""}]
[null,0,"","","","",{"$f":"IF(B557<>0,VLOOKUP(C557,A01A02!$A$3:$K$13,11,FALSE),\"\")","v":""},null,0,"","","","",{"$f":"IF(I557<>0,VLOOKUP(J557,A01A02!$A$3:$K$13,11,FALSE),\"\")","v":""},{"$f":"IF(I557<>0,VLOOKUP(J557,A01A02!A:J,10,0),\"\")","v":""}]
[null,0,"","","","",{"$f":"IF(B558<>0,VLOOKUP(C558,A01A02!$A$3:$K$13,11,FALSE),\"\")","v":""},null,0,"","","","",{"$f":"IF(I558<>0,VLOOKUP(J558,A01A02!$A$3:$K$13,11,FALSE),\"\")","v":""},{"$f":"IF(I558<>0,VLOOKUP(J558,A01A02!A:J,10,0),\"\")","v":""}]
[null,0,"","","","",{"$f":"IF(B559<>0,VLOOKUP(C559,A01A02!$A$3:$K$13,11,FALSE),\"\")","v":""},null,0,"","","","",{"$f":"IF(I559<>0,VLOOKUP(J559,A01A02!$A$3:$K$13,11,FALSE),\"\")","v":""},{"$f":"IF(I559<>0,VLOOKUP(J559,A01A02!A:J,10,0),\"\")","v":""}]
[null,0,"","","","",{"$f":"IF(B560<>0,VLOOKUP(C560,A01A02!$A$3:$K$13,11,FALSE),\"\")","v":""},null,0,"","","","",{"$f":"IF(I560<>0,VLOOKUP(J560,A01A02!$A$3:$K$13,11,FALSE),\"\")","v":""},{"$f":"IF(I560<>0,VLOOKUP(J560,A01A02!A:J,10,0),\"\")","v":""}]
[null,0,"","","","",{"$f":"IF(B561<>0,VLOOKUP(C561,A01A02!$A$3:$K$13,11,FALSE),\"\")","v":""},null,0,"","","","",{"$f":"IF(I561<>0,VLOOKUP(J561,A01A02!$A$3:$K$13,11,FALSE),\"\")","v":""},{"$f":"IF(I561<>0,VLOOKUP(J561,A01A02!A:J,10,0),\"\")","v":""}]
[null,0,"","","","",{"$f":"IF(B562<>0,VLOOKUP(C562,A01A02!$A$3:$K$13,11,FALSE),\"\")","v":""},null,0,"","","","",{"$f":"IF(I562<>0,VLOOKUP(J562,A01A02!$A$3:$K$13,11,FALSE),\"\")","v":""},{"$f":"IF(I562<>0,VLOOKUP(J562,A01A02!A:J,10,0),\"\")","v":""}]
[null,0,"","","","",{"$f":"IF(B563<>0,VLOOKUP(C563,A01A02!$A$3:$K$13,11,FALSE),\"\")","v":""},null,0,"","","","",{"$f":"IF(I563<>0,VLOOKUP(J563,A01A02!$A$3:$K$13,11,FALSE),\"\")","v":""},{"$f":"IF(I563<>0,VLOOKUP(J563,A01A02!A:J,10,0),\"\")","v":""}]
[null,0,"","","","",{"$f":"IF(B564<>0,VLOOKUP(C564,A01A02!$A$3:$K$13,11,FALSE),\"\")","v":""},null,0,"","","","",{"$f":"IF(I564<>0,VLOOKUP(J564,A01A02!$A$3:$K$13,11,FALSE),\"\")","v":""},{"$f":"IF(I564<>0,VLOOKUP(J564,A01A02!A:J,10,0),\"\")","v":""}]
[null,0,"","","","",{"$f":"IF(B565<>0,VLOOKUP(C565,A01A02!$A$3:$K$13,11,FALSE),\"\")","v":""},null,0,"","","","",{"$f":"IF(I565<>0,VLOOKUP(J565,A01A02!$A$3:$K$13,11,FALSE),\"\")","v":""},{"$f":"IF(I565<>0,VLOOKUP(J565,A01A02!A:J,10,0),\"\")","v":""}]
[null,0,"","","","",{"$f":"IF(B566<>0,VLOOKUP(C566,A01A02!$A$3:$K$13,11,FALSE),\"\")","v":""},null,0,"","","","",{"$f":"IF(I566<>0,VLOOKUP(J566,A01A02!$A$3:$K$13,11,FALSE),\"\")","v":""},{"$f":"IF(I566<>0,VLOOKUP(J566,A01A02!A:J,10,0),\"\")","v":""}]
[null,0,"","","","",{"$f":"IF(B567<>0,VLOOKUP(C567,A01A02!$A$3:$K$13,11,FALSE),\"\")","v":""},null,0,"","","","",{"$f":"IF(I567<>0,VLOOKUP(J567,A01A02!$A$3:$K$13,11,FALSE),\"\")","v":""},{"$f":"IF(I567<>0,VLOOKUP(J567,A01A02!A:J,10,0),\"\")","v":""}]
[null,0,"","","","",{"$f":"IF(B568<>0,VLOOKUP(C568,A01A02!$A$3:$K$13,11,FALSE),\"\")","v":""},null,0,"","","","",{"$f":"IF(I568<>0,VLOOKUP(J568,A01A02!$A$3:$K$13,11,FALSE),\"\")","v":""},{"$f":"IF(I568<>0,VLOOKUP(J568,A01A02!A:J,10,0),\"\")","v":""}]
[null,0,"","","","",{"$f":"IF(B569<>0,VLOOKUP(C569,A01A02!$A$3:$K$13,11,FALSE),\"\")","v":""},null,0,"","","","",{"$f":"IF(I569<>0,VLOOKUP(J569,A01A02!$A$3:$K$13,11,FALSE),\"\")","v":""},{"$f":"IF(I569<>0,VLOOKUP(J569,A01A02!A:J,10,0),\"\")","v":""}]
[null,0,"","","","",{"$f":"IF(B570<>0,VLOOKUP(C570,A01A02!$A$3:$K$13,11,FALSE),\"\")","v":""},null,0,"","","","",{"$f":"IF(I570<>0,VLOOKUP(J570,A01A02!$A$3:$K$13,11,FALSE),\"\")","v":""},{"$f":"IF(I570<>0,VLOOKUP(J570,A01A02!A:J,10,0),\"\")","v":""}]
[null,0,"","","","",{"$f":"IF(B571<>0,VLOOKUP(C571,A01A02!$A$3:$K$13,11,FALSE),\"\")","v":""},null,0,"","","","",{"$f":"IF(I571<>0,VLOOKUP(J571,A01A02!$A$3:$K$13,11,FALSE),\"\")","v":""},{"$f":"IF(I571<>0,VLOOKUP(J571,A01A02!A:J,10,0),\"\")","v":""}]
[null,0,"","","","",{"$f":"IF(B572<>0,VLOOKUP(C572,A01A02!$A$3:$K$13,11,FALSE),\"\")","v":""},null,0,"","","","",{"$f":"IF(I572<>0,VLOOKUP(J572,A01A02!$A$3:$K$13,11,FALSE),\"\")","v":""},{"$f":"IF(I572<>0,VLOOKUP(J572,A01A02!A:J,10,0),\"\")","v":""}]
[null,0,"","","","",{"$f":"IF(B573<>0,VLOOKUP(C573,A01A02!$A$3:$K$13,11,FALSE),\"\")","v":""},null,0,"","","","",{"$f":"IF(I573<>0,VLOOKUP(J573,A01A02!$A$3:$K$13,11,FALSE),\"\")","v":""},{"$f":"IF(I573<>0,VLOOKUP(J573,A01A02!A:J,10,0),\"\")","v":""}]
[null,0,"","","","",{"$f":"IF(B574<>0,VLOOKUP(C574,A01A02!$A$3:$K$13,11,FALSE),\"\")","v":""},null,0,"","","","",{"$f":"IF(I574<>0,VLOOKUP(J574,A01A02!$A$3:$K$13,11,FALSE),\"\")","v":""},{"$f":"IF(I574<>0,VLOOKUP(J574,A01A02!A:J,10,0),\"\")","v":""}]
[null,0,"","","","",{"$f":"IF(B575<>0,VLOOKUP(C575,A01A02!$A$3:$K$13,11,FALSE),\"\")","v":""},null,0,"","","","",{"$f":"IF(I575<>0,VLOOKUP(J575,A01A02!$A$3:$K$13,11,FALSE),\"\")","v":""},{"$f":"IF(I575<>0,VLOOKUP(J575,A01A02!A:J,10,0),\"\")","v":""}]
[null,0,"","","","",{"$f":"IF(B576<>0,VLOOKUP(C576,A01A02!$A$3:$K$13,11,FALSE),\"\")","v":""},null,0,"","","","",{"$f":"IF(I576<>0,VLOOKUP(J576,A01A02!$A$3:$K$13,11,FALSE),\"\")","v":""},{"$f":"IF(I576<>0,VLOOKUP(J576,A01A02!A:J,10,0),\"\")","v":""}]
[null,0,"","","","",{"$f":"IF(B577<>0,VLOOKUP(C577,A01A02!$A$3:$K$13,11,FALSE),\"\")","v":""},null,0,"","","","",{"$f":"IF(I577<>0,VLOOKUP(J577,A01A02!$A$3:$K$13,11,FALSE),\"\")","v":""},{"$f":"IF(I577<>0,VLOOKUP(J577,A01A02!A:J,10,0),\"\")","v":""}]
[null,0,"","","","",{"$f":"IF(B578<>0,VLOOKUP(C578,A01A02!$A$3:$K$13,11,FALSE),\"\")","v":""},null,0,"","","","",{"$f":"IF(I578<>0,VLOOKUP(J578,A01A02!$A$3:$K$13,11,FALSE),\"\")","v":""},{"$f":"IF(I578<>0,VLOOKUP(J578,A01A02!A:J,10,0),\"\")","v":""}]
[null,{"$f":"IF(A579<>\"\",xycall(A579),0)","v":0},"","","","",{"$f":"IF(B579<>0,VLOOKUP(C579,A01A02!$A$3:$K$13,11,FALSE),\"\")","v":""},null,0,"","","","",{"$f":"IF(I579<>0,VLOOKUP(J579,A01A02!$A$3:$K$13,11,FALSE),\"\")","v":""},{"$f":"IF(I579<>0,VLOOKUP(J579,A01A02!A:J,10,0),\"\")","v":""}]
[null,0,{"$f":"IF(B580<>0,znoget(B580),\"\")","v":""},"","","",{"$f":"IF(B580<>0,VLOOKUP(C580,A01A02!$A$3:$K$13,11,FALSE),\"\")","v":""},null,{"$f":"IF(H580<>\"\",xycall(H580),0)","v":0},{"$f":"IF(I580<>0,znoget(I580),\"\")","v":""},"","","",{"$f":"IF(I580<>0,VLOOKUP(J580,A01A02!$A$3:$K$13,11,FALSE),\"\")","v":""},{"$f":"IF(I580<>0,VLOOKUP(J580,A01A02!A:J,10,0),\"\")","v":""}]
[null,0,"","","","",{"$f":"IF(B581<>0,VLOOKUP(C581,A01A02!$A$3:$K$13,11,FALSE),\"\")","v":""},null,0,"","","","",{"$f":"IF(I581<>0,VLOOKUP(J581,A01A02!$A$3:$K$13,11,FALSE),\"\")","v":""},{"$f":"IF(I581<>0,VLOOKUP(J581,A01A02!A:J,10,0),\"\")","v":""}]
[null,0,"","","","",{"$f":"IF(B582<>0,VLOOKUP(C582,A01A02!$A$3:$K$13,11,FALSE),\"\")","v":""},null,0,"","","","",{"$f":"IF(I582<>0,VLOOKUP(J582,A01A02!$A$3:$K$13,11,FALSE),\"\")","v":""},{"$f":"IF(I582<>0,VLOOKUP(J582,A01A02!A:J,10,0),\"\")","v":""}]
[null,0,"","","","",{"$f":"IF(B583<>0,VLOOKUP(C583,A01A02!$A$3:$K$13,11,FALSE),\"\")","v":""},null,0,"","","","",{"$f":"IF(I583<>0,VLOOKUP(J583,A01A02!$A$3:$K$13,11,FALSE),\"\")","v":""},{"$f":"IF(I583<>0,VLOOKUP(J583,A01A02!A:J,10,0),\"\")","v":""}]
[null,0,"","","","",{"$f":"IF(B584<>0,VLOOKUP(C584,A01A02!$A$3:$K$13,11,FALSE),\"\")","v":""},null,0,"","","","",{"$f":"IF(I584<>0,VLOOKUP(J584,A01A02!$A$3:$K$13,11,FALSE),\"\")","v":""},{"$f":"IF(I584<>0,VLOOKUP(J584,A01A02!A:J,10,0),\"\")","v":""}]
[null,0,"","","","",{"$f":"IF(B585<>0,VLOOKUP(C585,A01A02!$A$3:$K$13,11,FALSE),\"\")","v":""},null,0,"","","","",{"$f":"IF(I585<>0,VLOOKUP(J585,A01A02!$A$3:$K$13,11,FALSE),\"\")","v":""},{"$f":"IF(I585<>0,VLOOKUP(J585,A01A02!A:J,10,0),\"\")","v":""}]
[null,0,"","","","",{"$f":"IF(B586<>0,VLOOKUP(C586,A01A02!$A$3:$K$13,11,FALSE),\"\")","v":""},null,0,"","","","",{"$f":"IF(I586<>0,VLOOKUP(J586,A01A02!$A$3:$K$13,11,FALSE),\"\")","v":""},{"$f":"IF(I586<>0,VLOOKUP(J586,A01A02!A:J,10,0),\"\")","v":""}]
[null,0,"","","","",{"$f":"IF(B587<>0,VLOOKUP(C587,A01A02!$A$3:$K$13,11,FALSE),\"\")","v":""},null,0,"","","","",{"$f":"IF(I587<>0,VLOOKUP(J587,A01A02!$A$3:$K$13,11,FALSE),\"\")","v":""},{"$f":"IF(I587<>0,VLOOKUP(J587,A01A02!A:J,10,0),\"\")","v":""}]
[null,0,"","","","",{"$f":"IF(B588<>0,VLOOKUP(C588,A01A02!$A$3:$K$13,11,FALSE),\"\")","v":""},null,0,"","","","",{"$f":"IF(I588<>0,VLOOKUP(J588,A01A02!$A$3:$K$13,11,FALSE),\"\")","v":""},{"$f":"IF(I588<>0,VLOOKUP(J588,A01A02!A:J,10,0),\"\")","v":""}]
[null,0,"","","","",{"$f":"IF(B589<>0,VLOOKUP(C589,A01A02!$A$3:$K$13,11,FALSE),\"\")","v":""},null,0,"","","","",{"$f":"IF(I589<>0,VLOOKUP(J589,A01A02!$A$3:$K$13,11,FALSE),\"\")","v":""},{"$f":"IF(I589<>0,VLOOKUP(J589,A01A02!A:J,10,0),\"\")","v":""}]
[null,0,"","","","",{"$f":"IF(B590<>0,VLOOKUP(C590,A01A02!$A$3:$K$13,11,FALSE),\"\")","v":""},null,0,"","","","",{"$f":"IF(I590<>0,VLOOKUP(J590,A01A02!$A$3:$K$13,11,FALSE),\"\")","v":""},{"$f":"IF(I590<>0,VLOOKUP(J590,A01A02!A:J,10,0),\"\")","v":""}]
[null,0,"","","","",{"$f":"IF(B591<>0,VLOOKUP(C591,A01A02!$A$3:$K$13,11,FALSE),\"\")","v":""},null,0,"","","","",{"$f":"IF(I591<>0,VLOOKUP(J591,A01A02!$A$3:$K$13,11,FALSE),\"\")","v":""},{"$f":"IF(I591<>0,VLOOKUP(J591,A01A02!A:J,10,0),\"\")","v":""}]
[null,0,"","","","",{"$f":"IF(B592<>0,VLOOKUP(C592,A01A02!$A$3:$K$13,11,FALSE),\"\")","v":""},null,0,"","","","",{"$f":"IF(I592<>0,VLOOKUP(J592,A01A02!$A$3:$K$13,11,FALSE),\"\")","v":""},{"$f":"IF(I592<>0,VLOOKUP(J592,A01A02!A:J,10,0),\"\")","v":""}]
[null,0,"","","","",{"$f":"IF(B593<>0,VLOOKUP(C593,A01A02!$A$3:$K$13,11,FALSE),\"\")","v":""},null,0,"","","","",{"$f":"IF(I593<>0,VLOOKUP(J593,A01A02!$A$3:$K$13,11,FALSE),\"\")","v":""},{"$f":"IF(I593<>0,VLOOKUP(J593,A01A02!A:J,10,0),\"\")","v":""}]
[null,0,"","","","",{"$f":"IF(B594<>0,VLOOKUP(C594,A01A02!$A$3:$K$13,11,FALSE),\"\")","v":""},null,0,"","","","",{"$f":"IF(I594<>0,VLOOKUP(J594,A01A02!$A$3:$K$13,11,FALSE),\"\")","v":""},{"$f":"IF(I594<>0,VLOOKUP(J594,A01A02!A:J,10,0),\"\")","v":""}]
[null,0,"","","","",{"$f":"IF(B595<>0,VLOOKUP(C595,A01A02!$A$3:$K$13,11,FALSE),\"\")","v":""},null,0,"","","","",{"$f":"IF(I595<>0,VLOOKUP(J595,A01A02!$A$3:$K$13,11,FALSE),\"\")","v":""},{"$f":"IF(I595<>0,VLOOKUP(J595,A01A02!A:J,10,0),\"\")","v":""}]
[null,0,"","","","",{"$f":"IF(B596<>0,VLOOKUP(C596,A01A02!$A$3:$K$13,11,FALSE),\"\")","v":""},null,0,"","","","",{"$f":"IF(I596<>0,VLOOKUP(J596,A01A02!$A$3:$K$13,11,FALSE),\"\")","v":""},{"$f":"IF(I596<>0,VLOOKUP(J596,A01A02!A:J,10,0),\"\")","v":""}]
[null,0,"","","","",{"$f":"IF(B597<>0,VLOOKUP(C597,A01A02!$A$3:$K$13,11,FALSE),\"\")","v":""},null,0,"","","","",{"$f":"IF(I597<>0,VLOOKUP(J597,A01A02!$A$3:$K$13,11,FALSE),\"\")","v":""},{"$f":"IF(I597<>0,VLOOKUP(J597,A01A02!A:J,10,0),\"\")","v":""}]
[null,0,"","","","",{"$f":"IF(B598<>0,VLOOKUP(C598,A01A02!$A$3:$K$13,11,FALSE),\"\")","v":""},null,0,"","","","",{"$f":"IF(I598<>0,VLOOKUP(J598,A01A02!$A$3:$K$13,11,FALSE),\"\")","v":""},{"$f":"IF(I598<>0,VLOOKUP(J598,A01A02!A:J,10,0),\"\")","v":""}]
[null,0,"","","","",{"$f":"IF(B599<>0,VLOOKUP(C599,A01A02!$A$3:$K$13,11,FALSE),\"\")","v":""},null,0,"","","","",{"$f":"IF(I599<>0,VLOOKUP(J599,A01A02!$A$3:$K$13,11,FALSE),\"\")","v":""},{"$f":"IF(I599<>0,VLOOKUP(J599,A01A02!A:J,10,0),\"\")","v":""}]
[null,0,"","","","",{"$f":"IF(B600<>0,VLOOKUP(C600,A01A02!$A$3:$K$13,11,FALSE),\"\")","v":""},null,0,"","","","",{"$f":"IF(I600<>0,VLOOKUP(J600,A01A02!$A$3:$K$13,11,FALSE),\"\")","v":""},{"$f":"IF(I600<>0,VLOOKUP(J600,A01A02!A:J,10,0),\"\")","v":""}]
[null,0,"","","","",{"$f":"IF(B601<>0,VLOOKUP(C601,A01A02!$A$3:$K$13,11,FALSE),\"\")","v":""},null,0,"","","","",{"$f":"IF(I601<>0,VLOOKUP(J601,A01A02!$A$3:$K$13,11,FALSE),\"\")","v":""},{"$f":"IF(I601<>0,VLOOKUP(J601,A01A02!A:J,10,0),\"\")","v":""}]
[null,0,"","","","",{"$f":"IF(B602<>0,VLOOKUP(C602,A01A02!$A$3:$K$13,11,FALSE),\"\")","v":""},null,0,"","","","",{"$f":"IF(I602<>0,VLOOKUP(J602,A01A02!$A$3:$K$13,11,FALSE),\"\")","v":""},{"$f":"IF(I602<>0,VLOOKUP(J602,A01A02!A:J,10,0),\"\")","v":""}]
[null,0,"","","","",{"$f":"IF(B603<>0,VLOOKUP(C603,A01A02!$A$3:$K$13,11,FALSE),\"\")","v":""},null,0,"","","","",{"$f":"IF(I603<>0,VLOOKUP(J603,A01A02!$A$3:$K$13,11,FALSE),\"\")","v":""},{"$f":"IF(I603<>0,VLOOKUP(J603,A01A02!A:J,10,0),\"\")","v":""}]
[null,0,"","","","",{"$f":"IF(B604<>0,VLOOKUP(C604,A01A02!$A$3:$K$13,11,FALSE),\"\")","v":""},null,0,"","","","",{"$f":"IF(I604<>0,VLOOKUP(J604,A01A02!$A$3:$K$13,11,FALSE),\"\")","v":""},{"$f":"IF(I604<>0,VLOOKUP(J604,A01A02!A:J,10,0),\"\")","v":""}]
[null,0,"","","","",{"$f":"IF(B605<>0,VLOOKUP(C605,A01A02!$A$3:$K$13,11,FALSE),\"\")","v":""},null,0,"","","","",{"$f":"IF(I605<>0,VLOOKUP(J605,A01A02!$A$3:$K$13,11,FALSE),\"\")","v":""},{"$f":"IF(I605<>0,VLOOKUP(J605,A01A02!A:J,10,0),\"\")","v":""}]
[null,0,"","","","",{"$f":"IF(B606<>0,VLOOKUP(C606,A01A02!$A$3:$K$13,11,FALSE),\"\")","v":""},null,0,"","","","",{"$f":"IF(I606<>0,VLOOKUP(J606,A01A02!$A$3:$K$13,11,FALSE),\"\")","v":""},{"$f":"IF(I606<>0,VLOOKUP(J606,A01A02!A:J,10,0),\"\")","v":""}]
[null,0,"","","","",{"$f":"IF(B607<>0,VLOOKUP(C607,A01A02!$A$3:$K$13,11,FALSE),\"\")","v":""},null,0,"","","","",{"$f":"IF(I607<>0,VLOOKUP(J607,A01A02!$A$3:$K$13,11,FALSE),\"\")","v":""},{"$f":"IF(I607<>0,VLOOKUP(J607,A01A02!A:J,10,0),\"\")","v":""}]
[null,0,"","","","",{"$f":"IF(B608<>0,VLOOKUP(C608,A01A02!$A$3:$K$13,11,FALSE),\"\")","v":""},null,0,"","","","",{"$f":"IF(I608<>0,VLOOKUP(J608,A01A02!$A$3:$K$13,11,FALSE),\"\")","v":""},{"$f":"IF(I608<>0,VLOOKUP(J608,A01A02!A:J,10,0),\"\")","v":""}]
[null,0,"","","","",{"$f":"IF(B609<>0,VLOOKUP(C609,A01A02!$A$3:$K$13,11,FALSE),\"\")","v":""},null,0,"","","","",{"$f":"IF(I609<>0,VLOOKUP(J609,A01A02!$A$3:$K$13,11,FALSE),\"\")","v":""},{"$f":"IF(I609<>0,VLOOKUP(J609,A01A02!A:J,10,0),\"\")","v":""}]
[null,0,"","","","",{"$f":"IF(B610<>0,VLOOKUP(C610,A01A02!$A$3:$K$13,11,FALSE),\"\")","v":""},null,0,"","","","",{"$f":"IF(I610<>0,VLOOKUP(J610,A01A02!$A$3:$K$13,11,FALSE),\"\")","v":""},{"$f":"IF(I610<>0,VLOOKUP(J610,A01A02!A:J,10,0),\"\")","v":""}]
[null,0,"","","","",{"$f":"IF(B611<>0,VLOOKUP(C611,A01A02!$A$3:$K$13,11,FALSE),\"\")","v":""},null,0,"","","","",{"$f":"IF(I611<>0,VLOOKUP(J611,A01A02!$A$3:$K$13,11,FALSE),\"\")","v":""},{"$f":"IF(I611<>0,VLOOKUP(J611,A01A02!A:J,10,0),\"\")","v":""}]
[null,0,"","","","",{"$f":"IF(B612<>0,VLOOKUP(C612,A01A02!$A$3:$K$13,11,FALSE),\"\")","v":""},null,0,"","","","",{"$f":"IF(I612<>0,VLOOKUP(J612,A01A02!$A$3:$K$13,11,FALSE),\"\")","v":""},{"$f":"IF(I612<>0,VLOOKUP(J612,A01A02!A:J,10,0),\"\")","v":""}]
[null,0,"",{"$f":"IF(B613<>0,znaget(B613),\"\")","v":""},{"$f":"IF(B613<>0,xget(B613),\"\")","v":""},{"$f":"IF(B613<>0,yget(B613),\"\")","v":""},{"$f":"IF(B613<>0,VLOOKUP(C613,A01A02!$A$3:$K$13,11,FALSE),\"\")","v":""},null,0,"",{"$f":"IF(I613<>0,znaget(I613),\"\")","v":""},{"$f":"IF(I613<>0,xget(I613),\"\")","v":""},{"$f":"IF(I613<>0,yget(I613),\"\")","v":""},{"$f":"IF(I613<>0,VLOOKUP(J613,A01A02!$A$3:$K$13,11,FALSE),\"\")","v":""},{"$f":"IF(I613<>0,VLOOKUP(J613,A01A02!A:J,10,0),\"\")","v":""}]
[null,0,"","","","",{"$f":"IF(B614<>0,VLOOKUP(C614,A01A02!$A$3:$K$13,11,FALSE),\"\")","v":""},null,0,"","","","",{"$f":"IF(I614<>0,VLOOKUP(J614,A01A02!$A$3:$K$13,11,FALSE),\"\")","v":""},{"$f":"IF(I614<>0,VLOOKUP(J614,A01A02!A:J,10,0),\"\")","v":""}]
[null,0,"","","","",{"$f":"IF(B615<>0,VLOOKUP(C615,A01A02!$A$3:$K$13,11,FALSE),\"\")","v":""},null,0,"","","","",{"$f":"IF(I615<>0,VLOOKUP(J615,A01A02!$A$3:$K$13,11,FALSE),\"\")","v":""},{"$f":"IF(I615<>0,VLOOKUP(J615,A01A02!A:J,10,0),\"\")","v":""}]
[null,0,"","","","",{"$f":"IF(B616<>0,VLOOKUP(C616,A01A02!$A$3:$K$13,11,FALSE),\"\")","v":""},null,0,"","","","",{"$f":"IF(I616<>0,VLOOKUP(J616,A01A02!$A$3:$K$13,11,FALSE),\"\")","v":""},{"$f":"IF(I616<>0,VLOOKUP(J616,A01A02!A:J,10,0),\"\")","v":""}]
[null,0,"","","","",{"$f":"IF(B617<>0,VLOOKUP(C617,A01A02!$A$3:$K$13,11,FALSE),\"\")","v":""},null,0,"","","","",{"$f":"IF(I617<>0,VLOOKUP(J617,A01A02!$A$3:$K$13,11,FALSE),\"\")","v":""},{"$f":"IF(I617<>0,VLOOKUP(J617,A01A02!A:J,10,0),\"\")","v":""}]
[null,0,"","","","",{"$f":"IF(B618<>0,VLOOKUP(C618,A01A02!$A$3:$K$13,11,FALSE),\"\")","v":""},null,0,"","","","",{"$f":"IF(I618<>0,VLOOKUP(J618,A01A02!$A$3:$K$13,11,FALSE),\"\")","v":""},{"$f":"IF(I618<>0,VLOOKUP(J618,A01A02!A:J,10,0),\"\")","v":""}]
[null,0,"","","","",{"$f":"IF(B619<>0,VLOOKUP(C619,A01A02!$A$3:$K$13,11,FALSE),\"\")","v":""},null,0,"","","","",{"$f":"IF(I619<>0,VLOOKUP(J619,A01A02!$A$3:$K$13,11,FALSE),\"\")","v":""},{"$f":"IF(I619<>0,VLOOKUP(J619,A01A02!A:J,10,0),\"\")","v":""}]
[null,0,"","","","",{"$f":"IF(B620<>0,VLOOKUP(C620,A01A02!$A$3:$K$13,11,FALSE),\"\")","v":""},null,0,"","","","",{"$f":"IF(I620<>0,VLOOKUP(J620,A01A02!$A$3:$K$13,11,FALSE),\"\")","v":""},{"$f":"IF(I620<>0,VLOOKUP(J620,A01A02!A:J,10,0),\"\")","v":""}]
[null,0,"","","","",{"$f":"IF(B621<>0,VLOOKUP(C621,A01A02!$A$3:$K$13,11,FALSE),\"\")","v":""},null,0,"","","","",{"$f":"IF(I621<>0,VLOOKUP(J621,A01A02!$A$3:$K$13,11,FALSE),\"\")","v":""},{"$f":"IF(I621<>0,VLOOKUP(J621,A01A02!A:J,10,0),\"\")","v":""}]
[null,0,"","","","",{"$f":"IF(B622<>0,VLOOKUP(C622,A01A02!$A$3:$K$13,11,FALSE),\"\")","v":""},null,0,"","","","",{"$f":"IF(I622<>0,VLOOKUP(J622,A01A02!$A$3:$K$13,11,FALSE),\"\")","v":""},{"$f":"IF(I622<>0,VLOOKUP(J622,A01A02!A:J,10,0),\"\")","v":""}]
[null,0,"","","","",{"$f":"IF(B623<>0,VLOOKUP(C623,A01A02!$A$3:$K$13,11,FALSE),\"\")","v":""},null,0,"","","","",{"$f":"IF(I623<>0,VLOOKUP(J623,A01A02!$A$3:$K$13,11,FALSE),\"\")","v":""},{"$f":"IF(I623<>0,VLOOKUP(J623,A01A02!A:J,10,0),\"\")","v":""}]
[null,0,"","","","",{"$f":"IF(B624<>0,VLOOKUP(C624,A01A02!$A$3:$K$13,11,FALSE),\"\")","v":""},null,0,"","","","",{"$f":"IF(I624<>0,VLOOKUP(J624,A01A02!$A$3:$K$13,11,FALSE),\"\")","v":""},{"$f":"IF(I624<>0,VLOOKUP(J624,A01A02!A:J,10,0),\"\")","v":""}]
[null,0,"","","","",{"$f":"IF(B625<>0,VLOOKUP(C625,A01A02!$A$3:$K$13,11,FALSE),\"\")","v":""},null,0,"","","","",{"$f":"IF(I625<>0,VLOOKUP(J625,A01A02!$A$3:$K$13,11,FALSE),\"\")","v":""},{"$f":"IF(I625<>0,VLOOKUP(J625,A01A02!A:J,10,0),\"\")","v":""}]
[null,0,"","","","",{"$f":"IF(B626<>0,VLOOKUP(C626,A01A02!$A$3:$K$13,11,FALSE),\"\")","v":""},null,0,"","","","",{"$f":"IF(I626<>0,VLOOKUP(J626,A01A02!$A$3:$K$13,11,FALSE),\"\")","v":""},{"$f":"IF(I626<>0,VLOOKUP(J626,A01A02!A:J,10,0),\"\")","v":""}]
[null,0,"","","","",{"$f":"IF(B627<>0,VLOOKUP(C627,A01A02!$A$3:$K$13,11,FALSE),\"\")","v":""},null,0,"","","","",{"$f":"IF(I627<>0,VLOOKUP(J627,A01A02!$A$3:$K$13,11,FALSE),\"\")","v":""},{"$f":"IF(I627<>0,VLOOKUP(J627,A01A02!A:J,10,0),\"\")","v":""}]
[null,0,"","","","",{"$f":"IF(B628<>0,VLOOKUP(C628,A01A02!$A$3:$K$13,11,FALSE),\"\")","v":""},null,0,"","","","",{"$f":"IF(I628<>0,VLOOKUP(J628,A01A02!$A$3:$K$13,11,FALSE),\"\")","v":""},{"$f":"IF(I628<>0,VLOOKUP(J628,A01A02!A:J,10,0),\"\")","v":""}]
[null,0,"","","","",{"$f":"IF(B629<>0,VLOOKUP(C629,A01A02!$A$3:$K$13,11,FALSE),\"\")","v":""},null,0,"","","","",{"$f":"IF(I629<>0,VLOOKUP(J629,A01A02!$A$3:$K$13,11,FALSE),\"\")","v":""},{"$f":"IF(I629<>0,VLOOKUP(J629,A01A02!A:J,10,0),\"\")","v":""}]
[null,0,"","","","",{"$f":"IF(B630<>0,VLOOKUP(C630,A01A02!$A$3:$K$13,11,FALSE),\"\")","v":""},null,0,"","","","",{"$f":"IF(I630<>0,VLOOKUP(J630,A01A02!$A$3:$K$13,11,FALSE),\"\")","v":""},{"$f":"IF(I630<>0,VLOOKUP(J630,A01A02!A:J,10,0),\"\")","v":""}]
[null,0,"","","","",{"$f":"IF(B631<>0,VLOOKUP(C631,A01A02!$A$3:$K$13,11,FALSE),\"\")","v":""},null,0,"","","","",{"$f":"IF(I631<>0,VLOOKUP(J631,A01A02!$A$3:$K$13,11,FALSE),\"\")","v":""},{"$f":"IF(I631<>0,VLOOKUP(J631,A01A02!A:J,10,0),\"\")","v":""}]
[null,0,"","","","",{"$f":"IF(B632<>0,VLOOKUP(C632,A01A02!$A$3:$K$13,11,FALSE),\"\")","v":""},null,0,"","","","",{"$f":"IF(I632<>0,VLOOKUP(J632,A01A02!$A$3:$K$13,11,FALSE),\"\")","v":""},{"$f":"IF(I632<>0,VLOOKUP(J632,A01A02!A:J,10,0),\"\")","v":""}]
[null,0,"","","","",{"$f":"IF(B633<>0,VLOOKUP(C633,A01A02!$A$3:$K$13,11,FALSE),\"\")","v":""},null,0,"","","","",{"$f":"IF(I633<>0,VLOOKUP(J633,A01A02!$A$3:$K$13,11,FALSE),\"\")","v":""},{"$f":"IF(I633<>0,VLOOKUP(J633,A01A02!A:J,10,0),\"\")","v":""}]
[null,0,"","","","",{"$f":"IF(B634<>0,VLOOKUP(C634,A01A02!$A$3:$K$13,11,FALSE),\"\")","v":""},null,0,"","","","",{"$f":"IF(I634<>0,VLOOKUP(J634,A01A02!$A$3:$K$13,11,FALSE),\"\")","v":""},{"$f":"IF(I634<>0,VLOOKUP(J634,A01A02!A:J,10,0),\"\")","v":""}]
[null,0,"","","","",{"$f":"IF(B635<>0,VLOOKUP(C635,A01A02!$A$3:$K$13,11,FALSE),\"\")","v":""},null,0,"","","","",{"$f":"IF(I635<>0,VLOOKUP(J635,A01A02!$A$3:$K$13,11,FALSE),\"\")","v":""},{"$f":"IF(I635<>0,VLOOKUP(J635,A01A02!A:J,10,0),\"\")","v":""}]
[null,0,"","","","",{"$f":"IF(B636<>0,VLOOKUP(C636,A01A02!$A$3:$K$13,11,FALSE),\"\")","v":""},null,0,"","","","",{"$f":"IF(I636<>0,VLOOKUP(J636,A01A02!$A$3:$K$13,11,FALSE),\"\")","v":""},{"$f":"IF(I636<>0,VLOOKUP(J636,A01A02!A:J,10,0),\"\")","v":""}]
[null,0,"","","","",{"$f":"IF(B637<>0,VLOOKUP(C637,A01A02!$A$3:$K$13,11,FALSE),\"\")","v":""},null,0,"","","","",{"$f":"IF(I637<>0,VLOOKUP(J637,A01A02!$A$3:$K$13,11,FALSE),\"\")","v":""},{"$f":"IF(I637<>0,VLOOKUP(J637,A01A02!A:J,10,0),\"\")","v":""}]
[null,0,"","","","",{"$f":"IF(B638<>0,VLOOKUP(C638,A01A02!$A$3:$K$13,11,FALSE),\"\")","v":""},null,0,"","","","",{"$f":"IF(I638<>0,VLOOKUP(J638,A01A02!$A$3:$K$13,11,FALSE),\"\")","v":""},{"$f":"IF(I638<>0,VLOOKUP(J638,A01A02!A:J,10,0),\"\")","v":""}]
[null,0,"","","","",{"$f":"IF(B639<>0,VLOOKUP(C639,A01A02!$A$3:$K$13,11,FALSE),\"\")","v":""},null,0,"","","","",{"$f":"IF(I639<>0,VLOOKUP(J639,A01A02!$A$3:$K$13,11,FALSE),\"\")","v":""},{"$f":"IF(I639<>0,VLOOKUP(J639,A01A02!A:J,10,0),\"\")","v":""}]
[null,0,"","","","",{"$f":"IF(B640<>0,VLOOKUP(C640,A01A02!$A$3:$K$13,11,FALSE),\"\")","v":""},null,0,"","","","",{"$f":"IF(I640<>0,VLOOKUP(J640,A01A02!$A$3:$K$13,11,FALSE),\"\")","v":""},{"$f":"IF(I640<>0,VLOOKUP(J640,A01A02!A:J,10,0),\"\")","v":""}]
[null,0,"","","","",{"$f":"IF(B641<>0,VLOOKUP(C641,A01A02!$A$3:$K$13,11,FALSE),\"\")","v":""},null,0,"","","","",{"$f":"IF(I641<>0,VLOOKUP(J641,A01A02!$A$3:$K$13,11,FALSE),\"\")","v":""},{"$f":"IF(I641<>0,VLOOKUP(J641,A01A02!A:J,10,0),\"\")","v":""}]
[null,0,"","","","",{"$f":"IF(B642<>0,VLOOKUP(C642,A01A02!$A$3:$K$13,11,FALSE),\"\")","v":""},null,0,"","","","",{"$f":"IF(I642<>0,VLOOKUP(J642,A01A02!$A$3:$K$13,11,FALSE),\"\")","v":""},{"$f":"IF(I642<>0,VLOOKUP(J642,A01A02!A:J,10,0),\"\")","v":""}]
[null,{"$f":"IF(A643<>\"\",xycall(A643),0)","v":0},"","","","",{"$f":"IF(B643<>0,VLOOKUP(C643,A01A02!$A$3:$K$13,11,FALSE),\"\")","v":""},null,0,"","","","",{"$f":"IF(I643<>0,VLOOKUP(J643,A01A02!$A$3:$K$13,11,FALSE),\"\")","v":""},{"$f":"IF(I643<>0,VLOOKUP(J643,A01A02!A:J,10,0),\"\")","v":""}]
[null,0,{"$f":"IF(B644<>0,znoget(B644),\"\")","v":""},"","","",{"$f":"IF(B644<>0,VLOOKUP(C644,A01A02!$A$3:$K$13,11,FALSE),\"\")","v":""},null,{"$f":"IF(H644<>\"\",xycall(H644),0)","v":0},{"$f":"IF(I644<>0,znoget(I644),\"\")","v":""},"","","",{"$f":"IF(I644<>0,VLOOKUP(J644,A01A02!$A$3:$K$13,11,FALSE),\"\")","v":""},{"$f":"IF(I644<>0,VLOOKUP(J644,A01A02!A:J,10,0),\"\")","v":""}]
[null,0,"","","","",{"$f":"IF(B645<>0,VLOOKUP(C645,A01A02!$A$3:$K$13,11,FALSE),\"\")","v":""},null,0,"","","","",{"$f":"IF(I645<>0,VLOOKUP(J645,A01A02!$A$3:$K$13,11,FALSE),\"\")","v":""},{"$f":"IF(I645<>0,VLOOKUP(J645,A01A02!A:J,10,0),\"\")","v":""}]
[null,0,"","","","",{"$f":"IF(B646<>0,VLOOKUP(C646,A01A02!$A$3:$K$13,11,FALSE),\"\")","v":""},null,0,"","","","",{"$f":"IF(I646<>0,VLOOKUP(J646,A01A02!$A$3:$K$13,11,FALSE),\"\")","v":""},{"$f":"IF(I646<>0,VLOOKUP(J646,A01A02!A:J,10,0),\"\")","v":""}]
[null,0,"","","","",{"$f":"IF(B647<>0,VLOOKUP(C647,A01A02!$A$3:$K$13,11,FALSE),\"\")","v":""},null,0,"","","","",{"$f":"IF(I647<>0,VLOOKUP(J647,A01A02!$A$3:$K$13,11,FALSE),\"\")","v":""},{"$f":"IF(I647<>0,VLOOKUP(J647,A01A02!A:J,10,0),\"\")","v":""}]
[null,0,"","","","",{"$f":"IF(B648<>0,VLOOKUP(C648,A01A02!$A$3:$K$13,11,FALSE),\"\")","v":""},null,0,"","","","",{"$f":"IF(I648<>0,VLOOKUP(J648,A01A02!$A$3:$K$13,11,FALSE),\"\")","v":""},{"$f":"IF(I648<>0,VLOOKUP(J648,A01A02!A:J,10,0),\"\")","v":""}]
[null,0,"","","","",{"$f":"IF(B649<>0,VLOOKUP(C649,A01A02!$A$3:$K$13,11,FALSE),\"\")","v":""},null,0,"","","","",{"$f":"IF(I649<>0,VLOOKUP(J649,A01A02!$A$3:$K$13,11,FALSE),\"\")","v":""},{"$f":"IF(I649<>0,VLOOKUP(J649,A01A02!A:J,10,0),\"\")","v":""}]
[null,0,"","","","",{"$f":"IF(B650<>0,VLOOKUP(C650,A01A02!$A$3:$K$13,11,FALSE),\"\")","v":""},null,0,"","","","",{"$f":"IF(I650<>0,VLOOKUP(J650,A01A02!$A$3:$K$13,11,FALSE),\"\")","v":""},{"$f":"IF(I650<>0,VLOOKUP(J650,A01A02!A:J,10,0),\"\")","v":""}]
[null,0,"","","","",{"$f":"IF(B651<>0,VLOOKUP(C651,A01A02!$A$3:$K$13,11,FALSE),\"\")","v":""},null,0,"","","","",{"$f":"IF(I651<>0,VLOOKUP(J651,A01A02!$A$3:$K$13,11,FALSE),\"\")","v":""},{"$f":"IF(I651<>0,VLOOKUP(J651,A01A02!A:J,10,0),\"\")","v":""}]
[null,0,"","","","",{"$f":"IF(B652<>0,VLOOKUP(C652,A01A02!$A$3:$K$13,11,FALSE),\"\")","v":""},null,0,"","","","",{"$f":"IF(I652<>0,VLOOKUP(J652,A01A02!$A$3:$K$13,11,FALSE),\"\")","v":""},{"$f":"IF(I652<>0,VLOOKUP(J652,A01A02!A:J,10,0),\"\")","v":""}]
[null,0,"","","","",{"$f":"IF(B653<>0,VLOOKUP(C653,A01A02!$A$3:$K$13,11,FALSE),\"\")","v":""},null,0,"","","","",{"$f":"IF(I653<>0,VLOOKUP(J653,A01A02!$A$3:$K$13,11,FALSE),\"\")","v":""},{"$f":"IF(I653<>0,VLOOKUP(J653,A01A02!A:J,10,0),\"\")","v":""}]
[null,0,"","","","",{"$f":"IF(B654<>0,VLOOKUP(C654,A01A02!$A$3:$K$13,11,FALSE),\"\")","v":""},null,0,"","","","",{"$f":"IF(I654<>0,VLOOKUP(J654,A01A02!$A$3:$K$13,11,FALSE),\"\")","v":""},{"$f":"IF(I654<>0,VLOOKUP(J654,A01A02!A:J,10,0),\"\")","v":""}]
[null,0,"","","","",{"$f":"IF(B655<>0,VLOOKUP(C655,A01A02!$A$3:$K$13,11,FALSE),\"\")","v":""},null,0,"","","","",{"$f":"IF(I655<>0,VLOOKUP(J655,A01A02!$A$3:$K$13,11,FALSE),\"\")","v":""},{"$f":"IF(I655<>0,VLOOKUP(J655,A01A02!A:J,10,0),\"\")","v":""}]
[null,0,"","","","",{"$f":"IF(B656<>0,VLOOKUP(C656,A01A02!$A$3:$K$13,11,FALSE),\"\")","v":""},null,0,"","","","",{"$f":"IF(I656<>0,VLOOKUP(J656,A01A02!$A$3:$K$13,11,FALSE),\"\")","v":""},{"$f":"IF(I656<>0,VLOOKUP(J656,A01A02!A:J,10,0),\"\")","v":""}]
[null,0,"","","","",{"$f":"IF(B657<>0,VLOOKUP(C657,A01A02!$A$3:$K$13,11,FALSE),\"\")","v":""},null,0,"","","","",{"$f":"IF(I657<>0,VLOOKUP(J657,A01A02!$A$3:$K$13,11,FALSE),\"\")","v":""},{"$f":"IF(I657<>0,VLOOKUP(J657,A01A02!A:J,10,0),\"\")","v":""}]
[null,0,"","","","",{"$f":"IF(B658<>0,VLOOKUP(C658,A01A02!$A$3:$K$13,11,FALSE),\"\")","v":""},null,0,"","","","",{"$f":"IF(I658<>0,VLOOKUP(J658,A01A02!$A$3:$K$13,11,FALSE),\"\")","v":""},{"$f":"IF(I658<>0,VLOOKUP(J658,A01A02!A:J,10,0),\"\")","v":""}]
[null,0,"","","","",{"$f":"IF(B659<>0,VLOOKUP(C659,A01A02!$A$3:$K$13,11,FALSE),\"\")","v":""},null,0,"","","","",{"$f":"IF(I659<>0,VLOOKUP(J659,A01A02!$A$3:$K$13,11,FALSE),\"\")","v":""},{"$f":"IF(I659<>0,VLOOKUP(J659,A01A02!A:J,10,0),\"\")","v":""}]
[null,0,"","","","",{"$f":"IF(B660<>0,VLOOKUP(C660,A01A02!$A$3:$K$13,11,FALSE),\"\")","v":""},null,0,"","","","",{"$f":"IF(I660<>0,VLOOKUP(J660,A01A02!$A$3:$K$13,11,FALSE),\"\")","v":""},{"$f":"IF(I660<>0,VLOOKUP(J660,A01A02!A:J,10,0),\"\")","v":""}]
[null,0,"","","","",{"$f":"IF(B661<>0,VLOOKUP(C661,A01A02!$A$3:$K$13,11,FALSE),\"\")","v":""},null,0,"","","","",{"$f":"IF(I661<>0,VLOOKUP(J661,A01A02!$A$3:$K$13,11,FALSE),\"\")","v":""},{"$f":"IF(I661<>0,VLOOKUP(J661,A01A02!A:J,10,0),\"\")","v":""}]
[null,0,"","","","",{"$f":"IF(B662<>0,VLOOKUP(C662,A01A02!$A$3:$K$13,11,FALSE),\"\")","v":""},null,0,"","","","",{"$f":"IF(I662<>0,VLOOKUP(J662,A01A02!$A$3:$K$13,11,FALSE),\"\")","v":""},{"$f":"IF(I662<>0,VLOOKUP(J662,A01A02!A:J,10,0),\"\")","v":""}]
[null,0,"","","","",{"$f":"IF(B663<>0,VLOOKUP(C663,A01A02!$A$3:$K$13,11,FALSE),\"\")","v":""},null,0,"","","","",{"$f":"IF(I663<>0,VLOOKUP(J663,A01A02!$A$3:$K$13,11,FALSE),\"\")","v":""},{"$f":"IF(I663<>0,VLOOKUP(J663,A01A02!A:J,10,0),\"\")","v":""}]
[null,0,"","","","",{"$f":"IF(B664<>0,VLOOKUP(C664,A01A02!$A$3:$K$13,11,FALSE),\"\")","v":""},null,0,"","","","",{"$f":"IF(I664<>0,VLOOKUP(J664,A01A02!$A$3:$K$13,11,FALSE),\"\")","v":""},{"$f":"IF(I664<>0,VLOOKUP(J664,A01A02!A:J,10,0),\"\")","v":""}]
[null,0,"","","","",{"$f":"IF(B665<>0,VLOOKUP(C665,A01A02!$A$3:$K$13,11,FALSE),\"\")","v":""},null,0,"","","","",{"$f":"IF(I665<>0,VLOOKUP(J665,A01A02!$A$3:$K$13,11,FALSE),\"\")","v":""},{"$f":"IF(I665<>0,VLOOKUP(J665,A01A02!A:J,10,0),\"\")","v":""}]
[null,0,"","","","",{"$f":"IF(B666<>0,VLOOKUP(C666,A01A02!$A$3:$K$13,11,FALSE),\"\")","v":""},null,0,"","","","",{"$f":"IF(I666<>0,VLOOKUP(J666,A01A02!$A$3:$K$13,11,FALSE),\"\")","v":""},{"$f":"IF(I666<>0,VLOOKUP(J666,A01A02!A:J,10,0),\"\")","v":""}]
[null,0,"","","","",{"$f":"IF(B667<>0,VLOOKUP(C667,A01A02!$A$3:$K$13,11,FALSE),\"\")","v":""},null,0,"","","","",{"$f":"IF(I667<>0,VLOOKUP(J667,A01A02!$A$3:$K$13,11,FALSE),\"\")","v":""},{"$f":"IF(I667<>0,VLOOKUP(J667,A01A02!A:J,10,0),\"\")","v":""}]
[null,0,"","","","",{"$f":"IF(B668<>0,VLOOKUP(C668,A01A02!$A$3:$K$13,11,FALSE),\"\")","v":""},null,0,"","","","",{"$f":"IF(I668<>0,VLOOKUP(J668,A01A02!$A$3:$K$13,11,FALSE),\"\")","v":""},{"$f":"IF(I668<>0,VLOOKUP(J668,A01A02!A:J,10,0),\"\")","v":""}]
[null,0,"","","","",{"$f":"IF(B669<>0,VLOOKUP(C669,A01A02!$A$3:$K$13,11,FALSE),\"\")","v":""},null,0,"","","","",{"$f":"IF(I669<>0,VLOOKUP(J669,A01A02!$A$3:$K$13,11,FALSE),\"\")","v":""},{"$f":"IF(I669<>0,VLOOKUP(J669,A01A02!A:J,10,0),\"\")","v":""}]
[null,0,"","","","",{"$f":"IF(B670<>0,VLOOKUP(C670,A01A02!$A$3:$K$13,11,FALSE),\"\")","v":""},null,0,"","","","",{"$f":"IF(I670<>0,VLOOKUP(J670,A01A02!$A$3:$K$13,11,FALSE),\"\")","v":""},{"$f":"IF(I670<>0,VLOOKUP(J670,A01A02!A:J,10,0),\"\")","v":""}]
[null,0,"","","","",{"$f":"IF(B671<>0,VLOOKUP(C671,A01A02!$A$3:$K$13,11,FALSE),\"\")","v":""},null,0,"","","","",{"$f":"IF(I671<>0,VLOOKUP(J671,A01A02!$A$3:$K$13,11,FALSE),\"\")","v":""},{"$f":"IF(I671<>0,VLOOKUP(J671,A01A02!A:J,10,0),\"\")","v":""}]
[null,0,"","","","",{"$f":"IF(B672<>0,VLOOKUP(C672,A01A02!$A$3:$K$13,11,FALSE),\"\")","v":""},null,0,"","","","",{"$f":"IF(I672<>0,VLOOKUP(J672,A01A02!$A$3:$K$13,11,FALSE),\"\")","v":""},{"$f":"IF(I672<>0,VLOOKUP(J672,A01A02!A:J,10,0),\"\")","v":""}]
[null,0,"","","","",{"$f":"IF(B673<>0,VLOOKUP(C673,A01A02!$A$3:$K$13,11,FALSE),\"\")","v":""},null,0,"","","","",{"$f":"IF(I673<>0,VLOOKUP(J673,A01A02!$A$3:$K$13,11,FALSE),\"\")","v":""},{"$f":"IF(I673<>0,VLOOKUP(J673,A01A02!A:J,10,0),\"\")","v":""}]
[null,0,"","","","",{"$f":"IF(B674<>0,VLOOKUP(C674,A01A02!$A$3:$K$13,11,FALSE),\"\")","v":""},null,0,"","","","",{"$f":"IF(I674<>0,VLOOKUP(J674,A01A02!$A$3:$K$13,11,FALSE),\"\")","v":""},{"$f":"IF(I674<>0,VLOOKUP(J674,A01A02!A:J,10,0),\"\")","v":""}]
[null,0,"","","","",{"$f":"IF(B675<>0,VLOOKUP(C675,A01A02!$A$3:$K$13,11,FALSE),\"\")","v":""},null,0,"","","","",{"$f":"IF(I675<>0,VLOOKUP(J675,A01A02!$A$3:$K$13,11,FALSE),\"\")","v":""},{"$f":"IF(I675<>0,VLOOKUP(J675,A01A02!A:J,10,0),\"\")","v":""}]
[null,0,"","","","",{"$f":"IF(B676<>0,VLOOKUP(C676,A01A02!$A$3:$K$13,11,FALSE),\"\")","v":""},null,0,"","","","",{"$f":"IF(I676<>0,VLOOKUP(J676,A01A02!$A$3:$K$13,11,FALSE),\"\")","v":""},{"$f":"IF(I676<>0,VLOOKUP(J676,A01A02!A:J,10,0),\"\")","v":""}]
[null,0,"",{"$f":"IF(B677<>0,znaget(B677),\"\")","v":""},{"$f":"IF(B677<>0,xget(B677),\"\")","v":""},{"$f":"IF(B677<>0,yget(B677),\"\")","v":""},{"$f":"IF(B677<>0,VLOOKUP(C677,A01A02!$A$3:$K$13,11,FALSE),\"\")","v":""},null,0,"",{"$f":"IF(I677<>0,znaget(I677),\"\")","v":""},{"$f":"IF(I677<>0,xget(I677),\"\")","v":""},{"$f":"IF(I677<>0,yget(I677),\"\")","v":""},{"$f":"IF(I677<>0,VLOOKUP(J677,A01A02!$A$3:$K$13,11,FALSE),\"\")","v":""},{"$f":"IF(I677<>0,VLOOKUP(J677,A01A02!A:J,10,0),\"\")","v":""}]
[null,0,"","","","",{"$f":"IF(B678<>0,VLOOKUP(C678,A01A02!$A$3:$K$13,11,FALSE),\"\")","v":""},null,0,"","","","",{"$f":"IF(I678<>0,VLOOKUP(J678,A01A02!$A$3:$K$13,11,FALSE),\"\")","v":""},{"$f":"IF(I678<>0,VLOOKUP(J678,A01A02!A:J,10,0),\"\")","v":""}]
[null,0,"","","","",{"$f":"IF(B679<>0,VLOOKUP(C679,A01A02!$A$3:$K$13,11,FALSE),\"\")","v":""},null,0,"","","","",{"$f":"IF(I679<>0,VLOOKUP(J679,A01A02!$A$3:$K$13,11,FALSE),\"\")","v":""},{"$f":"IF(I679<>0,VLOOKUP(J679,A01A02!A:J,10,0),\"\")","v":""}]
[null,0,"","","","",{"$f":"IF(B680<>0,VLOOKUP(C680,A01A02!$A$3:$K$13,11,FALSE),\"\")","v":""},null,0,"","","","",{"$f":"IF(I680<>0,VLOOKUP(J680,A01A02!$A$3:$K$13,11,FALSE),\"\")","v":""},{"$f":"IF(I680<>0,VLOOKUP(J680,A01A02!A:J,10,0),\"\")","v":""}]
[null,0,"","","","",{"$f":"IF(B681<>0,VLOOKUP(C681,A01A02!$A$3:$K$13,11,FALSE),\"\")","v":""},null,0,"","","","",{"$f":"IF(I681<>0,VLOOKUP(J681,A01A02!$A$3:$K$13,11,FALSE),\"\")","v":""},{"$f":"IF(I681<>0,VLOOKUP(J681,A01A02!A:J,10,0),\"\")","v":""}]
[null,0,"","","","",{"$f":"IF(B682<>0,VLOOKUP(C682,A01A02!$A$3:$K$13,11,FALSE),\"\")","v":""},null,0,"","","","",{"$f":"IF(I682<>0,VLOOKUP(J682,A01A02!$A$3:$K$13,11,FALSE),\"\")","v":""},{"$f":"IF(I682<>0,VLOOKUP(J682,A01A02!A:J,10,0),\"\")","v":""}]
[null,0,"","","","",{"$f":"IF(B683<>0,VLOOKUP(C683,A01A02!$A$3:$K$13,11,FALSE),\"\")","v":""},null,0,"","","","",{"$f":"IF(I683<>0,VLOOKUP(J683,A01A02!$A$3:$K$13,11,FALSE),\"\")","v":""},{"$f":"IF(I683<>0,VLOOKUP(J683,A01A02!A:J,10,0),\"\")","v":""}]
[null,0,"","","","",{"$f":"IF(B684<>0,VLOOKUP(C684,A01A02!$A$3:$K$13,11,FALSE),\"\")","v":""},null,0,"","","","",{"$f":"IF(I684<>0,VLOOKUP(J684,A01A02!$A$3:$K$13,11,FALSE),\"\")","v":""},{"$f":"IF(I684<>0,VLOOKUP(J684,A01A02!A:J,10,0),\"\")","v":""}]
[null,0,"","","","",{"$f":"IF(B685<>0,VLOOKUP(C685,A01A02!$A$3:$K$13,11,FALSE),\"\")","v":""},null,0,"","","","",{"$f":"IF(I685<>0,VLOOKUP(J685,A01A02!$A$3:$K$13,11,FALSE),\"\")","v":""},{"$f":"IF(I685<>0,VLOOKUP(J685,A01A02!A:J,10,0),\"\")","v":""}]
[null,0,"","","","",{"$f":"IF(B686<>0,VLOOKUP(C686,A01A02!$A$3:$K$13,11,FALSE),\"\")","v":""},null,0,"","","","",{"$f":"IF(I686<>0,VLOOKUP(J686,A01A02!$A$3:$K$13,11,FALSE),\"\")","v":""},{"$f":"IF(I686<>0,VLOOKUP(J686,A01A02!A:J,10,0),\"\")","v":""}]
[null,0,"","","","",{"$f":"IF(B687<>0,VLOOKUP(C687,A01A02!$A$3:$K$13,11,FALSE),\"\")","v":""},null,0,"","","","",{"$f":"IF(I687<>0,VLOOKUP(J687,A01A02!$A$3:$K$13,11,FALSE),\"\")","v":""},{"$f":"IF(I687<>0,VLOOKUP(J687,A01A02!A:J,10,0),\"\")","v":""}]
[null,0,"","","","",{"$f":"IF(B688<>0,VLOOKUP(C688,A01A02!$A$3:$K$13,11,FALSE),\"\")","v":""},null,0,"","","","",{"$f":"IF(I688<>0,VLOOKUP(J688,A01A02!$A$3:$K$13,11,FALSE),\"\")","v":""},{"$f":"IF(I688<>0,VLOOKUP(J688,A01A02!A:J,10,0),\"\")","v":""}]
[null,0,"","","","",{"$f":"IF(B689<>0,VLOOKUP(C689,A01A02!$A$3:$K$13,11,FALSE),\"\")","v":""},null,0,"","","","",{"$f":"IF(I689<>0,VLOOKUP(J689,A01A02!$A$3:$K$13,11,FALSE),\"\")","v":""},{"$f":"IF(I689<>0,VLOOKUP(J689,A01A02!A:J,10,0),\"\")","v":""}]
[null,0,"","","","",{"$f":"IF(B690<>0,VLOOKUP(C690,A01A02!$A$3:$K$13,11,FALSE),\"\")","v":""},null,0,"","","","",{"$f":"IF(I690<>0,VLOOKUP(J690,A01A02!$A$3:$K$13,11,FALSE),\"\")","v":""},{"$f":"IF(I690<>0,VLOOKUP(J690,A01A02!A:J,10,0),\"\")","v":""}]
[null,0,"","","","",{"$f":"IF(B691<>0,VLOOKUP(C691,A01A02!$A$3:$K$13,11,FALSE),\"\")","v":""},null,0,"","","","",{"$f":"IF(I691<>0,VLOOKUP(J691,A01A02!$A$3:$K$13,11,FALSE),\"\")","v":""},{"$f":"IF(I691<>0,VLOOKUP(J691,A01A02!A:J,10,0),\"\")","v":""}]
[null,0,"","","","",{"$f":"IF(B692<>0,VLOOKUP(C692,A01A02!$A$3:$K$13,11,FALSE),\"\")","v":""},null,0,"","","","",{"$f":"IF(I692<>0,VLOOKUP(J692,A01A02!$A$3:$K$13,11,FALSE),\"\")","v":""},{"$f":"IF(I692<>0,VLOOKUP(J692,A01A02!A:J,10,0),\"\")","v":""}]
[null,0,"","","","",{"$f":"IF(B693<>0,VLOOKUP(C693,A01A02!$A$3:$K$13,11,FALSE),\"\")","v":""},null,0,"","","","",{"$f":"IF(I693<>0,VLOOKUP(J693,A01A02!$A$3:$K$13,11,FALSE),\"\")","v":""},{"$f":"IF(I693<>0,VLOOKUP(J693,A01A02!A:J,10,0),\"\")","v":""}]
[null,0,"","","","",{"$f":"IF(B694<>0,VLOOKUP(C694,A01A02!$A$3:$K$13,11,FALSE),\"\")","v":""},null,0,"","","","",{"$f":"IF(I694<>0,VLOOKUP(J694,A01A02!$A$3:$K$13,11,FALSE),\"\")","v":""},{"$f":"IF(I694<>0,VLOOKUP(J694,A01A02!A:J,10,0),\"\")","v":""}]
[null,0,"","","","",{"$f":"IF(B695<>0,VLOOKUP(C695,A01A02!$A$3:$K$13,11,FALSE),\"\")","v":""},null,0,"","","","",{"$f":"IF(I695<>0,VLOOKUP(J695,A01A02!$A$3:$K$13,11,FALSE),\"\")","v":""},{"$f":"IF(I695<>0,VLOOKUP(J695,A01A02!A:J,10,0),\"\")","v":""}]
[null,0,"","","","",{"$f":"IF(B696<>0,VLOOKUP(C696,A01A02!$A$3:$K$13,11,FALSE),\"\")","v":""},null,0,"","","","",{"$f":"IF(I696<>0,VLOOKUP(J696,A01A02!$A$3:$K$13,11,FALSE),\"\")","v":""},{"$f":"IF(I696<>0,VLOOKUP(J696,A01A02!A:J,10,0),\"\")","v":""}]
[null,0,"","","","",{"$f":"IF(B697<>0,VLOOKUP(C697,A01A02!$A$3:$K$13,11,FALSE),\"\")","v":""},null,0,"","","","",{"$f":"IF(I697<>0,VLOOKUP(J697,A01A02!$A$3:$K$13,11,FALSE),\"\")","v":""},{"$f":"IF(I697<>0,VLOOKUP(J697,A01A02!A:J,10,0),\"\")","v":""}]
[null,0,"","","","",{"$f":"IF(B698<>0,VLOOKUP(C698,A01A02!$A$3:$K$13,11,FALSE),\"\")","v":""},null,0,"","","","",{"$f":"IF(I698<>0,VLOOKUP(J698,A01A02!$A$3:$K$13,11,FALSE),\"\")","v":""},{"$f":"IF(I698<>0,VLOOKUP(J698,A01A02!A:J,10,0),\"\")","v":""}]
[null,0,"","","","",{"$f":"IF(B699<>0,VLOOKUP(C699,A01A02!$A$3:$K$13,11,FALSE),\"\")","v":""},null,0,"","","","",{"$f":"IF(I699<>0,VLOOKUP(J699,A01A02!$A$3:$K$13,11,FALSE),\"\")","v":""},{"$f":"IF(I699<>0,VLOOKUP(J699,A01A02!A:J,10,0),\"\")","v":""}]
[null,0,"","","","",{"$f":"IF(B700<>0,VLOOKUP(C700,A01A02!$A$3:$K$13,11,FALSE),\"\")","v":""},null,0,"","","","",{"$f":"IF(I700<>0,VLOOKUP(J700,A01A02!$A$3:$K$13,11,FALSE),\"\")","v":""},{"$f":"IF(I700<>0,VLOOKUP(J700,A01A02!A:J,10,0),\"\")","v":""}]
[null,0,"","","","",{"$f":"IF(B701<>0,VLOOKUP(C701,A01A02!$A$3:$K$13,11,FALSE),\"\")","v":""},null,0,"","","","",{"$f":"IF(I701<>0,VLOOKUP(J701,A01A02!$A$3:$K$13,11,FALSE),\"\")","v":""},{"$f":"IF(I701<>0,VLOOKUP(J701,A01A02!A:J,10,0),\"\")","v":""}]
[null,0,"","","","",{"$f":"IF(B702<>0,VLOOKUP(C702,A01A02!$A$3:$K$13,11,FALSE),\"\")","v":""},null,0,"","","","",{"$f":"IF(I702<>0,VLOOKUP(J702,A01A02!$A$3:$K$13,11,FALSE),\"\")","v":""},{"$f":"IF(I702<>0,VLOOKUP(J702,A01A02!A:J,10,0),\"\")","v":""}]
[null,0,"","","","",{"$f":"IF(B703<>0,VLOOKUP(C703,A01A02!$A$3:$K$13,11,FALSE),\"\")","v":""},null,0,"","","","",{"$f":"IF(I703<>0,VLOOKUP(J703,A01A02!$A$3:$K$13,11,FALSE),\"\")","v":""},{"$f":"IF(I703<>0,VLOOKUP(J703,A01A02!A:J,10,0),\"\")","v":""}]
[null,0,"","","","",{"$f":"IF(B704<>0,VLOOKUP(C704,A01A02!$A$3:$K$13,11,FALSE),\"\")","v":""},null,0,"","","","",{"$f":"IF(I704<>0,VLOOKUP(J704,A01A02!$A$3:$K$13,11,FALSE),\"\")","v":""},{"$f":"IF(I704<>0,VLOOKUP(J704,A01A02!A:J,10,0),\"\")","v":""}]
[null,0,"","","","",{"$f":"IF(B705<>0,VLOOKUP(C705,A01A02!$A$3:$K$13,11,FALSE),\"\")","v":""},null,0,"","","","",{"$f":"IF(I705<>0,VLOOKUP(J705,A01A02!$A$3:$K$13,11,FALSE),\"\")","v":""},{"$f":"IF(I705<>0,VLOOKUP(J705,A01A02!A:J,10,0),\"\")","v":""}]
[null,0,"","","","",{"$f":"IF(B706<>0,VLOOKUP(C706,A01A02!$A$3:$K$13,11,FALSE),\"\")","v":""},null,0,"","","","",{"$f":"IF(I706<>0,VLOOKUP(J706,A01A02!$A$3:$K$13,11,FALSE),\"\")","v":""},{"$f":"IF(I706<>0,VLOOKUP(J706,A01A02!A:J,10,0),\"\")","v":""}]
[null,{"$f":"IF(A707<>\"\",xycall(A707),0)","v":0},"","","","",{"$f":"IF(B707<>0,VLOOKUP(C707,A01A02!$A$3:$K$13,11,FALSE),\"\")","v":""},null,0,"","","","",{"$f":"IF(I707<>0,VLOOKUP(J707,A01A02!$A$3:$K$13,11,FALSE),\"\")","v":""},{"$f":"IF(I707<>0,VLOOKUP(J707,A01A02!A:J,10,0),\"\")","v":""}]
[null,0,{"$f":"IF(B708<>0,znoget(B708),\"\")","v":""},"","","",{"$f":"IF(B708<>0,VLOOKUP(C708,A01A02!$A$3:$K$13,11,FALSE),\"\")","v":""},null,{"$f":"IF(H708<>\"\",xycall(H708),0)","v":0},{"$f":"IF(I708<>0,znoget(I708),\"\")","v":""},"","","",{"$f":"IF(I708<>0,VLOOKUP(J708,A01A02!$A$3:$K$13,11,FALSE),\"\")","v":""},{"$f":"IF(I708<>0,VLOOKUP(J708,A01A02!A:J,10,0),\"\")","v":""}]
[null,0,"","","","",{"$f":"IF(B709<>0,VLOOKUP(C709,A01A02!$A$3:$K$13,11,FALSE),\"\")","v":""},null,0,"","","","",{"$f":"IF(I709<>0,VLOOKUP(J709,A01A02!$A$3:$K$13,11,FALSE),\"\")","v":""},{"$f":"IF(I709<>0,VLOOKUP(J709,A01A02!A:J,10,0),\"\")","v":""}]
[null,0,"","","","",{"$f":"IF(B710<>0,VLOOKUP(C710,A01A02!$A$3:$K$13,11,FALSE),\"\")","v":""},null,0,"","","","",{"$f":"IF(I710<>0,VLOOKUP(J710,A01A02!$A$3:$K$13,11,FALSE),\"\")","v":""},{"$f":"IF(I710<>0,VLOOKUP(J710,A01A02!A:J,10,0),\"\")","v":""}]
[null,0,"","","","",{"$f":"IF(B711<>0,VLOOKUP(C711,A01A02!$A$3:$K$13,11,FALSE),\"\")","v":""},null,0,"","","","",{"$f":"IF(I711<>0,VLOOKUP(J711,A01A02!$A$3:$K$13,11,FALSE),\"\")","v":""},{"$f":"IF(I711<>0,VLOOKUP(J711,A01A02!A:J,10,0),\"\")","v":""}]
[null,0,"","","","",{"$f":"IF(B712<>0,VLOOKUP(C712,A01A02!$A$3:$K$13,11,FALSE),\"\")","v":""},null,0,"","","","",{"$f":"IF(I712<>0,VLOOKUP(J712,A01A02!$A$3:$K$13,11,FALSE),\"\")","v":""},{"$f":"IF(I712<>0,VLOOKUP(J712,A01A02!A:J,10,0),\"\")","v":""}]
[null,0,"","","","",{"$f":"IF(B713<>0,VLOOKUP(C713,A01A02!$A$3:$K$13,11,FALSE),\"\")","v":""},null,0,"","","","",{"$f":"IF(I713<>0,VLOOKUP(J713,A01A02!$A$3:$K$13,11,FALSE),\"\")","v":""},{"$f":"IF(I713<>0,VLOOKUP(J713,A01A02!A:J,10,0),\"\")","v":""}]
[null,0,"","","","",{"$f":"IF(B714<>0,VLOOKUP(C714,A01A02!$A$3:$K$13,11,FALSE),\"\")","v":""},null,0,"","","","",{"$f":"IF(I714<>0,VLOOKUP(J714,A01A02!$A$3:$K$13,11,FALSE),\"\")","v":""},{"$f":"IF(I714<>0,VLOOKUP(J714,A01A02!A:J,10,0),\"\")","v":""}]
[null,0,"","","","",{"$f":"IF(B715<>0,VLOOKUP(C715,A01A02!$A$3:$K$13,11,FALSE),\"\")","v":""},null,0,"","","","",{"$f":"IF(I715<>0,VLOOKUP(J715,A01A02!$A$3:$K$13,11,FALSE),\"\")","v":""},{"$f":"IF(I715<>0,VLOOKUP(J715,A01A02!A:J,10,0),\"\")","v":""}]
[null,0,"","","","",{"$f":"IF(B716<>0,VLOOKUP(C716,A01A02!$A$3:$K$13,11,FALSE),\"\")","v":""},null,0,"","","","",{"$f":"IF(I716<>0,VLOOKUP(J716,A01A02!$A$3:$K$13,11,FALSE),\"\")","v":""},{"$f":"IF(I716<>0,VLOOKUP(J716,A01A02!A:J,10,0),\"\")","v":""}]
[null,0,"","","","",{"$f":"IF(B717<>0,VLOOKUP(C717,A01A02!$A$3:$K$13,11,FALSE),\"\")","v":""},null,0,"","","","",{"$f":"IF(I717<>0,VLOOKUP(J717,A01A02!$A$3:$K$13,11,FALSE),\"\")","v":""},{"$f":"IF(I717<>0,VLOOKUP(J717,A01A02!A:J,10,0),\"\")","v":""}]
[null,0,"","","","",{"$f":"IF(B718<>0,VLOOKUP(C718,A01A02!$A$3:$K$13,11,FALSE),\"\")","v":""},null,0,"","","","",{"$f":"IF(I718<>0,VLOOKUP(J718,A01A02!$A$3:$K$13,11,FALSE),\"\")","v":""},{"$f":"IF(I718<>0,VLOOKUP(J718,A01A02!A:J,10,0),\"\")","v":""}]
[null,0,"","","","",{"$f":"IF(B719<>0,VLOOKUP(C719,A01A02!$A$3:$K$13,11,FALSE),\"\")","v":""},null,0,"","","","",{"$f":"IF(I719<>0,VLOOKUP(J719,A01A02!$A$3:$K$13,11,FALSE),\"\")","v":""},{"$f":"IF(I719<>0,VLOOKUP(J719,A01A02!A:J,10,0),\"\")","v":""}]
[null,0,"","","","",{"$f":"IF(B720<>0,VLOOKUP(C720,A01A02!$A$3:$K$13,11,FALSE),\"\")","v":""},null,0,"","","","",{"$f":"IF(I720<>0,VLOOKUP(J720,A01A02!$A$3:$K$13,11,FALSE),\"\")","v":""},{"$f":"IF(I720<>0,VLOOKUP(J720,A01A02!A:J,10,0),\"\")","v":""}]
[null,0,"","","","",{"$f":"IF(B721<>0,VLOOKUP(C721,A01A02!$A$3:$K$13,11,FALSE),\"\")","v":""},null,0,"","","","",{"$f":"IF(I721<>0,VLOOKUP(J721,A01A02!$A$3:$K$13,11,FALSE),\"\")","v":""},{"$f":"IF(I721<>0,VLOOKUP(J721,A01A02!A:J,10,0),\"\")","v":""}]
[null,0,"","","","",{"$f":"IF(B722<>0,VLOOKUP(C722,A01A02!$A$3:$K$13,11,FALSE),\"\")","v":""},null,0,"","","","",{"$f":"IF(I722<>0,VLOOKUP(J722,A01A02!$A$3:$K$13,11,FALSE),\"\")","v":""},{"$f":"IF(I722<>0,VLOOKUP(J722,A01A02!A:J,10,0),\"\")","v":""}]
[null,0,"","","","",{"$f":"IF(B723<>0,VLOOKUP(C723,A01A02!$A$3:$K$13,11,FALSE),\"\")","v":""},null,0,"","","","",{"$f":"IF(I723<>0,VLOOKUP(J723,A01A02!$A$3:$K$13,11,FALSE),\"\")","v":""},{"$f":"IF(I723<>0,VLOOKUP(J723,A01A02!A:J,10,0),\"\")","v":""}]
[null,0,"","","","",{"$f":"IF(B724<>0,VLOOKUP(C724,A01A02!$A$3:$K$13,11,FALSE),\"\")","v":""},null,0,"","","","",{"$f":"IF(I724<>0,VLOOKUP(J724,A01A02!$A$3:$K$13,11,FALSE),\"\")","v":""},{"$f":"IF(I724<>0,VLOOKUP(J724,A01A02!A:J,10,0),\"\")","v":""}]
[null,0,"","","","",{"$f":"IF(B725<>0,VLOOKUP(C725,A01A02!$A$3:$K$13,11,FALSE),\"\")","v":""},null,0,"","","","",{"$f":"IF(I725<>0,VLOOKUP(J725,A01A02!$A$3:$K$13,11,FALSE),\"\")","v":""},{"$f":"IF(I725<>0,VLOOKUP(J725,A01A02!A:J,10,0),\"\")","v":""}]
[null,0,"","","","",{"$f":"IF(B726<>0,VLOOKUP(C726,A01A02!$A$3:$K$13,11,FALSE),\"\")","v":""},null,0,"","","","",{"$f":"IF(I726<>0,VLOOKUP(J726,A01A02!$A$3:$K$13,11,FALSE),\"\")","v":""},{"$f":"IF(I726<>0,VLOOKUP(J726,A01A02!A:J,10,0),\"\")","v":""}]
[null,0,"","","","",{"$f":"IF(B727<>0,VLOOKUP(C727,A01A02!$A$3:$K$13,11,FALSE),\"\")","v":""},null,0,"","","","",{"$f":"IF(I727<>0,VLOOKUP(J727,A01A02!$A$3:$K$13,11,FALSE),\"\")","v":""},{"$f":"IF(I727<>0,VLOOKUP(J727,A01A02!A:J,10,0),\"\")","v":""}]
[null,0,"","","","",{"$f":"IF(B728<>0,VLOOKUP(C728,A01A02!$A$3:$K$13,11,FALSE),\"\")","v":""},null,0,"","","","",{"$f":"IF(I728<>0,VLOOKUP(J728,A01A02!$A$3:$K$13,11,FALSE),\"\")","v":""},{"$f":"IF(I728<>0,VLOOKUP(J728,A01A02!A:J,10,0),\"\")","v":""}]
[null,0,"","","","",{"$f":"IF(B729<>0,VLOOKUP(C729,A01A02!$A$3:$K$13,11,FALSE),\"\")","v":""},null,0,"","","","",{"$f":"IF(I729<>0,VLOOKUP(J729,A01A02!$A$3:$K$13,11,FALSE),\"\")","v":""},{"$f":"IF(I729<>0,VLOOKUP(J729,A01A02!A:J,10,0),\"\")","v":""}]
[null,0,"","","","",{"$f":"IF(B730<>0,VLOOKUP(C730,A01A02!$A$3:$K$13,11,FALSE),\"\")","v":""},null,0,"","","","",{"$f":"IF(I730<>0,VLOOKUP(J730,A01A02!$A$3:$K$13,11,FALSE),\"\")","v":""},{"$f":"IF(I730<>0,VLOOKUP(J730,A01A02!A:J,10,0),\"\")","v":""}]
[null,0,"","","","",{"$f":"IF(B731<>0,VLOOKUP(C731,A01A02!$A$3:$K$13,11,FALSE),\"\")","v":""},null,0,"","","","",{"$f":"IF(I731<>0,VLOOKUP(J731,A01A02!$A$3:$K$13,11,FALSE),\"\")","v":""},{"$f":"IF(I731<>0,VLOOKUP(J731,A01A02!A:J,10,0),\"\")","v":""}]
[null,0,"","","","",{"$f":"IF(B732<>0,VLOOKUP(C732,A01A02!$A$3:$K$13,11,FALSE),\"\")","v":""},null,0,"","","","",{"$f":"IF(I732<>0,VLOOKUP(J732,A01A02!$A$3:$K$13,11,FALSE),\"\")","v":""},{"$f":"IF(I732<>0,VLOOKUP(J732,A01A02!A:J,10,0),\"\")","v":""}]
[null,0,"","","","",{"$f":"IF(B733<>0,VLOOKUP(C733,A01A02!$A$3:$K$13,11,FALSE),\"\")","v":""},null,0,"","","","",{"$f":"IF(I733<>0,VLOOKUP(J733,A01A02!$A$3:$K$13,11,FALSE),\"\")","v":""},{"$f":"IF(I733<>0,VLOOKUP(J733,A01A02!A:J,10,0),\"\")","v":""}]
[null,0,"","","","",{"$f":"IF(B734<>0,VLOOKUP(C734,A01A02!$A$3:$K$13,11,FALSE),\"\")","v":""},null,0,"","","","",{"$f":"IF(I734<>0,VLOOKUP(J734,A01A02!$A$3:$K$13,11,FALSE),\"\")","v":""},{"$f":"IF(I734<>0,VLOOKUP(J734,A01A02!A:J,10,0),\"\")","v":""}]
[null,0,"","","","",{"$f":"IF(B735<>0,VLOOKUP(C735,A01A02!$A$3:$K$13,11,FALSE),\"\")","v":""},null,0,"","","","",{"$f":"IF(I735<>0,VLOOKUP(J735,A01A02!$A$3:$K$13,11,FALSE),\"\")","v":""},{"$f":"IF(I735<>0,VLOOKUP(J735,A01A02!A:J,10,0),\"\")","v":""}]
[null,0,"","","","",{"$f":"IF(B736<>0,VLOOKUP(C736,A01A02!$A$3:$K$13,11,FALSE),\"\")","v":""},null,0,"","","","",{"$f":"IF(I736<>0,VLOOKUP(J736,A01A02!$A$3:$K$13,11,FALSE),\"\")","v":""},{"$f":"IF(I736<>0,VLOOKUP(J736,A01A02!A:J,10,0),\"\")","v":""}]
[null,0,"","","","",{"$f":"IF(B737<>0,VLOOKUP(C737,A01A02!$A$3:$K$13,11,FALSE),\"\")","v":""},null,0,"","","","",{"$f":"IF(I737<>0,VLOOKUP(J737,A01A02!$A$3:$K$13,11,FALSE),\"\")","v":""},{"$f":"IF(I737<>0,VLOOKUP(J737,A01A02!A:J,10,0),\"\")","v":""}]
[null,0,"","","","",{"$f":"IF(B738<>0,VLOOKUP(C738,A01A02!$A$3:$K$13,11,FALSE),\"\")","v":""},null,0,"","","","",{"$f":"IF(I738<>0,VLOOKUP(J738,A01A02!$A$3:$K$13,11,FALSE),\"\")","v":""},{"$f":"IF(I738<>0,VLOOKUP(J738,A01A02!A:J,10,0),\"\")","v":""}]
[null,0,"","","","",{"$f":"IF(B739<>0,VLOOKUP(C739,A01A02!$A$3:$K$13,11,FALSE),\"\")","v":""},null,0,"","","","",{"$f":"IF(I739<>0,VLOOKUP(J739,A01A02!$A$3:$K$13,11,FALSE),\"\")","v":""},{"$f":"IF(I739<>0,VLOOKUP(J739,A01A02!A:J,10,0),\"\")","v":""}]
[null,0,"","","","",{"$f":"IF(B740<>0,VLOOKUP(C740,A01A02!$A$3:$K$13,11,FALSE),\"\")","v":""},null,0,"","","","",{"$f":"IF(I740<>0,VLOOKUP(J740,A01A02!$A$3:$K$13,11,FALSE),\"\")","v":""},{"$f":"IF(I740<>0,VLOOKUP(J740,A01A02!A:J,10,0),\"\")","v":""}]
[null,0,"",{"$f":"IF(B741<>0,znaget(B741),\"\")","v":""},{"$f":"IF(B741<>0,xget(B741),\"\")","v":""},{"$f":"IF(B741<>0,yget(B741),\"\")","v":""},{"$f":"IF(B741<>0,VLOOKUP(C741,A01A02!$A$3:$K$13,11,FALSE),\"\")","v":""},null,0,"",{"$f":"IF(I741<>0,znaget(I741),\"\")","v":""},{"$f":"IF(I741<>0,xget(I741),\"\")","v":""},{"$f":"IF(I741<>0,yget(I741),\"\")","v":""},{"$f":"IF(I741<>0,VLOOKUP(J741,A01A02!$A$3:$K$13,11,FALSE),\"\")","v":""},{"$f":"IF(I741<>0,VLOOKUP(J741,A01A02!A:J,10,0),\"\")","v":""}]
[null,0,"","","","",{"$f":"IF(B742<>0,VLOOKUP(C742,A01A02!$A$3:$K$13,11,FALSE),\"\")","v":""},null,0,"","","","",{"$f":"IF(I742<>0,VLOOKUP(J742,A01A02!$A$3:$K$13,11,FALSE),\"\")","v":""},{"$f":"IF(I742<>0,VLOOKUP(J742,A01A02!A:J,10,0),\"\")","v":""}]
[null,0,"","","","",{"$f":"IF(B743<>0,VLOOKUP(C743,A01A02!$A$3:$K$13,11,FALSE),\"\")","v":""},null,0,"","","","",{"$f":"IF(I743<>0,VLOOKUP(J743,A01A02!$A$3:$K$13,11,FALSE),\"\")","v":""},{"$f":"IF(I743<>0,VLOOKUP(J743,A01A02!A:J,10,0),\"\")","v":""}]
[null,0,"","","","",{"$f":"IF(B744<>0,VLOOKUP(C744,A01A02!$A$3:$K$13,11,FALSE),\"\")","v":""},null,0,"","","","",{"$f":"IF(I744<>0,VLOOKUP(J744,A01A02!$A$3:$K$13,11,FALSE),\"\")","v":""},{"$f":"IF(I744<>0,VLOOKUP(J744,A01A02!A:J,10,0),\"\")","v":""}]
[null,0,"","","","",{"$f":"IF(B745<>0,VLOOKUP(C745,A01A02!$A$3:$K$13,11,FALSE),\"\")","v":""},null,0,"","","","",{"$f":"IF(I745<>0,VLOOKUP(J745,A01A02!$A$3:$K$13,11,FALSE),\"\")","v":""},{"$f":"IF(I745<>0,VLOOKUP(J745,A01A02!A:J,10,0),\"\")","v":""}]
[null,0,"","","","",{"$f":"IF(B746<>0,VLOOKUP(C746,A01A02!$A$3:$K$13,11,FALSE),\"\")","v":""},null,0,"","","","",{"$f":"IF(I746<>0,VLOOKUP(J746,A01A02!$A$3:$K$13,11,FALSE),\"\")","v":""},{"$f":"IF(I746<>0,VLOOKUP(J746,A01A02!A:J,10,0),\"\")","v":""}]
[null,0,"","","","",{"$f":"IF(B747<>0,VLOOKUP(C747,A01A02!$A$3:$K$13,11,FALSE),\"\")","v":""},null,0,"","","","",{"$f":"IF(I747<>0,VLOOKUP(J747,A01A02!$A$3:$K$13,11,FALSE),\"\")","v":""},{"$f":"IF(I747<>0,VLOOKUP(J747,A01A02!A:J,10,0),\"\")","v":""}]
[null,0,"","","","",{"$f":"IF(B748<>0,VLOOKUP(C748,A01A02!$A$3:$K$13,11,FALSE),\"\")","v":""},null,0,"","","","",{"$f":"IF(I748<>0,VLOOKUP(J748,A01A02!$A$3:$K$13,11,FALSE),\"\")","v":""},{"$f":"IF(I748<>0,VLOOKUP(J748,A01A02!A:J,10,0),\"\")","v":""}]
[null,0,"","","","",{"$f":"IF(B749<>0,VLOOKUP(C749,A01A02!$A$3:$K$13,11,FALSE),\"\")","v":""},null,0,"","","","",{"$f":"IF(I749<>0,VLOOKUP(J749,A01A02!$A$3:$K$13,11,FALSE),\"\")","v":""},{"$f":"IF(I749<>0,VLOOKUP(J749,A01A02!A:J,10,0),\"\")","v":""}]
[null,0,"","","","",{"$f":"IF(B750<>0,VLOOKUP(C750,A01A02!$A$3:$K$13,11,FALSE),\"\")","v":""},null,0,"","","","",{"$f":"IF(I750<>0,VLOOKUP(J750,A01A02!$A$3:$K$13,11,FALSE),\"\")","v":""},{"$f":"IF(I750<>0,VLOOKUP(J750,A01A02!A:J,10,0),\"\")","v":""}]
[null,0,"","","","",{"$f":"IF(B751<>0,VLOOKUP(C751,A01A02!$A$3:$K$13,11,FALSE),\"\")","v":""},null,0,"","","","",{"$f":"IF(I751<>0,VLOOKUP(J751,A01A02!$A$3:$K$13,11,FALSE),\"\")","v":""},{"$f":"IF(I751<>0,VLOOKUP(J751,A01A02!A:J,10,0),\"\")","v":""}]
[null,0,"","","","",{"$f":"IF(B752<>0,VLOOKUP(C752,A01A02!$A$3:$K$13,11,FALSE),\"\")","v":""},null,0,"","","","",{"$f":"IF(I752<>0,VLOOKUP(J752,A01A02!$A$3:$K$13,11,FALSE),\"\")","v":""},{"$f":"IF(I752<>0,VLOOKUP(J752,A01A02!A:J,10,0),\"\")","v":""}]
[null,0,"","","","",{"$f":"IF(B753<>0,VLOOKUP(C753,A01A02!$A$3:$K$13,11,FALSE),\"\")","v":""},null,0,"","","","",{"$f":"IF(I753<>0,VLOOKUP(J753,A01A02!$A$3:$K$13,11,FALSE),\"\")","v":""},{"$f":"IF(I753<>0,VLOOKUP(J753,A01A02!A:J,10,0),\"\")","v":""}]
[null,0,"","","","",{"$f":"IF(B754<>0,VLOOKUP(C754,A01A02!$A$3:$K$13,11,FALSE),\"\")","v":""},null,0,"","","","",{"$f":"IF(I754<>0,VLOOKUP(J754,A01A02!$A$3:$K$13,11,FALSE),\"\")","v":""},{"$f":"IF(I754<>0,VLOOKUP(J754,A01A02!A:J,10,0),\"\")","v":""}]
[null,0,"","","","",{"$f":"IF(B755<>0,VLOOKUP(C755,A01A02!$A$3:$K$13,11,FALSE),\"\")","v":""},null,0,"","","","",{"$f":"IF(I755<>0,VLOOKUP(J755,A01A02!$A$3:$K$13,11,FALSE),\"\")","v":""},{"$f":"IF(I755<>0,VLOOKUP(J755,A01A02!A:J,10,0),\"\")","v":""}]
[null,0,"","","","",{"$f":"IF(B756<>0,VLOOKUP(C756,A01A02!$A$3:$K$13,11,FALSE),\"\")","v":""},null,0,"","","","",{"$f":"IF(I756<>0,VLOOKUP(J756,A01A02!$A$3:$K$13,11,FALSE),\"\")","v":""},{"$f":"IF(I756<>0,VLOOKUP(J756,A01A02!A:J,10,0),\"\")","v":""}]
[null,0,"","","","",{"$f":"IF(B757<>0,VLOOKUP(C757,A01A02!$A$3:$K$13,11,FALSE),\"\")","v":""},null,0,"","","","",{"$f":"IF(I757<>0,VLOOKUP(J757,A01A02!$A$3:$K$13,11,FALSE),\"\")","v":""},{"$f":"IF(I757<>0,VLOOKUP(J757,A01A02!A:J,10,0),\"\")","v":""}]
[null,0,"","","","",{"$f":"IF(B758<>0,VLOOKUP(C758,A01A02!$A$3:$K$13,11,FALSE),\"\")","v":""},null,0,"","","","",{"$f":"IF(I758<>0,VLOOKUP(J758,A01A02!$A$3:$K$13,11,FALSE),\"\")","v":""},{"$f":"IF(I758<>0,VLOOKUP(J758,A01A02!A:J,10,0),\"\")","v":""}]
[null,0,"","","","",{"$f":"IF(B759<>0,VLOOKUP(C759,A01A02!$A$3:$K$13,11,FALSE),\"\")","v":""},null,0,"","","","",{"$f":"IF(I759<>0,VLOOKUP(J759,A01A02!$A$3:$K$13,11,FALSE),\"\")","v":""},{"$f":"IF(I759<>0,VLOOKUP(J759,A01A02!A:J,10,0),\"\")","v":""}]
[null,0,"","","","",{"$f":"IF(B760<>0,VLOOKUP(C760,A01A02!$A$3:$K$13,11,FALSE),\"\")","v":""},null,0,"","","","",{"$f":"IF(I760<>0,VLOOKUP(J760,A01A02!$A$3:$K$13,11,FALSE),\"\")","v":""},{"$f":"IF(I760<>0,VLOOKUP(J760,A01A02!A:J,10,0),\"\")","v":""}]
[null,0,"","","","",{"$f":"IF(B761<>0,VLOOKUP(C761,A01A02!$A$3:$K$13,11,FALSE),\"\")","v":""},null,0,"","","","",{"$f":"IF(I761<>0,VLOOKUP(J761,A01A02!$A$3:$K$13,11,FALSE),\"\")","v":""},{"$f":"IF(I761<>0,VLOOKUP(J761,A01A02!A:J,10,0),\"\")","v":""}]
[null,0,"","","","",{"$f":"IF(B762<>0,VLOOKUP(C762,A01A02!$A$3:$K$13,11,FALSE),\"\")","v":""},null,0,"","","","",{"$f":"IF(I762<>0,VLOOKUP(J762,A01A02!$A$3:$K$13,11,FALSE),\"\")","v":""},{"$f":"IF(I762<>0,VLOOKUP(J762,A01A02!A:J,10,0),\"\")","v":""}]
[null,0,"","","","",{"$f":"IF(B763<>0,VLOOKUP(C763,A01A02!$A$3:$K$13,11,FALSE),\"\")","v":""},null,0,"","","","",{"$f":"IF(I763<>0,VLOOKUP(J763,A01A02!$A$3:$K$13,11,FALSE),\"\")","v":""},{"$f":"IF(I763<>0,VLOOKUP(J763,A01A02!A:J,10,0),\"\")","v":""}]
[null,0,"","","","",{"$f":"IF(B764<>0,VLOOKUP(C764,A01A02!$A$3:$K$13,11,FALSE),\"\")","v":""},null,0,"","","","",{"$f":"IF(I764<>0,VLOOKUP(J764,A01A02!$A$3:$K$13,11,FALSE),\"\")","v":""},{"$f":"IF(I764<>0,VLOOKUP(J764,A01A02!A:J,10,0),\"\")","v":""}]
[null,0,"","","","",{"$f":"IF(B765<>0,VLOOKUP(C765,A01A02!$A$3:$K$13,11,FALSE),\"\")","v":""},null,0,"","","","",{"$f":"IF(I765<>0,VLOOKUP(J765,A01A02!$A$3:$K$13,11,FALSE),\"\")","v":""},{"$f":"IF(I765<>0,VLOOKUP(J765,A01A02!A:J,10,0),\"\")","v":""}]
[null,0,"","","","",{"$f":"IF(B766<>0,VLOOKUP(C766,A01A02!$A$3:$K$13,11,FALSE),\"\")","v":""},null,0,"","","","",{"$f":"IF(I766<>0,VLOOKUP(J766,A01A02!$A$3:$K$13,11,FALSE),\"\")","v":""},{"$f":"IF(I766<>0,VLOOKUP(J766,A01A02!A:J,10,0),\"\")","v":""}]
[null,0,"","","","",{"$f":"IF(B767<>0,VLOOKUP(C767,A01A02!$A$3:$K$13,11,FALSE),\"\")","v":""},null,0,"","","","",{"$f":"IF(I767<>0,VLOOKUP(J767,A01A02!$A$3:$K$13,11,FALSE),\"\")","v":""},{"$f":"IF(I767<>0,VLOOKUP(J767,A01A02!A:J,10,0),\"\")","v":""}]
[null,0,"","","","",{"$f":"IF(B768<>0,VLOOKUP(C768,A01A02!$A$3:$K$13,11,FALSE),\"\")","v":""},null,0,"","","","",{"$f":"IF(I768<>0,VLOOKUP(J768,A01A02!$A$3:$K$13,11,FALSE),\"\")","v":""},{"$f":"IF(I768<>0,VLOOKUP(J768,A01A02!A:J,10,0),\"\")","v":""}]
[null,0,"","","","",{"$f":"IF(B769<>0,VLOOKUP(C769,A01A02!$A$3:$K$13,11,FALSE),\"\")","v":""},null,0,"","","","",{"$f":"IF(I769<>0,VLOOKUP(J769,A01A02!$A$3:$K$13,11,FALSE),\"\")","v":""},{"$f":"IF(I769<>0,VLOOKUP(J769,A01A02!A:J,10,0),\"\")","v":""}]
[null,0,"","","","",{"$f":"IF(B770<>0,VLOOKUP(C770,A01A02!$A$3:$K$13,11,FALSE),\"\")","v":""},null,0,"","","","",{"$f":"IF(I770<>0,VLOOKUP(J770,A01A02!$A$3:$K$13,11,FALSE),\"\")","v":""},{"$f":"IF(I770<>0,VLOOKUP(J770,A01A02!A:J,10,0),\"\")","v":""}]
[null,{"$f":"IF(A771<>\"\",xycall(A771),0)","v":0},"","","","",{"$f":"IF(B771<>0,VLOOKUP(C771,A01A02!$A$3:$K$13,11,FALSE),\"\")","v":""},null,0,"","","","",{"$f":"IF(I771<>0,VLOOKUP(J771,A01A02!$A$3:$K$13,11,FALSE),\"\")","v":""},{"$f":"IF(I771<>0,VLOOKUP(J771,A01A02!A:J,10,0),\"\")","v":""}]
[null,0,{"$f":"IF(B772<>0,znoget(B772),\"\")","v":""},"","","",{"$f":"IF(B772<>0,VLOOKUP(C772,A01A02!$A$3:$K$13,11,FALSE),\"\")","v":""},null,{"$f":"IF(H772<>\"\",xycall(H772),0)","v":0},{"$f":"IF(I772<>0,znoget(I772),\"\")","v":""},"","","",{"$f":"IF(I772<>0,VLOOKUP(J772,A01A02!$A$3:$K$13,11,FALSE),\"\")","v":""},{"$f":"IF(I772<>0,VLOOKUP(J772,A01A02!A:J,10,0),\"\")","v":""}]
[null,0,"","","","",{"$f":"IF(B773<>0,VLOOKUP(C773,A01A02!$A$3:$K$13,11,FALSE),\"\")","v":""},null,0,"","","","",{"$f":"IF(I773<>0,VLOOKUP(J773,A01A02!$A$3:$K$13,11,FALSE),\"\")","v":""},{"$f":"IF(I773<>0,VLOOKUP(J773,A01A02!A:J,10,0),\"\")","v":""}]
[null,0,"","","","",{"$f":"IF(B774<>0,VLOOKUP(C774,A01A02!$A$3:$K$13,11,FALSE),\"\")","v":""},null,0,"","","","",{"$f":"IF(I774<>0,VLOOKUP(J774,A01A02!$A$3:$K$13,11,FALSE),\"\")","v":""},{"$f":"IF(I774<>0,VLOOKUP(J774,A01A02!A:J,10,0),\"\")","v":""}]
[null,0,"","","","",{"$f":"IF(B775<>0,VLOOKUP(C775,A01A02!$A$3:$K$13,11,FALSE),\"\")","v":""},null,0,"","","","",{"$f":"IF(I775<>0,VLOOKUP(J775,A01A02!$A$3:$K$13,11,FALSE),\"\")","v":""},{"$f":"IF(I775<>0,VLOOKUP(J775,A01A02!A:J,10,0),\"\")","v":""}]
[null,0,"","","","",{"$f":"IF(B776<>0,VLOOKUP(C776,A01A02!$A$3:$K$13,11,FALSE),\"\")","v":""},null,0,"","","","",{"$f":"IF(I776<>0,VLOOKUP(J776,A01A02!$A$3:$K$13,11,FALSE),\"\")","v":""},{"$f":"IF(I776<>0,VLOOKUP(J776,A01A02!A:J,10,0),\"\")","v":""}]
[null,0,"","","","",{"$f":"IF(B777<>0,VLOOKUP(C777,A01A02!$A$3:$K$13,11,FALSE),\"\")","v":""},null,0,"","","","",{"$f":"IF(I777<>0,VLOOKUP(J777,A01A02!$A$3:$K$13,11,FALSE),\"\")","v":""},{"$f":"IF(I777<>0,VLOOKUP(J777,A01A02!A:J,10,0),\"\")","v":""}]
[null,0,"","","","",{"$f":"IF(B778<>0,VLOOKUP(C778,A01A02!$A$3:$K$13,11,FALSE),\"\")","v":""},null,0,"","","","",{"$f":"IF(I778<>0,VLOOKUP(J778,A01A02!$A$3:$K$13,11,FALSE),\"\")","v":""},{"$f":"IF(I778<>0,VLOOKUP(J778,A01A02!A:J,10,0),\"\")","v":""}]
[null,0,"","","","",{"$f":"IF(B779<>0,VLOOKUP(C779,A01A02!$A$3:$K$13,11,FALSE),\"\")","v":""},null,0,"","","","",{"$f":"IF(I779<>0,VLOOKUP(J779,A01A02!$A$3:$K$13,11,FALSE),\"\")","v":""},{"$f":"IF(I779<>0,VLOOKUP(J779,A01A02!A:J,10,0),\"\")","v":""}]
[null,0,"","","","",{"$f":"IF(B780<>0,VLOOKUP(C780,A01A02!$A$3:$K$13,11,FALSE),\"\")","v":""},null,0,"","","","",{"$f":"IF(I780<>0,VLOOKUP(J780,A01A02!$A$3:$K$13,11,FALSE),\"\")","v":""},{"$f":"IF(I780<>0,VLOOKUP(J780,A01A02!A:J,10,0),\"\")","v":""}]
[null,0,"","","","",{"$f":"IF(B781<>0,VLOOKUP(C781,A01A02!$A$3:$K$13,11,FALSE),\"\")","v":""},null,0,"","","","",{"$f":"IF(I781<>0,VLOOKUP(J781,A01A02!$A$3:$K$13,11,FALSE),\"\")","v":""},{"$f":"IF(I781<>0,VLOOKUP(J781,A01A02!A:J,10,0),\"\")","v":""}]
[null,0,"","","","",{"$f":"IF(B782<>0,VLOOKUP(C782,A01A02!$A$3:$K$13,11,FALSE),\"\")","v":""},null,0,"","","","",{"$f":"IF(I782<>0,VLOOKUP(J782,A01A02!$A$3:$K$13,11,FALSE),\"\")","v":""},{"$f":"IF(I782<>0,VLOOKUP(J782,A01A02!A:J,10,0),\"\")","v":""}]
[null,0,"","","","",{"$f":"IF(B783<>0,VLOOKUP(C783,A01A02!$A$3:$K$13,11,FALSE),\"\")","v":""},null,0,"","","","",{"$f":"IF(I783<>0,VLOOKUP(J783,A01A02!$A$3:$K$13,11,FALSE),\"\")","v":""},{"$f":"IF(I783<>0,VLOOKUP(J783,A01A02!A:J,10,0),\"\")","v":""}]
[null,0,"","","","",{"$f":"IF(B784<>0,VLOOKUP(C784,A01A02!$A$3:$K$13,11,FALSE),\"\")","v":""},null,0,"","","","",{"$f":"IF(I784<>0,VLOOKUP(J784,A01A02!$A$3:$K$13,11,FALSE),\"\")","v":""},{"$f":"IF(I784<>0,VLOOKUP(J784,A01A02!A:J,10,0),\"\")","v":""}]
[null,0,"","","","",{"$f":"IF(B785<>0,VLOOKUP(C785,A01A02!$A$3:$K$13,11,FALSE),\"\")","v":""},null,0,"","","","",{"$f":"IF(I785<>0,VLOOKUP(J785,A01A02!$A$3:$K$13,11,FALSE),\"\")","v":""},{"$f":"IF(I785<>0,VLOOKUP(J785,A01A02!A:J,10,0),\"\")","v":""}]
[null,0,"","","","",{"$f":"IF(B786<>0,VLOOKUP(C786,A01A02!$A$3:$K$13,11,FALSE),\"\")","v":""},null,0,"","","","",{"$f":"IF(I786<>0,VLOOKUP(J786,A01A02!$A$3:$K$13,11,FALSE),\"\")","v":""},{"$f":"IF(I786<>0,VLOOKUP(J786,A01A02!A:J,10,0),\"\")","v":""}]
[null,0,"","","","",{"$f":"IF(B787<>0,VLOOKUP(C787,A01A02!$A$3:$K$13,11,FALSE),\"\")","v":""},null,0,"","","","",{"$f":"IF(I787<>0,VLOOKUP(J787,A01A02!$A$3:$K$13,11,FALSE),\"\")","v":""},{"$f":"IF(I787<>0,VLOOKUP(J787,A01A02!A:J,10,0),\"\")","v":""}]
[null,0,"","","","",{"$f":"IF(B788<>0,VLOOKUP(C788,A01A02!$A$3:$K$13,11,FALSE),\"\")","v":""},null,0,"","","","",{"$f":"IF(I788<>0,VLOOKUP(J788,A01A02!$A$3:$K$13,11,FALSE),\"\")","v":""},{"$f":"IF(I788<>0,VLOOKUP(J788,A01A02!A:J,10,0),\"\")","v":""}]
[null,0,"","","","",{"$f":"IF(B789<>0,VLOOKUP(C789,A01A02!$A$3:$K$13,11,FALSE),\"\")","v":""},null,0,"","","","",{"$f":"IF(I789<>0,VLOOKUP(J789,A01A02!$A$3:$K$13,11,FALSE),\"\")","v":""},{"$f":"IF(I789<>0,VLOOKUP(J789,A01A02!A:J,10,0),\"\")","v":""}]
[null,0,"","","","",{"$f":"IF(B790<>0,VLOOKUP(C790,A01A02!$A$3:$K$13,11,FALSE),\"\")","v":""},null,0,"","","","",{"$f":"IF(I790<>0,VLOOKUP(J790,A01A02!$A$3:$K$13,11,FALSE),\"\")","v":""},{"$f":"IF(I790<>0,VLOOKUP(J790,A01A02!A:J,10,0),\"\")","v":""}]
[null,0,"","","","",{"$f":"IF(B791<>0,VLOOKUP(C791,A01A02!$A$3:$K$13,11,FALSE),\"\")","v":""},null,0,"","","","",{"$f":"IF(I791<>0,VLOOKUP(J791,A01A02!$A$3:$K$13,11,FALSE),\"\")","v":""},{"$f":"IF(I791<>0,VLOOKUP(J791,A01A02!A:J,10,0),\"\")","v":""}]
[null,0,"","","","",{"$f":"IF(B792<>0,VLOOKUP(C792,A01A02!$A$3:$K$13,11,FALSE),\"\")","v":""},null,0,"","","","",{"$f":"IF(I792<>0,VLOOKUP(J792,A01A02!$A$3:$K$13,11,FALSE),\"\")","v":""},{"$f":"IF(I792<>0,VLOOKUP(J792,A01A02!A:J,10,0),\"\")","v":""}]
[null,0,"","","","",{"$f":"IF(B793<>0,VLOOKUP(C793,A01A02!$A$3:$K$13,11,FALSE),\"\")","v":""},null,0,"","","","",{"$f":"IF(I793<>0,VLOOKUP(J793,A01A02!$A$3:$K$13,11,FALSE),\"\")","v":""},{"$f":"IF(I793<>0,VLOOKUP(J793,A01A02!A:J,10,0),\"\")","v":""}]
[null,0,"","","","",{"$f":"IF(B794<>0,VLOOKUP(C794,A01A02!$A$3:$K$13,11,FALSE),\"\")","v":""},null,0,"","","","",{"$f":"IF(I794<>0,VLOOKUP(J794,A01A02!$A$3:$K$13,11,FALSE),\"\")","v":""},{"$f":"IF(I794<>0,VLOOKUP(J794,A01A02!A:J,10,0),\"\")","v":""}]
[null,0,"","","","",{"$f":"IF(B795<>0,VLOOKUP(C795,A01A02!$A$3:$K$13,11,FALSE),\"\")","v":""},null,0,"","","","",{"$f":"IF(I795<>0,VLOOKUP(J795,A01A02!$A$3:$K$13,11,FALSE),\"\")","v":""},{"$f":"IF(I795<>0,VLOOKUP(J795,A01A02!A:J,10,0),\"\")","v":""}]
[null,0,"","","","",{"$f":"IF(B796<>0,VLOOKUP(C796,A01A02!$A$3:$K$13,11,FALSE),\"\")","v":""},null,0,"","","","",{"$f":"IF(I796<>0,VLOOKUP(J796,A01A02!$A$3:$K$13,11,FALSE),\"\")","v":""},{"$f":"IF(I796<>0,VLOOKUP(J796,A01A02!A:J,10,0),\"\")","v":""}]
[null,0,"","","","",{"$f":"IF(B797<>0,VLOOKUP(C797,A01A02!$A$3:$K$13,11,FALSE),\"\")","v":""},null,0,"","","","",{"$f":"IF(I797<>0,VLOOKUP(J797,A01A02!$A$3:$K$13,11,FALSE),\"\")","v":""},{"$f":"IF(I797<>0,VLOOKUP(J797,A01A02!A:J,10,0),\"\")","v":""}]
[null,0,"","","","",{"$f":"IF(B798<>0,VLOOKUP(C798,A01A02!$A$3:$K$13,11,FALSE),\"\")","v":""},null,0,"","","","",{"$f":"IF(I798<>0,VLOOKUP(J798,A01A02!$A$3:$K$13,11,FALSE),\"\")","v":""},{"$f":"IF(I798<>0,VLOOKUP(J798,A01A02!A:J,10,0),\"\")","v":""}]
[null,0,"","","","",{"$f":"IF(B799<>0,VLOOKUP(C799,A01A02!$A$3:$K$13,11,FALSE),\"\")","v":""},null,0,"","","","",{"$f":"IF(I799<>0,VLOOKUP(J799,A01A02!$A$3:$K$13,11,FALSE),\"\")","v":""},{"$f":"IF(I799<>0,VLOOKUP(J799,A01A02!A:J,10,0),\"\")","v":""}]
[null,0,"","","","",{"$f":"IF(B800<>0,VLOOKUP(C800,A01A02!$A$3:$K$13,11,FALSE),\"\")","v":""},null,0,"","","","",{"$f":"IF(I800<>0,VLOOKUP(J800,A01A02!$A$3:$K$13,11,FALSE),\"\")","v":""},{"$f":"IF(I800<>0,VLOOKUP(J800,A01A02!A:J,10,0),\"\")","v":""}]
[null,0,"","","","",{"$f":"IF(B801<>0,VLOOKUP(C801,A01A02!$A$3:$K$13,11,FALSE),\"\")","v":""},null,0,"","","","",{"$f":"IF(I801<>0,VLOOKUP(J801,A01A02!$A$3:$K$13,11,FALSE),\"\")","v":""},{"$f":"IF(I801<>0,VLOOKUP(J801,A01A02!A:J,10,0),\"\")","v":""}]
[null,0,"","","","",{"$f":"IF(B802<>0,VLOOKUP(C802,A01A02!$A$3:$K$13,11,FALSE),\"\")","v":""},null,0,"","","","",{"$f":"IF(I802<>0,VLOOKUP(J802,A01A02!$A$3:$K$13,11,FALSE),\"\")","v":""},{"$f":"IF(I802<>0,VLOOKUP(J802,A01A02!A:J,10,0),\"\")","v":""}]
[null,0,"","","","",{"$f":"IF(B803<>0,VLOOKUP(C803,A01A02!$A$3:$K$13,11,FALSE),\"\")","v":""},null,0,"","","","",{"$f":"IF(I803<>0,VLOOKUP(J803,A01A02!$A$3:$K$13,11,FALSE),\"\")","v":""},{"$f":"IF(I803<>0,VLOOKUP(J803,A01A02!A:J,10,0),\"\")","v":""}]
[null,0,"","","","",{"$f":"IF(B804<>0,VLOOKUP(C804,A01A02!$A$3:$K$13,11,FALSE),\"\")","v":""},null,0,"","","","",{"$f":"IF(I804<>0,VLOOKUP(J804,A01A02!$A$3:$K$13,11,FALSE),\"\")","v":""},{"$f":"IF(I804<>0,VLOOKUP(J804,A01A02!A:J,10,0),\"\")","v":""}]
[null,0,"",{"$f":"IF(B805<>0,znaget(B805),\"\")","v":""},{"$f":"IF(B805<>0,xget(B805),\"\")","v":""},{"$f":"IF(B805<>0,yget(B805),\"\")","v":""},{"$f":"IF(B805<>0,VLOOKUP(C805,A01A02!$A$3:$K$13,11,FALSE),\"\")","v":""},null,0,"",{"$f":"IF(I805<>0,znaget(I805),\"\")","v":""},{"$f":"IF(I805<>0,xget(I805),\"\")","v":""},{"$f":"IF(I805<>0,yget(I805),\"\")","v":""},{"$f":"IF(I805<>0,VLOOKUP(J805,A01A02!$A$3:$K$13,11,FALSE),\"\")","v":""},{"$f":"IF(I805<>0,VLOOKUP(J805,A01A02!A:J,10,0),\"\")","v":""}]
[null,0,"","","","",{"$f":"IF(B806<>0,VLOOKUP(C806,A01A02!$A$3:$K$13,11,FALSE),\"\")","v":""},null,0,"","","","",{"$f":"IF(I806<>0,VLOOKUP(J806,A01A02!$A$3:$K$13,11,FALSE),\"\")","v":""},{"$f":"IF(I806<>0,VLOOKUP(J806,A01A02!A:J,10,0),\"\")","v":""}]
[null,0,"","","","",{"$f":"IF(B807<>0,VLOOKUP(C807,A01A02!$A$3:$K$13,11,FALSE),\"\")","v":""},null,0,"","","","",{"$f":"IF(I807<>0,VLOOKUP(J807,A01A02!$A$3:$K$13,11,FALSE),\"\")","v":""},{"$f":"IF(I807<>0,VLOOKUP(J807,A01A02!A:J,10,0),\"\")","v":""}]
[null,0,"","","","",{"$f":"IF(B808<>0,VLOOKUP(C808,A01A02!$A$3:$K$13,11,FALSE),\"\")","v":""},null,0,"","","","",{"$f":"IF(I808<>0,VLOOKUP(J808,A01A02!$A$3:$K$13,11,FALSE),\"\")","v":""},{"$f":"IF(I808<>0,VLOOKUP(J808,A01A02!A:J,10,0),\"\")","v":""}]
[null,0,"","","","",{"$f":"IF(B809<>0,VLOOKUP(C809,A01A02!$A$3:$K$13,11,FALSE),\"\")","v":""},null,0,"","","","",{"$f":"IF(I809<>0,VLOOKUP(J809,A01A02!$A$3:$K$13,11,FALSE),\"\")","v":""},{"$f":"IF(I809<>0,VLOOKUP(J809,A01A02!A:J,10,0),\"\")","v":""}]
[null,0,"","","","",{"$f":"IF(B810<>0,VLOOKUP(C810,A01A02!$A$3:$K$13,11,FALSE),\"\")","v":""},null,0,"","","","",{"$f":"IF(I810<>0,VLOOKUP(J810,A01A02!$A$3:$K$13,11,FALSE),\"\")","v":""},{"$f":"IF(I810<>0,VLOOKUP(J810,A01A02!A:J,10,0),\"\")","v":""}]
[null,0,"","","","",{"$f":"IF(B811<>0,VLOOKUP(C811,A01A02!$A$3:$K$13,11,FALSE),\"\")","v":""},null,0,"","","","",{"$f":"IF(I811<>0,VLOOKUP(J811,A01A02!$A$3:$K$13,11,FALSE),\"\")","v":""},{"$f":"IF(I811<>0,VLOOKUP(J811,A01A02!A:J,10,0),\"\")","v":""}]
[null,0,"","","","",{"$f":"IF(B812<>0,VLOOKUP(C812,A01A02!$A$3:$K$13,11,FALSE),\"\")","v":""},null,0,"","","","",{"$f":"IF(I812<>0,VLOOKUP(J812,A01A02!$A$3:$K$13,11,FALSE),\"\")","v":""},{"$f":"IF(I812<>0,VLOOKUP(J812,A01A02!A:J,10,0),\"\")","v":""}]
[null,0,"","","","",{"$f":"IF(B813<>0,VLOOKUP(C813,A01A02!$A$3:$K$13,11,FALSE),\"\")","v":""},null,0,"","","","",{"$f":"IF(I813<>0,VLOOKUP(J813,A01A02!$A$3:$K$13,11,FALSE),\"\")","v":""},{"$f":"IF(I813<>0,VLOOKUP(J813,A01A02!A:J,10,0),\"\")","v":""}]
[null,0,"","","","",{"$f":"IF(B814<>0,VLOOKUP(C814,A01A02!$A$3:$K$13,11,FALSE),\"\")","v":""},null,0,"","","","",{"$f":"IF(I814<>0,VLOOKUP(J814,A01A02!$A$3:$K$13,11,FALSE),\"\")","v":""},{"$f":"IF(I814<>0,VLOOKUP(J814,A01A02!A:J,10,0),\"\")","v":""}]
[null,0,"","","","",{"$f":"IF(B815<>0,VLOOKUP(C815,A01A02!$A$3:$K$13,11,FALSE),\"\")","v":""},null,0,"","","","",{"$f":"IF(I815<>0,VLOOKUP(J815,A01A02!$A$3:$K$13,11,FALSE),\"\")","v":""},{"$f":"IF(I815<>0,VLOOKUP(J815,A01A02!A:J,10,0),\"\")","v":""}]
[null,0,"","","","",{"$f":"IF(B816<>0,VLOOKUP(C816,A01A02!$A$3:$K$13,11,FALSE),\"\")","v":""},null,0,"","","","",{"$f":"IF(I816<>0,VLOOKUP(J816,A01A02!$A$3:$K$13,11,FALSE),\"\")","v":""},{"$f":"IF(I816<>0,VLOOKUP(J816,A01A02!A:J,10,0),\"\")","v":""}]
[null,0,"","","","",{"$f":"IF(B817<>0,VLOOKUP(C817,A01A02!$A$3:$K$13,11,FALSE),\"\")","v":""},null,0,"","","","",{"$f":"IF(I817<>0,VLOOKUP(J817,A01A02!$A$3:$K$13,11,FALSE),\"\")","v":""},{"$f":"IF(I817<>0,VLOOKUP(J817,A01A02!A:J,10,0),\"\")","v":""}]
[null,0,"","","","",{"$f":"IF(B818<>0,VLOOKUP(C818,A01A02!$A$3:$K$13,11,FALSE),\"\")","v":""},null,0,"","","","",{"$f":"IF(I818<>0,VLOOKUP(J818,A01A02!$A$3:$K$13,11,FALSE),\"\")","v":""},{"$f":"IF(I818<>0,VLOOKUP(J818,A01A02!A:J,10,0),\"\")","v":""}]
[null,0,"","","","",{"$f":"IF(B819<>0,VLOOKUP(C819,A01A02!$A$3:$K$13,11,FALSE),\"\")","v":""},null,0,"","","","",{"$f":"IF(I819<>0,VLOOKUP(J819,A01A02!$A$3:$K$13,11,FALSE),\"\")","v":""},{"$f":"IF(I819<>0,VLOOKUP(J819,A01A02!A:J,10,0),\"\")","v":""}]
[null,0,"","","","",{"$f":"IF(B820<>0,VLOOKUP(C820,A01A02!$A$3:$K$13,11,FALSE),\"\")","v":""},null,0,"","","","",{"$f":"IF(I820<>0,VLOOKUP(J820,A01A02!$A$3:$K$13,11,FALSE),\"\")","v":""},{"$f":"IF(I820<>0,VLOOKUP(J820,A01A02!A:J,10,0),\"\")","v":""}]
[null,0,"","","","",{"$f":"IF(B821<>0,VLOOKUP(C821,A01A02!$A$3:$K$13,11,FALSE),\"\")","v":""},null,0,"","","","",{"$f":"IF(I821<>0,VLOOKUP(J821,A01A02!$A$3:$K$13,11,FALSE),\"\")","v":""},{"$f":"IF(I821<>0,VLOOKUP(J821,A01A02!A:J,10,0),\"\")","v":""}]
[null,0,"","","","",{"$f":"IF(B822<>0,VLOOKUP(C822,A01A02!$A$3:$K$13,11,FALSE),\"\")","v":""},null,0,"","","","",{"$f":"IF(I822<>0,VLOOKUP(J822,A01A02!$A$3:$K$13,11,FALSE),\"\")","v":""},{"$f":"IF(I822<>0,VLOOKUP(J822,A01A02!A:J,10,0),\"\")","v":""}]
[null,0,"","","","",{"$f":"IF(B823<>0,VLOOKUP(C823,A01A02!$A$3:$K$13,11,FALSE),\"\")","v":""},null,0,"","","","",{"$f":"IF(I823<>0,VLOOKUP(J823,A01A02!$A$3:$K$13,11,FALSE),\"\")","v":""},{"$f":"IF(I823<>0,VLOOKUP(J823,A01A02!A:J,10,0),\"\")","v":""}]
[null,0,"","","","",{"$f":"IF(B824<>0,VLOOKUP(C824,A01A02!$A$3:$K$13,11,FALSE),\"\")","v":""},null,0,"","","","",{"$f":"IF(I824<>0,VLOOKUP(J824,A01A02!$A$3:$K$13,11,FALSE),\"\")","v":""},{"$f":"IF(I824<>0,VLOOKUP(J824,A01A02!A:J,10,0),\"\")","v":""}]
[null,0,"","","","",{"$f":"IF(B825<>0,VLOOKUP(C825,A01A02!$A$3:$K$13,11,FALSE),\"\")","v":""},null,0,"","","","",{"$f":"IF(I825<>0,VLOOKUP(J825,A01A02!$A$3:$K$13,11,FALSE),\"\")","v":""},{"$f":"IF(I825<>0,VLOOKUP(J825,A01A02!A:J,10,0),\"\")","v":""}]
[null,0,"","","","",{"$f":"IF(B826<>0,VLOOKUP(C826,A01A02!$A$3:$K$13,11,FALSE),\"\")","v":""},null,0,"","","","",{"$f":"IF(I826<>0,VLOOKUP(J826,A01A02!$A$3:$K$13,11,FALSE),\"\")","v":""},{"$f":"IF(I826<>0,VLOOKUP(J826,A01A02!A:J,10,0),\"\")","v":""}]
[null,0,"","","","",{"$f":"IF(B827<>0,VLOOKUP(C827,A01A02!$A$3:$K$13,11,FALSE),\"\")","v":""},null,0,"","","","",{"$f":"IF(I827<>0,VLOOKUP(J827,A01A02!$A$3:$K$13,11,FALSE),\"\")","v":""},{"$f":"IF(I827<>0,VLOOKUP(J827,A01A02!A:J,10,0),\"\")","v":""}]
[null,0,"","","","",{"$f":"IF(B828<>0,VLOOKUP(C828,A01A02!$A$3:$K$13,11,FALSE),\"\")","v":""},null,0,"","","","",{"$f":"IF(I828<>0,VLOOKUP(J828,A01A02!$A$3:$K$13,11,FALSE),\"\")","v":""},{"$f":"IF(I828<>0,VLOOKUP(J828,A01A02!A:J,10,0),\"\")","v":""}]
[null,0,"","","","",{"$f":"IF(B829<>0,VLOOKUP(C829,A01A02!$A$3:$K$13,11,FALSE),\"\")","v":""},null,0,"","","","",{"$f":"IF(I829<>0,VLOOKUP(J829,A01A02!$A$3:$K$13,11,FALSE),\"\")","v":""},{"$f":"IF(I829<>0,VLOOKUP(J829,A01A02!A:J,10,0),\"\")","v":""}]
[null,0,"","","","",{"$f":"IF(B830<>0,VLOOKUP(C830,A01A02!$A$3:$K$13,11,FALSE),\"\")","v":""},null,0,"","","","",{"$f":"IF(I830<>0,VLOOKUP(J830,A01A02!$A$3:$K$13,11,FALSE),\"\")","v":""},{"$f":"IF(I830<>0,VLOOKUP(J830,A01A02!A:J,10,0),\"\")","v":""}]
[null,0,"","","","",{"$f":"IF(B831<>0,VLOOKUP(C831,A01A02!$A$3:$K$13,11,FALSE),\"\")","v":""},null,0,"","","","",{"$f":"IF(I831<>0,VLOOKUP(J831,A01A02!$A$3:$K$13,11,FALSE),\"\")","v":""},{"$f":"IF(I831<>0,VLOOKUP(J831,A01A02!A:J,10,0),\"\")","v":""}]
[null,0,"","","","",{"$f":"IF(B832<>0,VLOOKUP(C832,A01A02!$A$3:$K$13,11,FALSE),\"\")","v":""},null,0,"","","","",{"$f":"IF(I832<>0,VLOOKUP(J832,A01A02!$A$3:$K$13,11,FALSE),\"\")","v":""},{"$f":"IF(I832<>0,VLOOKUP(J832,A01A02!A:J,10,0),\"\")","v":""}]
[null,0,"","","","",{"$f":"IF(B833<>0,VLOOKUP(C833,A01A02!$A$3:$K$13,11,FALSE),\"\")","v":""},null,0,"","","","",{"$f":"IF(I833<>0,VLOOKUP(J833,A01A02!$A$3:$K$13,11,FALSE),\"\")","v":""},{"$f":"IF(I833<>0,VLOOKUP(J833,A01A02!A:J,10,0),\"\")","v":""}]
[null,0,"","","","",{"$f":"IF(B834<>0,VLOOKUP(C834,A01A02!$A$3:$K$13,11,FALSE),\"\")","v":""},null,0,"","","","",{"$f":"IF(I834<>0,VLOOKUP(J834,A01A02!$A$3:$K$13,11,FALSE),\"\")","v":""},{"$f":"IF(I834<>0,VLOOKUP(J834,A01A02!A:J,10,0),\"\")","v":""}]
[null,{"$f":"IF(A835<>\"\",xycall(A835),0)","v":0},"","","","",{"$f":"IF(B835<>0,VLOOKUP(C835,A01A02!$A$3:$K$13,11,FALSE),\"\")","v":""},null,0,"","","","",{"$f":"IF(I835<>0,VLOOKUP(J835,A01A02!$A$3:$K$13,11,FALSE),\"\")","v":""},{"$f":"IF(I835<>0,VLOOKUP(J835,A01A02!A:J,10,0),\"\")","v":""}]
[null,0,{"$f":"IF(B836<>0,znoget(B836),\"\")","v":""},"","","",{"$f":"IF(B836<>0,VLOOKUP(C836,A01A02!$A$3:$K$13,11,FALSE),\"\")","v":""},null,{"$f":"IF(H836<>\"\",xycall(H836),0)","v":0},{"$f":"IF(I836<>0,znoget(I836),\"\")","v":""},"","","",{"$f":"IF(I836<>0,VLOOKUP(J836,A01A02!$A$3:$K$13,11,FALSE),\"\")","v":""},{"$f":"IF(I836<>0,VLOOKUP(J836,A01A02!A:J,10,0),\"\")","v":""}]
[null,0,"","","","",{"$f":"IF(B837<>0,VLOOKUP(C837,A01A02!$A$3:$K$13,11,FALSE),\"\")","v":""},null,0,"","","","",{"$f":"IF(I837<>0,VLOOKUP(J837,A01A02!$A$3:$K$13,11,FALSE),\"\")","v":""},{"$f":"IF(I837<>0,VLOOKUP(J837,A01A02!A:J,10,0),\"\")","v":""}]
[null,0,"","","","",{"$f":"IF(B838<>0,VLOOKUP(C838,A01A02!$A$3:$K$13,11,FALSE),\"\")","v":""},null,0,"","","","",{"$f":"IF(I838<>0,VLOOKUP(J838,A01A02!$A$3:$K$13,11,FALSE),\"\")","v":""},{"$f":"IF(I838<>0,VLOOKUP(J838,A01A02!A:J,10,0),\"\")","v":""}]
[null,0,"","","","",{"$f":"IF(B839<>0,VLOOKUP(C839,A01A02!$A$3:$K$13,11,FALSE),\"\")","v":""},null,0,"","","","",{"$f":"IF(I839<>0,VLOOKUP(J839,A01A02!$A$3:$K$13,11,FALSE),\"\")","v":""},{"$f":"IF(I839<>0,VLOOKUP(J839,A01A02!A:J,10,0),\"\")","v":""}]
[null,0,"","","","",{"$f":"IF(B840<>0,VLOOKUP(C840,A01A02!$A$3:$K$13,11,FALSE),\"\")","v":""},null,0,"","","","",{"$f":"IF(I840<>0,VLOOKUP(J840,A01A02!$A$3:$K$13,11,FALSE),\"\")","v":""},{"$f":"IF(I840<>0,VLOOKUP(J840,A01A02!A:J,10,0),\"\")","v":""}]
[null,0,"","","","",{"$f":"IF(B841<>0,VLOOKUP(C841,A01A02!$A$3:$K$13,11,FALSE),\"\")","v":""},null,0,"","","","",{"$f":"IF(I841<>0,VLOOKUP(J841,A01A02!$A$3:$K$13,11,FALSE),\"\")","v":""},{"$f":"IF(I841<>0,VLOOKUP(J841,A01A02!A:J,10,0),\"\")","v":""}]
[null,0,"","","","",{"$f":"IF(B842<>0,VLOOKUP(C842,A01A02!$A$3:$K$13,11,FALSE),\"\")","v":""},null,0,"","","","",{"$f":"IF(I842<>0,VLOOKUP(J842,A01A02!$A$3:$K$13,11,FALSE),\"\")","v":""},{"$f":"IF(I842<>0,VLOOKUP(J842,A01A02!A:J,10,0),\"\")","v":""}]
[null,0,"","","","",{"$f":"IF(B843<>0,VLOOKUP(C843,A01A02!$A$3:$K$13,11,FALSE),\"\")","v":""},null,0,"","","","",{"$f":"IF(I843<>0,VLOOKUP(J843,A01A02!$A$3:$K$13,11,FALSE),\"\")","v":""},{"$f":"IF(I843<>0,VLOOKUP(J843,A01A02!A:J,10,0),\"\")","v":""}]
[null,0,"","","","",{"$f":"IF(B844<>0,VLOOKUP(C844,A01A02!$A$3:$K$13,11,FALSE),\"\")","v":""},null,0,"","","","",{"$f":"IF(I844<>0,VLOOKUP(J844,A01A02!$A$3:$K$13,11,FALSE),\"\")","v":""},{"$f":"IF(I844<>0,VLOOKUP(J844,A01A02!A:J,10,0),\"\")","v":""}]
[null,0,"","","","",{"$f":"IF(B845<>0,VLOOKUP(C845,A01A02!$A$3:$K$13,11,FALSE),\"\")","v":""},null,0,"","","","",{"$f":"IF(I845<>0,VLOOKUP(J845,A01A02!$A$3:$K$13,11,FALSE),\"\")","v":""},{"$f":"IF(I845<>0,VLOOKUP(J845,A01A02!A:J,10,0),\"\")","v":""}]
[null,0,"","","","",{"$f":"IF(B846<>0,VLOOKUP(C846,A01A02!$A$3:$K$13,11,FALSE),\"\")","v":""},null,0,"","","","",{"$f":"IF(I846<>0,VLOOKUP(J846,A01A02!$A$3:$K$13,11,FALSE),\"\")","v":""},{"$f":"IF(I846<>0,VLOOKUP(J846,A01A02!A:J,10,0),\"\")","v":""}]
[null,0,"","","","",{"$f":"IF(B847<>0,VLOOKUP(C847,A01A02!$A$3:$K$13,11,FALSE),\"\")","v":""},null,0,"","","","",{"$f":"IF(I847<>0,VLOOKUP(J847,A01A02!$A$3:$K$13,11,FALSE),\"\")","v":""},{"$f":"IF(I847<>0,VLOOKUP(J847,A01A02!A:J,10,0),\"\")","v":""}]
[null,0,"","","","",{"$f":"IF(B848<>0,VLOOKUP(C848,A01A02!$A$3:$K$13,11,FALSE),\"\")","v":""},null,0,"","","","",{"$f":"IF(I848<>0,VLOOKUP(J848,A01A02!$A$3:$K$13,11,FALSE),\"\")","v":""},{"$f":"IF(I848<>0,VLOOKUP(J848,A01A02!A:J,10,0),\"\")","v":""}]
[null,0,"","","","",{"$f":"IF(B849<>0,VLOOKUP(C849,A01A02!$A$3:$K$13,11,FALSE),\"\")","v":""},null,0,"","","","",{"$f":"IF(I849<>0,VLOOKUP(J849,A01A02!$A$3:$K$13,11,FALSE),\"\")","v":""},{"$f":"IF(I849<>0,VLOOKUP(J849,A01A02!A:J,10,0),\"\")","v":""}]
[null,0,"","","","",{"$f":"IF(B850<>0,VLOOKUP(C850,A01A02!$A$3:$K$13,11,FALSE),\"\")","v":""},null,0,"","","","",{"$f":"IF(I850<>0,VLOOKUP(J850,A01A02!$A$3:$K$13,11,FALSE),\"\")","v":""},{"$f":"IF(I850<>0,VLOOKUP(J850,A01A02!A:J,10,0),\"\")","v":""}]
[null,0,"","","","",{"$f":"IF(B851<>0,VLOOKUP(C851,A01A02!$A$3:$K$13,11,FALSE),\"\")","v":""},null,0,"","","","",{"$f":"IF(I851<>0,VLOOKUP(J851,A01A02!$A$3:$K$13,11,FALSE),\"\")","v":""},{"$f":"IF(I851<>0,VLOOKUP(J851,A01A02!A:J,10,0),\"\")","v":""}]
[null,0,"","","","",{"$f":"IF(B852<>0,VLOOKUP(C852,A01A02!$A$3:$K$13,11,FALSE),\"\")","v":""},null,0,"","","","",{"$f":"IF(I852<>0,VLOOKUP(J852,A01A02!$A$3:$K$13,11,FALSE),\"\")","v":""},{"$f":"IF(I852<>0,VLOOKUP(J852,A01A02!A:J,10,0),\"\")","v":""}]
[null,0,"","","","",{"$f":"IF(B853<>0,VLOOKUP(C853,A01A02!$A$3:$K$13,11,FALSE),\"\")","v":""},null,0,"","","","",{"$f":"IF(I853<>0,VLOOKUP(J853,A01A02!$A$3:$K$13,11,FALSE),\"\")","v":""},{"$f":"IF(I853<>0,VLOOKUP(J853,A01A02!A:J,10,0),\"\")","v":""}]
[null,0,"","","","",{"$f":"IF(B854<>0,VLOOKUP(C854,A01A02!$A$3:$K$13,11,FALSE),\"\")","v":""},null,0,"","","","",{"$f":"IF(I854<>0,VLOOKUP(J854,A01A02!$A$3:$K$13,11,FALSE),\"\")","v":""},{"$f":"IF(I854<>0,VLOOKUP(J854,A01A02!A:J,10,0),\"\")","v":""}]
[null,0,"","","","",{"$f":"IF(B855<>0,VLOOKUP(C855,A01A02!$A$3:$K$13,11,FALSE),\"\")","v":""},null,0,"","","","",{"$f":"IF(I855<>0,VLOOKUP(J855,A01A02!$A$3:$K$13,11,FALSE),\"\")","v":""},{"$f":"IF(I855<>0,VLOOKUP(J855,A01A02!A:J,10,0),\"\")","v":""}]
[null,0,"","","","",{"$f":"IF(B856<>0,VLOOKUP(C856,A01A02!$A$3:$K$13,11,FALSE),\"\")","v":""},null,0,"","","","",{"$f":"IF(I856<>0,VLOOKUP(J856,A01A02!$A$3:$K$13,11,FALSE),\"\")","v":""},{"$f":"IF(I856<>0,VLOOKUP(J856,A01A02!A:J,10,0),\"\")","v":""}]
[null,0,"","","","",{"$f":"IF(B857<>0,VLOOKUP(C857,A01A02!$A$3:$K$13,11,FALSE),\"\")","v":""},null,0,"","","","",{"$f":"IF(I857<>0,VLOOKUP(J857,A01A02!$A$3:$K$13,11,FALSE),\"\")","v":""},{"$f":"IF(I857<>0,VLOOKUP(J857,A01A02!A:J,10,0),\"\")","v":""}]
[null,0,"","","","",{"$f":"IF(B858<>0,VLOOKUP(C858,A01A02!$A$3:$K$13,11,FALSE),\"\")","v":""},null,0,"","","","",{"$f":"IF(I858<>0,VLOOKUP(J858,A01A02!$A$3:$K$13,11,FALSE),\"\")","v":""},{"$f":"IF(I858<>0,VLOOKUP(J858,A01A02!A:J,10,0),\"\")","v":""}]
[null,0,"","","","",{"$f":"IF(B859<>0,VLOOKUP(C859,A01A02!$A$3:$K$13,11,FALSE),\"\")","v":""},null,0,"","","","",{"$f":"IF(I859<>0,VLOOKUP(J859,A01A02!$A$3:$K$13,11,FALSE),\"\")","v":""},{"$f":"IF(I859<>0,VLOOKUP(J859,A01A02!A:J,10,0),\"\")","v":""}]
[null,0,"","","","",{"$f":"IF(B860<>0,VLOOKUP(C860,A01A02!$A$3:$K$13,11,FALSE),\"\")","v":""},null,0,"","","","",{"$f":"IF(I860<>0,VLOOKUP(J860,A01A02!$A$3:$K$13,11,FALSE),\"\")","v":""},{"$f":"IF(I860<>0,VLOOKUP(J860,A01A02!A:J,10,0),\"\")","v":""}]
[null,0,"","","","",{"$f":"IF(B861<>0,VLOOKUP(C861,A01A02!$A$3:$K$13,11,FALSE),\"\")","v":""},null,0,"","","","",{"$f":"IF(I861<>0,VLOOKUP(J861,A01A02!$A$3:$K$13,11,FALSE),\"\")","v":""},{"$f":"IF(I861<>0,VLOOKUP(J861,A01A02!A:J,10,0),\"\")","v":""}]
[null,0,"","","","",{"$f":"IF(B862<>0,VLOOKUP(C862,A01A02!$A$3:$K$13,11,FALSE),\"\")","v":""},null,0,"","","","",{"$f":"IF(I862<>0,VLOOKUP(J862,A01A02!$A$3:$K$13,11,FALSE),\"\")","v":""},{"$f":"IF(I862<>0,VLOOKUP(J862,A01A02!A:J,10,0),\"\")","v":""}]
[null,0,"","","","",{"$f":"IF(B863<>0,VLOOKUP(C863,A01A02!$A$3:$K$13,11,FALSE),\"\")","v":""},null,0,"","","","",{"$f":"IF(I863<>0,VLOOKUP(J863,A01A02!$A$3:$K$13,11,FALSE),\"\")","v":""},{"$f":"IF(I863<>0,VLOOKUP(J863,A01A02!A:J,10,0),\"\")","v":""}]
[null,0,"","","","",{"$f":"IF(B864<>0,VLOOKUP(C864,A01A02!$A$3:$K$13,11,FALSE),\"\")","v":""},null,0,"","","","",{"$f":"IF(I864<>0,VLOOKUP(J864,A01A02!$A$3:$K$13,11,FALSE),\"\")","v":""},{"$f":"IF(I864<>0,VLOOKUP(J864,A01A02!A:J,10,0),\"\")","v":""}]
[null,0,"","","","",{"$f":"IF(B865<>0,VLOOKUP(C865,A01A02!$A$3:$K$13,11,FALSE),\"\")","v":""},null,0,"","","","",{"$f":"IF(I865<>0,VLOOKUP(J865,A01A02!$A$3:$K$13,11,FALSE),\"\")","v":""},{"$f":"IF(I865<>0,VLOOKUP(J865,A01A02!A:J,10,0),\"\")","v":""}]
[null,0,"","","","",{"$f":"IF(B866<>0,VLOOKUP(C866,A01A02!$A$3:$K$13,11,FALSE),\"\")","v":""},null,0,"","","","",{"$f":"IF(I866<>0,VLOOKUP(J866,A01A02!$A$3:$K$13,11,FALSE),\"\")","v":""},{"$f":"IF(I866<>0,VLOOKUP(J866,A01A02!A:J,10,0),\"\")","v":""}]
[null,0,"","","","",{"$f":"IF(B867<>0,VLOOKUP(C867,A01A02!$A$3:$K$13,11,FALSE),\"\")","v":""},null,0,"","","","",{"$f":"IF(I867<>0,VLOOKUP(J867,A01A02!$A$3:$K$13,11,FALSE),\"\")","v":""},{"$f":"IF(I867<>0,VLOOKUP(J867,A01A02!A:J,10,0),\"\")","v":""}]
[null,0,"","","","",{"$f":"IF(B868<>0,VLOOKUP(C868,A01A02!$A$3:$K$13,11,FALSE),\"\")","v":""},null,0,"","","","",{"$f":"IF(I868<>0,VLOOKUP(J868,A01A02!$A$3:$K$13,11,FALSE),\"\")","v":""},{"$f":"IF(I868<>0,VLOOKUP(J868,A01A02!A:J,10,0),\"\")","v":""}]
[null,0,"",{"$f":"IF(B869<>0,znaget(B869),\"\")","v":""},{"$f":"IF(B869<>0,xget(B869),\"\")","v":""},{"$f":"IF(B869<>0,yget(B869),\"\")","v":""},{"$f":"IF(B869<>0,VLOOKUP(C869,A01A02!$A$3:$K$13,11,FALSE),\"\")","v":""},null,0,"",{"$f":"IF(I869<>0,znaget(I869),\"\")","v":""},{"$f":"IF(I869<>0,xget(I869),\"\")","v":""},{"$f":"IF(I869<>0,yget(I869),\"\")","v":""},{"$f":"IF(I869<>0,VLOOKUP(J869,A01A02!$A$3:$K$13,11,FALSE),\"\")","v":""},{"$f":"IF(I869<>0,VLOOKUP(J869,A01A02!A:J,10,0),\"\")","v":""}]
[null,0,"","","","",{"$f":"IF(B870<>0,VLOOKUP(C870,A01A02!$A$3:$K$13,11,FALSE),\"\")","v":""},null,0,"","","","",{"$f":"IF(I870<>0,VLOOKUP(J870,A01A02!$A$3:$K$13,11,FALSE),\"\")","v":""},{"$f":"IF(I870<>0,VLOOKUP(J870,A01A02!A:J,10,0),\"\")","v":""}]
[null,0,"","","","",{"$f":"IF(B871<>0,VLOOKUP(C871,A01A02!$A$3:$K$13,11,FALSE),\"\")","v":""},null,0,"","","","",{"$f":"IF(I871<>0,VLOOKUP(J871,A01A02!$A$3:$K$13,11,FALSE),\"\")","v":""},{"$f":"IF(I871<>0,VLOOKUP(J871,A01A02!A:J,10,0),\"\")","v":""}]
[null,0,"","","","",{"$f":"IF(B872<>0,VLOOKUP(C872,A01A02!$A$3:$K$13,11,FALSE),\"\")","v":""},null,0,"","","","",{"$f":"IF(I872<>0,VLOOKUP(J872,A01A02!$A$3:$K$13,11,FALSE),\"\")","v":""},{"$f":"IF(I872<>0,VLOOKUP(J872,A01A02!A:J,10,0),\"\")","v":""}]
[null,0,"","","","",{"$f":"IF(B873<>0,VLOOKUP(C873,A01A02!$A$3:$K$13,11,FALSE),\"\")","v":""},null,0,"","","","",{"$f":"IF(I873<>0,VLOOKUP(J873,A01A02!$A$3:$K$13,11,FALSE),\"\")","v":""},{"$f":"IF(I873<>0,VLOOKUP(J873,A01A02!A:J,10,0),\"\")","v":""}]
[null,0,"","","","",{"$f":"IF(B874<>0,VLOOKUP(C874,A01A02!$A$3:$K$13,11,FALSE),\"\")","v":""},null,0,"","","","",{"$f":"IF(I874<>0,VLOOKUP(J874,A01A02!$A$3:$K$13,11,FALSE),\"\")","v":""},{"$f":"IF(I874<>0,VLOOKUP(J874,A01A02!A:J,10,0),\"\")","v":""}]
[null,0,"","","","",{"$f":"IF(B875<>0,VLOOKUP(C875,A01A02!$A$3:$K$13,11,FALSE),\"\")","v":""},null,0,"","","","",{"$f":"IF(I875<>0,VLOOKUP(J875,A01A02!$A$3:$K$13,11,FALSE),\"\")","v":""},{"$f":"IF(I875<>0,VLOOKUP(J875,A01A02!A:J,10,0),\"\")","v":""}]
[null,0,"","","","",{"$f":"IF(B876<>0,VLOOKUP(C876,A01A02!$A$3:$K$13,11,FALSE),\"\")","v":""},null,0,"","","","",{"$f":"IF(I876<>0,VLOOKUP(J876,A01A02!$A$3:$K$13,11,FALSE),\"\")","v":""},{"$f":"IF(I876<>0,VLOOKUP(J876,A01A02!A:J,10,0),\"\")","v":""}]
[null,0,"","","","",{"$f":"IF(B877<>0,VLOOKUP(C877,A01A02!$A$3:$K$13,11,FALSE),\"\")","v":""},null,0,"","","","",{"$f":"IF(I877<>0,VLOOKUP(J877,A01A02!$A$3:$K$13,11,FALSE),\"\")","v":""},{"$f":"IF(I877<>0,VLOOKUP(J877,A01A02!A:J,10,0),\"\")","v":""}]
[null,0,"","","","",{"$f":"IF(B878<>0,VLOOKUP(C878,A01A02!$A$3:$K$13,11,FALSE),\"\")","v":""},null,0,"","","","",{"$f":"IF(I878<>0,VLOOKUP(J878,A01A02!$A$3:$K$13,11,FALSE),\"\")","v":""},{"$f":"IF(I878<>0,VLOOKUP(J878,A01A02!A:J,10,0),\"\")","v":""}]
[null,0,"","","","",{"$f":"IF(B879<>0,VLOOKUP(C879,A01A02!$A$3:$K$13,11,FALSE),\"\")","v":""},null,0,"","","","",{"$f":"IF(I879<>0,VLOOKUP(J879,A01A02!$A$3:$K$13,11,FALSE),\"\")","v":""},{"$f":"IF(I879<>0,VLOOKUP(J879,A01A02!A:J,10,0),\"\")","v":""}]
[null,0,"","","","",{"$f":"IF(B880<>0,VLOOKUP(C880,A01A02!$A$3:$K$13,11,FALSE),\"\")","v":""},null,0,"","","","",{"$f":"IF(I880<>0,VLOOKUP(J880,A01A02!$A$3:$K$13,11,FALSE),\"\")","v":""},{"$f":"IF(I880<>0,VLOOKUP(J880,A01A02!A:J,10,0),\"\")","v":""}]
[null,0,"","","","",{"$f":"IF(B881<>0,VLOOKUP(C881,A01A02!$A$3:$K$13,11,FALSE),\"\")","v":""},null,0,"","","","",{"$f":"IF(I881<>0,VLOOKUP(J881,A01A02!$A$3:$K$13,11,FALSE),\"\")","v":""},{"$f":"IF(I881<>0,VLOOKUP(J881,A01A02!A:J,10,0),\"\")","v":""}]
[null,0,"","","","",{"$f":"IF(B882<>0,VLOOKUP(C882,A01A02!$A$3:$K$13,11,FALSE),\"\")","v":""},null,0,"","","","",{"$f":"IF(I882<>0,VLOOKUP(J882,A01A02!$A$3:$K$13,11,FALSE),\"\")","v":""},{"$f":"IF(I882<>0,VLOOKUP(J882,A01A02!A:J,10,0),\"\")","v":""}]
[null,0,"","","","",{"$f":"IF(B883<>0,VLOOKUP(C883,A01A02!$A$3:$K$13,11,FALSE),\"\")","v":""},null,0,"","","","",{"$f":"IF(I883<>0,VLOOKUP(J883,A01A02!$A$3:$K$13,11,FALSE),\"\")","v":""},{"$f":"IF(I883<>0,VLOOKUP(J883,A01A02!A:J,10,0),\"\")","v":""}]
[null,0,"","","","",{"$f":"IF(B884<>0,VLOOKUP(C884,A01A02!$A$3:$K$13,11,FALSE),\"\")","v":""},null,0,"","","","",{"$f":"IF(I884<>0,VLOOKUP(J884,A01A02!$A$3:$K$13,11,FALSE),\"\")","v":""},{"$f":"IF(I884<>0,VLOOKUP(J884,A01A02!A:J,10,0),\"\")","v":""}]
[null,0,"","","","",{"$f":"IF(B885<>0,VLOOKUP(C885,A01A02!$A$3:$K$13,11,FALSE),\"\")","v":""},null,0,"","","","",{"$f":"IF(I885<>0,VLOOKUP(J885,A01A02!$A$3:$K$13,11,FALSE),\"\")","v":""},{"$f":"IF(I885<>0,VLOOKUP(J885,A01A02!A:J,10,0),\"\")","v":""}]
[null,0,"","","","",{"$f":"IF(B886<>0,VLOOKUP(C886,A01A02!$A$3:$K$13,11,FALSE),\"\")","v":""},null,0,"","","","",{"$f":"IF(I886<>0,VLOOKUP(J886,A01A02!$A$3:$K$13,11,FALSE),\"\")","v":""},{"$f":"IF(I886<>0,VLOOKUP(J886,A01A02!A:J,10,0),\"\")","v":""}]
[null,0,"","","","",{"$f":"IF(B887<>0,VLOOKUP(C887,A01A02!$A$3:$K$13,11,FALSE),\"\")","v":""},null,0,"","","","",{"$f":"IF(I887<>0,VLOOKUP(J887,A01A02!$A$3:$K$13,11,FALSE),\"\")","v":""},{"$f":"IF(I887<>0,VLOOKUP(J887,A01A02!A:J,10,0),\"\")","v":""}]
[null,0,"","","","",{"$f":"IF(B888<>0,VLOOKUP(C888,A01A02!$A$3:$K$13,11,FALSE),\"\")","v":""},null,0,"","","","",{"$f":"IF(I888<>0,VLOOKUP(J888,A01A02!$A$3:$K$13,11,FALSE),\"\")","v":""},{"$f":"IF(I888<>0,VLOOKUP(J888,A01A02!A:J,10,0),\"\")","v":""}]
[null,0,"","","","",{"$f":"IF(B889<>0,VLOOKUP(C889,A01A02!$A$3:$K$13,11,FALSE),\"\")","v":""},null,0,"","","","",{"$f":"IF(I889<>0,VLOOKUP(J889,A01A02!$A$3:$K$13,11,FALSE),\"\")","v":""},{"$f":"IF(I889<>0,VLOOKUP(J889,A01A02!A:J,10,0),\"\")","v":""}]
[null,0,"","","","",{"$f":"IF(B890<>0,VLOOKUP(C890,A01A02!$A$3:$K$13,11,FALSE),\"\")","v":""},null,0,"","","","",{"$f":"IF(I890<>0,VLOOKUP(J890,A01A02!$A$3:$K$13,11,FALSE),\"\")","v":""},{"$f":"IF(I890<>0,VLOOKUP(J890,A01A02!A:J,10,0),\"\")","v":""}]
[null,0,"","","","",{"$f":"IF(B891<>0,VLOOKUP(C891,A01A02!$A$3:$K$13,11,FALSE),\"\")","v":""},null,0,"","","","",{"$f":"IF(I891<>0,VLOOKUP(J891,A01A02!$A$3:$K$13,11,FALSE),\"\")","v":""},{"$f":"IF(I891<>0,VLOOKUP(J891,A01A02!A:J,10,0),\"\")","v":""}]
[null,0,"","","","",{"$f":"IF(B892<>0,VLOOKUP(C892,A01A02!$A$3:$K$13,11,FALSE),\"\")","v":""},null,0,"","","","",{"$f":"IF(I892<>0,VLOOKUP(J892,A01A02!$A$3:$K$13,11,FALSE),\"\")","v":""},{"$f":"IF(I892<>0,VLOOKUP(J892,A01A02!A:J,10,0),\"\")","v":""}]
[null,0,"","","","",{"$f":"IF(B893<>0,VLOOKUP(C893,A01A02!$A$3:$K$13,11,FALSE),\"\")","v":""},null,0,"","","","",{"$f":"IF(I893<>0,VLOOKUP(J893,A01A02!$A$3:$K$13,11,FALSE),\"\")","v":""},{"$f":"IF(I893<>0,VLOOKUP(J893,A01A02!A:J,10,0),\"\")","v":""}]
[null,0,"","","","",{"$f":"IF(B894<>0,VLOOKUP(C894,A01A02!$A$3:$K$13,11,FALSE),\"\")","v":""},null,0,"","","","",{"$f":"IF(I894<>0,VLOOKUP(J894,A01A02!$A$3:$K$13,11,FALSE),\"\")","v":""},{"$f":"IF(I894<>0,VLOOKUP(J894,A01A02!A:J,10,0),\"\")","v":""}]
[null,0,"","","","",{"$f":"IF(B895<>0,VLOOKUP(C895,A01A02!$A$3:$K$13,11,FALSE),\"\")","v":""},null,0,"","","","",{"$f":"IF(I895<>0,VLOOKUP(J895,A01A02!$A$3:$K$13,11,FALSE),\"\")","v":""},{"$f":"IF(I895<>0,VLOOKUP(J895,A01A02!A:J,10,0),\"\")","v":""}]
[null,0,"","","","",{"$f":"IF(B896<>0,VLOOKUP(C896,A01A02!$A$3:$K$13,11,FALSE),\"\")","v":""},null,0,"","","","",{"$f":"IF(I896<>0,VLOOKUP(J896,A01A02!$A$3:$K$13,11,FALSE),\"\")","v":""},{"$f":"IF(I896<>0,VLOOKUP(J896,A01A02!A:J,10,0),\"\")","v":""}]
[null,0,"","","","",{"$f":"IF(B897<>0,VLOOKUP(C897,A01A02!$A$3:$K$13,11,FALSE),\"\")","v":""},null,0,"","","","",{"$f":"IF(I897<>0,VLOOKUP(J897,A01A02!$A$3:$K$13,11,FALSE),\"\")","v":""},{"$f":"IF(I897<>0,VLOOKUP(J897,A01A02!A:J,10,0),\"\")","v":""}]
[null,0,"","","","",{"$f":"IF(B898<>0,VLOOKUP(C898,A01A02!$A$3:$K$13,11,FALSE),\"\")","v":""},null,0,"","","","",{"$f":"IF(I898<>0,VLOOKUP(J898,A01A02!$A$3:$K$13,11,FALSE),\"\")","v":""},{"$f":"IF(I898<>0,VLOOKUP(J898,A01A02!A:J,10,0),\"\")","v":""}]
[null,{"$f":"IF(A899<>\"\",xycall(A899),0)","v":0},"","","","",{"$f":"IF(B899<>0,VLOOKUP(C899,A01A02!$A$3:$K$13,11,FALSE),\"\")","v":""},null,0,"","","","",{"$f":"IF(I899<>0,VLOOKUP(J899,A01A02!$A$3:$K$13,11,FALSE),\"\")","v":""},{"$f":"IF(I899<>0,VLOOKUP(J899,A01A02!A:J,10,0),\"\")","v":""}]
[null,0,{"$f":"IF(B900<>0,znoget(B900),\"\")","v":""},"","","",{"$f":"IF(B900<>0,VLOOKUP(C900,A01A02!$A$3:$K$13,11,FALSE),\"\")","v":""},null,{"$f":"IF(H900<>\"\",xycall(H900),0)","v":0},{"$f":"IF(I900<>0,znoget(I900),\"\")","v":""},"","","",{"$f":"IF(I900<>0,VLOOKUP(J900,A01A02!$A$3:$K$13,11,FALSE),\"\")","v":""},{"$f":"IF(I900<>0,VLOOKUP(J900,A01A02!A:J,10,0),\"\")","v":""}]
[null,0,"","","","",{"$f":"IF(B901<>0,VLOOKUP(C901,A01A02!$A$3:$K$13,11,FALSE),\"\")","v":""},null,0,"","","","",{"$f":"IF(I901<>0,VLOOKUP(J901,A01A02!$A$3:$K$13,11,FALSE),\"\")","v":""},{"$f":"IF(I901<>0,VLOOKUP(J901,A01A02!A:J,10,0),\"\")","v":""}]
[null,0,"","","","",{"$f":"IF(B902<>0,VLOOKUP(C902,A01A02!$A$3:$K$13,11,FALSE),\"\")","v":""},null,0,"","","","",{"$f":"IF(I902<>0,VLOOKUP(J902,A01A02!$A$3:$K$13,11,FALSE),\"\")","v":""},{"$f":"IF(I902<>0,VLOOKUP(J902,A01A02!A:J,10,0),\"\")","v":""}]
[null,0,"","","","",{"$f":"IF(B903<>0,VLOOKUP(C903,A01A02!$A$3:$K$13,11,FALSE),\"\")","v":""},null,0,"","","","",{"$f":"IF(I903<>0,VLOOKUP(J903,A01A02!$A$3:$K$13,11,FALSE),\"\")","v":""},{"$f":"IF(I903<>0,VLOOKUP(J903,A01A02!A:J,10,0),\"\")","v":""}]
[null,0,"","","","",{"$f":"IF(B904<>0,VLOOKUP(C904,A01A02!$A$3:$K$13,11,FALSE),\"\")","v":""},null,0,"","","","",{"$f":"IF(I904<>0,VLOOKUP(J904,A01A02!$A$3:$K$13,11,FALSE),\"\")","v":""},{"$f":"IF(I904<>0,VLOOKUP(J904,A01A02!A:J,10,0),\"\")","v":""}]
[null,0,"","","","",{"$f":"IF(B905<>0,VLOOKUP(C905,A01A02!$A$3:$K$13,11,FALSE),\"\")","v":""},null,0,"","","","",{"$f":"IF(I905<>0,VLOOKUP(J905,A01A02!$A$3:$K$13,11,FALSE),\"\")","v":""},{"$f":"IF(I905<>0,VLOOKUP(J905,A01A02!A:J,10,0),\"\")","v":""}]
[null,0,"","","","",{"$f":"IF(B906<>0,VLOOKUP(C906,A01A02!$A$3:$K$13,11,FALSE),\"\")","v":""},null,0,"","","","",{"$f":"IF(I906<>0,VLOOKUP(J906,A01A02!$A$3:$K$13,11,FALSE),\"\")","v":""},{"$f":"IF(I906<>0,VLOOKUP(J906,A01A02!A:J,10,0),\"\")","v":""}]
[null,0,"","","","",{"$f":"IF(B907<>0,VLOOKUP(C907,A01A02!$A$3:$K$13,11,FALSE),\"\")","v":""},null,0,"","","","",{"$f":"IF(I907<>0,VLOOKUP(J907,A01A02!$A$3:$K$13,11,FALSE),\"\")","v":""},{"$f":"IF(I907<>0,VLOOKUP(J907,A01A02!A:J,10,0),\"\")","v":""}]
[null,0,"","","","",{"$f":"IF(B908<>0,VLOOKUP(C908,A01A02!$A$3:$K$13,11,FALSE),\"\")","v":""},null,0,"","","","",{"$f":"IF(I908<>0,VLOOKUP(J908,A01A02!$A$3:$K$13,11,FALSE),\"\")","v":""},{"$f":"IF(I908<>0,VLOOKUP(J908,A01A02!A:J,10,0),\"\")","v":""}]
[null,0,"","","","",{"$f":"IF(B909<>0,VLOOKUP(C909,A01A02!$A$3:$K$13,11,FALSE),\"\")","v":""},null,0,"","","","",{"$f":"IF(I909<>0,VLOOKUP(J909,A01A02!$A$3:$K$13,11,FALSE),\"\")","v":""},{"$f":"IF(I909<>0,VLOOKUP(J909,A01A02!A:J,10,0),\"\")","v":""}]
[null,0,"","","","",{"$f":"IF(B910<>0,VLOOKUP(C910,A01A02!$A$3:$K$13,11,FALSE),\"\")","v":""},null,0,"","","","",{"$f":"IF(I910<>0,VLOOKUP(J910,A01A02!$A$3:$K$13,11,FALSE),\"\")","v":""},{"$f":"IF(I910<>0,VLOOKUP(J910,A01A02!A:J,10,0),\"\")","v":""}]
[null,0,"","","","",{"$f":"IF(B911<>0,VLOOKUP(C911,A01A02!$A$3:$K$13,11,FALSE),\"\")","v":""},null,0,"","","","",{"$f":"IF(I911<>0,VLOOKUP(J911,A01A02!$A$3:$K$13,11,FALSE),\"\")","v":""},{"$f":"IF(I911<>0,VLOOKUP(J911,A01A02!A:J,10,0),\"\")","v":""}]
[null,0,"","","","",{"$f":"IF(B912<>0,VLOOKUP(C912,A01A02!$A$3:$K$13,11,FALSE),\"\")","v":""},null,0,"","","","",{"$f":"IF(I912<>0,VLOOKUP(J912,A01A02!$A$3:$K$13,11,FALSE),\"\")","v":""},{"$f":"IF(I912<>0,VLOOKUP(J912,A01A02!A:J,10,0),\"\")","v":""}]
[null,0,"","","","",{"$f":"IF(B913<>0,VLOOKUP(C913,A01A02!$A$3:$K$13,11,FALSE),\"\")","v":""},null,0,"","","","",{"$f":"IF(I913<>0,VLOOKUP(J913,A01A02!$A$3:$K$13,11,FALSE),\"\")","v":""},{"$f":"IF(I913<>0,VLOOKUP(J913,A01A02!A:J,10,0),\"\")","v":""}]
[null,0,"","","","",{"$f":"IF(B914<>0,VLOOKUP(C914,A01A02!$A$3:$K$13,11,FALSE),\"\")","v":""},null,0,"","","","",{"$f":"IF(I914<>0,VLOOKUP(J914,A01A02!$A$3:$K$13,11,FALSE),\"\")","v":""},{"$f":"IF(I914<>0,VLOOKUP(J914,A01A02!A:J,10,0),\"\")","v":""}]
[null,0,"","","","",{"$f":"IF(B915<>0,VLOOKUP(C915,A01A02!$A$3:$K$13,11,FALSE),\"\")","v":""},null,0,"","","","",{"$f":"IF(I915<>0,VLOOKUP(J915,A01A02!$A$3:$K$13,11,FALSE),\"\")","v":""},{"$f":"IF(I915<>0,VLOOKUP(J915,A01A02!A:J,10,0),\"\")","v":""}]
[null,0,"","","","",{"$f":"IF(B916<>0,VLOOKUP(C916,A01A02!$A$3:$K$13,11,FALSE),\"\")","v":""},null,0,"","","","",{"$f":"IF(I916<>0,VLOOKUP(J916,A01A02!$A$3:$K$13,11,FALSE),\"\")","v":""},{"$f":"IF(I916<>0,VLOOKUP(J916,A01A02!A:J,10,0),\"\")","v":""}]
[null,0,"","","","",{"$f":"IF(B917<>0,VLOOKUP(C917,A01A02!$A$3:$K$13,11,FALSE),\"\")","v":""},null,0,"","","","",{"$f":"IF(I917<>0,VLOOKUP(J917,A01A02!$A$3:$K$13,11,FALSE),\"\")","v":""},{"$f":"IF(I917<>0,VLOOKUP(J917,A01A02!A:J,10,0),\"\")","v":""}]
[null,0,"","","","",{"$f":"IF(B918<>0,VLOOKUP(C918,A01A02!$A$3:$K$13,11,FALSE),\"\")","v":""},null,0,"","","","",{"$f":"IF(I918<>0,VLOOKUP(J918,A01A02!$A$3:$K$13,11,FALSE),\"\")","v":""},{"$f":"IF(I918<>0,VLOOKUP(J918,A01A02!A:J,10,0),\"\")","v":""}]
[null,0,"","","","",{"$f":"IF(B919<>0,VLOOKUP(C919,A01A02!$A$3:$K$13,11,FALSE),\"\")","v":""},null,0,"","","","",{"$f":"IF(I919<>0,VLOOKUP(J919,A01A02!$A$3:$K$13,11,FALSE),\"\")","v":""},{"$f":"IF(I919<>0,VLOOKUP(J919,A01A02!A:J,10,0),\"\")","v":""}]
[null,0,"","","","",{"$f":"IF(B920<>0,VLOOKUP(C920,A01A02!$A$3:$K$13,11,FALSE),\"\")","v":""},null,0,"","","","",{"$f":"IF(I920<>0,VLOOKUP(J920,A01A02!$A$3:$K$13,11,FALSE),\"\")","v":""},{"$f":"IF(I920<>0,VLOOKUP(J920,A01A02!A:J,10,0),\"\")","v":""}]
[null,0,"","","","",{"$f":"IF(B921<>0,VLOOKUP(C921,A01A02!$A$3:$K$13,11,FALSE),\"\")","v":""},null,0,"","","","",{"$f":"IF(I921<>0,VLOOKUP(J921,A01A02!$A$3:$K$13,11,FALSE),\"\")","v":""},{"$f":"IF(I921<>0,VLOOKUP(J921,A01A02!A:J,10,0),\"\")","v":""}]
[null,0,"","","","",{"$f":"IF(B922<>0,VLOOKUP(C922,A01A02!$A$3:$K$13,11,FALSE),\"\")","v":""},null,0,"","","","",{"$f":"IF(I922<>0,VLOOKUP(J922,A01A02!$A$3:$K$13,11,FALSE),\"\")","v":""},{"$f":"IF(I922<>0,VLOOKUP(J922,A01A02!A:J,10,0),\"\")","v":""}]
[null,0,"","","","",{"$f":"IF(B923<>0,VLOOKUP(C923,A01A02!$A$3:$K$13,11,FALSE),\"\")","v":""},null,0,"","","","",{"$f":"IF(I923<>0,VLOOKUP(J923,A01A02!$A$3:$K$13,11,FALSE),\"\")","v":""},{"$f":"IF(I923<>0,VLOOKUP(J923,A01A02!A:J,10,0),\"\")","v":""}]
[null,0,"","","","",{"$f":"IF(B924<>0,VLOOKUP(C924,A01A02!$A$3:$K$13,11,FALSE),\"\")","v":""},null,0,"","","","",{"$f":"IF(I924<>0,VLOOKUP(J924,A01A02!$A$3:$K$13,11,FALSE),\"\")","v":""},{"$f":"IF(I924<>0,VLOOKUP(J924,A01A02!A:J,10,0),\"\")","v":""}]
[null,0,"","","","",{"$f":"IF(B925<>0,VLOOKUP(C925,A01A02!$A$3:$K$13,11,FALSE),\"\")","v":""},null,0,"","","","",{"$f":"IF(I925<>0,VLOOKUP(J925,A01A02!$A$3:$K$13,11,FALSE),\"\")","v":""},{"$f":"IF(I925<>0,VLOOKUP(J925,A01A02!A:J,10,0),\"\")","v":""}]
[null,0,"","","","",{"$f":"IF(B926<>0,VLOOKUP(C926,A01A02!$A$3:$K$13,11,FALSE),\"\")","v":""},null,0,"","","","",{"$f":"IF(I926<>0,VLOOKUP(J926,A01A02!$A$3:$K$13,11,FALSE),\"\")","v":""},{"$f":"IF(I926<>0,VLOOKUP(J926,A01A02!A:J,10,0),\"\")","v":""}]
[null,0,"","","","",{"$f":"IF(B927<>0,VLOOKUP(C927,A01A02!$A$3:$K$13,11,FALSE),\"\")","v":""},null,0,"","","","",{"$f":"IF(I927<>0,VLOOKUP(J927,A01A02!$A$3:$K$13,11,FALSE),\"\")","v":""},{"$f":"IF(I927<>0,VLOOKUP(J927,A01A02!A:J,10,0),\"\")","v":""}]
[null,0,"","","","",{"$f":"IF(B928<>0,VLOOKUP(C928,A01A02!$A$3:$K$13,11,FALSE),\"\")","v":""},null,0,"","","","",{"$f":"IF(I928<>0,VLOOKUP(J928,A01A02!$A$3:$K$13,11,FALSE),\"\")","v":""},{"$f":"IF(I928<>0,VLOOKUP(J928,A01A02!A:J,10,0),\"\")","v":""}]
[null,0,"","","","",{"$f":"IF(B929<>0,VLOOKUP(C929,A01A02!$A$3:$K$13,11,FALSE),\"\")","v":""},null,0,"","","","",{"$f":"IF(I929<>0,VLOOKUP(J929,A01A02!$A$3:$K$13,11,FALSE),\"\")","v":""},{"$f":"IF(I929<>0,VLOOKUP(J929,A01A02!A:J,10,0),\"\")","v":""}]
[null,0,"","","","",{"$f":"IF(B930<>0,VLOOKUP(C930,A01A02!$A$3:$K$13,11,FALSE),\"\")","v":""},null,0,"","","","",{"$f":"IF(I930<>0,VLOOKUP(J930,A01A02!$A$3:$K$13,11,FALSE),\"\")","v":""},{"$f":"IF(I930<>0,VLOOKUP(J930,A01A02!A:J,10,0),\"\")","v":""}]
[null,0,"","","","",{"$f":"IF(B931<>0,VLOOKUP(C931,A01A02!$A$3:$K$13,11,FALSE),\"\")","v":""},null,0,"","","","",{"$f":"IF(I931<>0,VLOOKUP(J931,A01A02!$A$3:$K$13,11,FALSE),\"\")","v":""},{"$f":"IF(I931<>0,VLOOKUP(J931,A01A02!A:J,10,0),\"\")","v":""}]
[null,0,"","","","",{"$f":"IF(B932<>0,VLOOKUP(C932,A01A02!$A$3:$K$13,11,FALSE),\"\")","v":""},null,0,"","","","",{"$f":"IF(I932<>0,VLOOKUP(J932,A01A02!$A$3:$K$13,11,FALSE),\"\")","v":""},{"$f":"IF(I932<>0,VLOOKUP(J932,A01A02!A:J,10,0),\"\")","v":""}]
[null,0,"",{"$f":"IF(B933<>0,znaget(B933),\"\")","v":""},{"$f":"IF(B933<>0,xget(B933),\"\")","v":""},{"$f":"IF(B933<>0,yget(B933),\"\")","v":""},{"$f":"IF(B933<>0,VLOOKUP(C933,A01A02!$A$3:$K$13,11,FALSE),\"\")","v":""},null,0,"",{"$f":"IF(I933<>0,znaget(I933),\"\")","v":""},{"$f":"IF(I933<>0,xget(I933),\"\")","v":""},{"$f":"IF(I933<>0,yget(I933),\"\")","v":""},{"$f":"IF(I933<>0,VLOOKUP(J933,A01A02!$A$3:$K$13,11,FALSE),\"\")","v":""},{"$f":"IF(I933<>0,VLOOKUP(J933,A01A02!A:J,10,0),\"\")","v":""}]
[null,0,"","","","",{"$f":"IF(B934<>0,VLOOKUP(C934,A01A02!$A$3:$K$13,11,FALSE),\"\")","v":""},null,0,"","","","",{"$f":"IF(I934<>0,VLOOKUP(J934,A01A02!$A$3:$K$13,11,FALSE),\"\")","v":""},{"$f":"IF(I934<>0,VLOOKUP(J934,A01A02!A:J,10,0),\"\")","v":""}]
[null,0,"","","","",{"$f":"IF(B935<>0,VLOOKUP(C935,A01A02!$A$3:$K$13,11,FALSE),\"\")","v":""},null,0,"","","","",{"$f":"IF(I935<>0,VLOOKUP(J935,A01A02!$A$3:$K$13,11,FALSE),\"\")","v":""},{"$f":"IF(I935<>0,VLOOKUP(J935,A01A02!A:J,10,0),\"\")","v":""}]
[null,0,"","","","",{"$f":"IF(B936<>0,VLOOKUP(C936,A01A02!$A$3:$K$13,11,FALSE),\"\")","v":""},null,0,"","","","",{"$f":"IF(I936<>0,VLOOKUP(J936,A01A02!$A$3:$K$13,11,FALSE),\"\")","v":""},{"$f":"IF(I936<>0,VLOOKUP(J936,A01A02!A:J,10,0),\"\")","v":""}]
[null,0,"","","","",{"$f":"IF(B937<>0,VLOOKUP(C937,A01A02!$A$3:$K$13,11,FALSE),\"\")","v":""},null,0,"","","","",{"$f":"IF(I937<>0,VLOOKUP(J937,A01A02!$A$3:$K$13,11,FALSE),\"\")","v":""},{"$f":"IF(I937<>0,VLOOKUP(J937,A01A02!A:J,10,0),\"\")","v":""}]
[null,0,"","","","",{"$f":"IF(B938<>0,VLOOKUP(C938,A01A02!$A$3:$K$13,11,FALSE),\"\")","v":""},null,0,"","","","",{"$f":"IF(I938<>0,VLOOKUP(J938,A01A02!$A$3:$K$13,11,FALSE),\"\")","v":""},{"$f":"IF(I938<>0,VLOOKUP(J938,A01A02!A:J,10,0),\"\")","v":""}]
[null,0,"","","","",{"$f":"IF(B939<>0,VLOOKUP(C939,A01A02!$A$3:$K$13,11,FALSE),\"\")","v":""},null,0,"","","","",{"$f":"IF(I939<>0,VLOOKUP(J939,A01A02!$A$3:$K$13,11,FALSE),\"\")","v":""},{"$f":"IF(I939<>0,VLOOKUP(J939,A01A02!A:J,10,0),\"\")","v":""}]
[null,0,"","","","",{"$f":"IF(B940<>0,VLOOKUP(C940,A01A02!$A$3:$K$13,11,FALSE),\"\")","v":""},null,0,"","","","",{"$f":"IF(I940<>0,VLOOKUP(J940,A01A02!$A$3:$K$13,11,FALSE),\"\")","v":""},{"$f":"IF(I940<>0,VLOOKUP(J940,A01A02!A:J,10,0),\"\")","v":""}]
[null,0,"","","","",{"$f":"IF(B941<>0,VLOOKUP(C941,A01A02!$A$3:$K$13,11,FALSE),\"\")","v":""},null,0,"","","","",{"$f":"IF(I941<>0,VLOOKUP(J941,A01A02!$A$3:$K$13,11,FALSE),\"\")","v":""},{"$f":"IF(I941<>0,VLOOKUP(J941,A01A02!A:J,10,0),\"\")","v":""}]
[null,0,"","","","",{"$f":"IF(B942<>0,VLOOKUP(C942,A01A02!$A$3:$K$13,11,FALSE),\"\")","v":""},null,0,"","","","",{"$f":"IF(I942<>0,VLOOKUP(J942,A01A02!$A$3:$K$13,11,FALSE),\"\")","v":""},{"$f":"IF(I942<>0,VLOOKUP(J942,A01A02!A:J,10,0),\"\")","v":""}]
[null,0,"","","","",{"$f":"IF(B943<>0,VLOOKUP(C943,A01A02!$A$3:$K$13,11,FALSE),\"\")","v":""},null,0,"","","","",{"$f":"IF(I943<>0,VLOOKUP(J943,A01A02!$A$3:$K$13,11,FALSE),\"\")","v":""},{"$f":"IF(I943<>0,VLOOKUP(J943,A01A02!A:J,10,0),\"\")","v":""}]
[null,0,"","","","",{"$f":"IF(B944<>0,VLOOKUP(C944,A01A02!$A$3:$K$13,11,FALSE),\"\")","v":""},null,0,"","","","",{"$f":"IF(I944<>0,VLOOKUP(J944,A01A02!$A$3:$K$13,11,FALSE),\"\")","v":""},{"$f":"IF(I944<>0,VLOOKUP(J944,A01A02!A:J,10,0),\"\")","v":""}]
[null,0,"","","","",{"$f":"IF(B945<>0,VLOOKUP(C945,A01A02!$A$3:$K$13,11,FALSE),\"\")","v":""},null,0,"","","","",{"$f":"IF(I945<>0,VLOOKUP(J945,A01A02!$A$3:$K$13,11,FALSE),\"\")","v":""},{"$f":"IF(I945<>0,VLOOKUP(J945,A01A02!A:J,10,0),\"\")","v":""}]
[null,0,"","","","",{"$f":"IF(B946<>0,VLOOKUP(C946,A01A02!$A$3:$K$13,11,FALSE),\"\")","v":""},null,0,"","","","",{"$f":"IF(I946<>0,VLOOKUP(J946,A01A02!$A$3:$K$13,11,FALSE),\"\")","v":""},{"$f":"IF(I946<>0,VLOOKUP(J946,A01A02!A:J,10,0),\"\")","v":""}]
[null,0,"","","","",{"$f":"IF(B947<>0,VLOOKUP(C947,A01A02!$A$3:$K$13,11,FALSE),\"\")","v":""},null,0,"","","","",{"$f":"IF(I947<>0,VLOOKUP(J947,A01A02!$A$3:$K$13,11,FALSE),\"\")","v":""},{"$f":"IF(I947<>0,VLOOKUP(J947,A01A02!A:J,10,0),\"\")","v":""}]
[null,0,"","","","",{"$f":"IF(B948<>0,VLOOKUP(C948,A01A02!$A$3:$K$13,11,FALSE),\"\")","v":""},null,0,"","","","",{"$f":"IF(I948<>0,VLOOKUP(J948,A01A02!$A$3:$K$13,11,FALSE),\"\")","v":""},{"$f":"IF(I948<>0,VLOOKUP(J948,A01A02!A:J,10,0),\"\")","v":""}]
[null,0,"","","","",{"$f":"IF(B949<>0,VLOOKUP(C949,A01A02!$A$3:$K$13,11,FALSE),\"\")","v":""},null,0,"","","","",{"$f":"IF(I949<>0,VLOOKUP(J949,A01A02!$A$3:$K$13,11,FALSE),\"\")","v":""},{"$f":"IF(I949<>0,VLOOKUP(J949,A01A02!A:J,10,0),\"\")","v":""}]
[null,0,"","","","",{"$f":"IF(B950<>0,VLOOKUP(C950,A01A02!$A$3:$K$13,11,FALSE),\"\")","v":""},null,0,"","","","",{"$f":"IF(I950<>0,VLOOKUP(J950,A01A02!$A$3:$K$13,11,FALSE),\"\")","v":""},{"$f":"IF(I950<>0,VLOOKUP(J950,A01A02!A:J,10,0),\"\")","v":""}]
[null,0,"","","","",{"$f":"IF(B951<>0,VLOOKUP(C951,A01A02!$A$3:$K$13,11,FALSE),\"\")","v":""},null,0,"","","","",{"$f":"IF(I951<>0,VLOOKUP(J951,A01A02!$A$3:$K$13,11,FALSE),\"\")","v":""},{"$f":"IF(I951<>0,VLOOKUP(J951,A01A02!A:J,10,0),\"\")","v":""}]
[null,0,"","","","",{"$f":"IF(B952<>0,VLOOKUP(C952,A01A02!$A$3:$K$13,11,FALSE),\"\")","v":""},null,0,"","","","",{"$f":"IF(I952<>0,VLOOKUP(J952,A01A02!$A$3:$K$13,11,FALSE),\"\")","v":""},{"$f":"IF(I952<>0,VLOOKUP(J952,A01A02!A:J,10,0),\"\")","v":""}]
[null,0,"","","","",{"$f":"IF(B953<>0,VLOOKUP(C953,A01A02!$A$3:$K$13,11,FALSE),\"\")","v":""},null,0,"","","","",{"$f":"IF(I953<>0,VLOOKUP(J953,A01A02!$A$3:$K$13,11,FALSE),\"\")","v":""},{"$f":"IF(I953<>0,VLOOKUP(J953,A01A02!A:J,10,0),\"\")","v":""}]
[null,0,"","","","",{"$f":"IF(B954<>0,VLOOKUP(C954,A01A02!$A$3:$K$13,11,FALSE),\"\")","v":""},null,0,"","","","",{"$f":"IF(I954<>0,VLOOKUP(J954,A01A02!$A$3:$K$13,11,FALSE),\"\")","v":""},{"$f":"IF(I954<>0,VLOOKUP(J954,A01A02!A:J,10,0),\"\")","v":""}]
[null,0,"","","","",{"$f":"IF(B955<>0,VLOOKUP(C955,A01A02!$A$3:$K$13,11,FALSE),\"\")","v":""},null,0,"","","","",{"$f":"IF(I955<>0,VLOOKUP(J955,A01A02!$A$3:$K$13,11,FALSE),\"\")","v":""},{"$f":"IF(I955<>0,VLOOKUP(J955,A01A02!A:J,10,0),\"\")","v":""}]
[null,0,"","","","",{"$f":"IF(B956<>0,VLOOKUP(C956,A01A02!$A$3:$K$13,11,FALSE),\"\")","v":""},null,0,"","","","",{"$f":"IF(I956<>0,VLOOKUP(J956,A01A02!$A$3:$K$13,11,FALSE),\"\")","v":""},{"$f":"IF(I956<>0,VLOOKUP(J956,A01A02!A:J,10,0),\"\")","v":""}]
[null,0,"","","","",{"$f":"IF(B957<>0,VLOOKUP(C957,A01A02!$A$3:$K$13,11,FALSE),\"\")","v":""},null,0,"","","","",{"$f":"IF(I957<>0,VLOOKUP(J957,A01A02!$A$3:$K$13,11,FALSE),\"\")","v":""},{"$f":"IF(I957<>0,VLOOKUP(J957,A01A02!A:J,10,0),\"\")","v":""}]
[null,0,"","","","",{"$f":"IF(B958<>0,VLOOKUP(C958,A01A02!$A$3:$K$13,11,FALSE),\"\")","v":""},null,0,"","","","",{"$f":"IF(I958<>0,VLOOKUP(J958,A01A02!$A$3:$K$13,11,FALSE),\"\")","v":""},{"$f":"IF(I958<>0,VLOOKUP(J958,A01A02!A:J,10,0),\"\")","v":""}]
[null,0,"","","","",{"$f":"IF(B959<>0,VLOOKUP(C959,A01A02!$A$3:$K$13,11,FALSE),\"\")","v":""},null,0,"","","","",{"$f":"IF(I959<>0,VLOOKUP(J959,A01A02!$A$3:$K$13,11,FALSE),\"\")","v":""},{"$f":"IF(I959<>0,VLOOKUP(J959,A01A02!A:J,10,0),\"\")","v":""}]
[null,0,"","","","",{"$f":"IF(B960<>0,VLOOKUP(C960,A01A02!$A$3:$K$13,11,FALSE),\"\")","v":""},null,0,"","","","",{"$f":"IF(I960<>0,VLOOKUP(J960,A01A02!$A$3:$K$13,11,FALSE),\"\")","v":""},{"$f":"IF(I960<>0,VLOOKUP(J960,A01A02!A:J,10,0),\"\")","v":""}]
[null,0,"","","","",{"$f":"IF(B961<>0,VLOOKUP(C961,A01A02!$A$3:$K$13,11,FALSE),\"\")","v":""},null,0,"","","","",{"$f":"IF(I961<>0,VLOOKUP(J961,A01A02!$A$3:$K$13,11,FALSE),\"\")","v":""},{"$f":"IF(I961<>0,VLOOKUP(J961,A01A02!A:J,10,0),\"\")","v":""}]
[null,0,"","","","",{"$f":"IF(B962<>0,VLOOKUP(C962,A01A02!$A$3:$K$13,11,FALSE),\"\")","v":""},null,0,"","","","",{"$f":"IF(I962<>0,VLOOKUP(J962,A01A02!$A$3:$K$13,11,FALSE),\"\")","v":""},{"$f":"IF(I962<>0,VLOOKUP(J962,A01A02!A:J,10,0),\"\")","v":""}]
[null,{"$f":"IF(A963<>\"\",xycall(A963),0)","v":0},"","","","",{"$f":"IF(B963<>0,VLOOKUP(C963,A01A02!$A$3:$K$13,11,FALSE),\"\")","v":""},null,0,"","","","",{"$f":"IF(I963<>0,VLOOKUP(J963,A01A02!$A$3:$K$13,11,FALSE),\"\")","v":""},{"$f":"IF(I963<>0,VLOOKUP(J963,A01A02!A:J,10,0),\"\")","v":""}]
[null,0,{"$f":"IF(B964<>0,znoget(B964),\"\")","v":""},"","","",{"$f":"IF(B964<>0,VLOOKUP(C964,A01A02!$A$3:$K$13,11,FALSE),\"\")","v":""},null,{"$f":"IF(H964<>\"\",xycall(H964),0)","v":0},{"$f":"IF(I964<>0,znoget(I964),\"\")","v":""},"","","",{"$f":"IF(I964<>0,VLOOKUP(J964,A01A02!$A$3:$K$13,11,FALSE),\"\")","v":""},{"$f":"IF(I964<>0,VLOOKUP(J964,A01A02!A:J,10,0),\"\")","v":""}]
[null,0,"","","","",{"$f":"IF(B965<>0,VLOOKUP(C965,A01A02!$A$3:$K$13,11,FALSE),\"\")","v":""},null,0,"","","","",{"$f":"IF(I965<>0,VLOOKUP(J965,A01A02!$A$3:$K$13,11,FALSE),\"\")","v":""},{"$f":"IF(I965<>0,VLOOKUP(J965,A01A02!A:J,10,0),\"\")","v":""}]
[null,0,"","","","",{"$f":"IF(B966<>0,VLOOKUP(C966,A01A02!$A$3:$K$13,11,FALSE),\"\")","v":""},null,0,"","","","",{"$f":"IF(I966<>0,VLOOKUP(J966,A01A02!$A$3:$K$13,11,FALSE),\"\")","v":""},{"$f":"IF(I966<>0,VLOOKUP(J966,A01A02!A:J,10,0),\"\")","v":""}]
[null,0,"","","","",{"$f":"IF(B967<>0,VLOOKUP(C967,A01A02!$A$3:$K$13,11,FALSE),\"\")","v":""},null,0,"","","","",{"$f":"IF(I967<>0,VLOOKUP(J967,A01A02!$A$3:$K$13,11,FALSE),\"\")","v":""},{"$f":"IF(I967<>0,VLOOKUP(J967,A01A02!A:J,10,0),\"\")","v":""}]
[null,0,"","","","",{"$f":"IF(B968<>0,VLOOKUP(C968,A01A02!$A$3:$K$13,11,FALSE),\"\")","v":""},null,0,"","","","",{"$f":"IF(I968<>0,VLOOKUP(J968,A01A02!$A$3:$K$13,11,FALSE),\"\")","v":""},{"$f":"IF(I968<>0,VLOOKUP(J968,A01A02!A:J,10,0),\"\")","v":""}]
[null,0,"","","","",{"$f":"IF(B969<>0,VLOOKUP(C969,A01A02!$A$3:$K$13,11,FALSE),\"\")","v":""},null,0,"","","","",{"$f":"IF(I969<>0,VLOOKUP(J969,A01A02!$A$3:$K$13,11,FALSE),\"\")","v":""},{"$f":"IF(I969<>0,VLOOKUP(J969,A01A02!A:J,10,0),\"\")","v":""}]
[null,0,"","","","",{"$f":"IF(B970<>0,VLOOKUP(C970,A01A02!$A$3:$K$13,11,FALSE),\"\")","v":""},null,0,"","","","",{"$f":"IF(I970<>0,VLOOKUP(J970,A01A02!$A$3:$K$13,11,FALSE),\"\")","v":""},{"$f":"IF(I970<>0,VLOOKUP(J970,A01A02!A:J,10,0),\"\")","v":""}]
[null,0,"","","","",{"$f":"IF(B971<>0,VLOOKUP(C971,A01A02!$A$3:$K$13,11,FALSE),\"\")","v":""},null,0,"","","","",{"$f":"IF(I971<>0,VLOOKUP(J971,A01A02!$A$3:$K$13,11,FALSE),\"\")","v":""},{"$f":"IF(I971<>0,VLOOKUP(J971,A01A02!A:J,10,0),\"\")","v":""}]
[null,0,"","","","",{"$f":"IF(B972<>0,VLOOKUP(C972,A01A02!$A$3:$K$13,11,FALSE),\"\")","v":""},null,0,"","","","",{"$f":"IF(I972<>0,VLOOKUP(J972,A01A02!$A$3:$K$13,11,FALSE),\"\")","v":""},{"$f":"IF(I972<>0,VLOOKUP(J972,A01A02!A:J,10,0),\"\")","v":""}]
[null,0,"","","","",{"$f":"IF(B973<>0,VLOOKUP(C973,A01A02!$A$3:$K$13,11,FALSE),\"\")","v":""},null,0,"","","","",{"$f":"IF(I973<>0,VLOOKUP(J973,A01A02!$A$3:$K$13,11,FALSE),\"\")","v":""},{"$f":"IF(I973<>0,VLOOKUP(J973,A01A02!A:J,10,0),\"\")","v":""}]
[null,0,"","","","",{"$f":"IF(B974<>0,VLOOKUP(C974,A01A02!$A$3:$K$13,11,FALSE),\"\")","v":""},null,0,"","","","",{"$f":"IF(I974<>0,VLOOKUP(J974,A01A02!$A$3:$K$13,11,FALSE),\"\")","v":""},{"$f":"IF(I974<>0,VLOOKUP(J974,A01A02!A:J,10,0),\"\")","v":""}]
[null,0,"","","","",{"$f":"IF(B975<>0,VLOOKUP(C975,A01A02!$A$3:$K$13,11,FALSE),\"\")","v":""},null,0,"","","","",{"$f":"IF(I975<>0,VLOOKUP(J975,A01A02!$A$3:$K$13,11,FALSE),\"\")","v":""},{"$f":"IF(I975<>0,VLOOKUP(J975,A01A02!A:J,10,0),\"\")","v":""}]
[null,0,"","","","",{"$f":"IF(B976<>0,VLOOKUP(C976,A01A02!$A$3:$K$13,11,FALSE),\"\")","v":""},null,0,"","","","",{"$f":"IF(I976<>0,VLOOKUP(J976,A01A02!$A$3:$K$13,11,FALSE),\"\")","v":""},{"$f":"IF(I976<>0,VLOOKUP(J976,A01A02!A:J,10,0),\"\")","v":""}]
[null,0,"","","","",{"$f":"IF(B977<>0,VLOOKUP(C977,A01A02!$A$3:$K$13,11,FALSE),\"\")","v":""},null,0,"","","","",{"$f":"IF(I977<>0,VLOOKUP(J977,A01A02!$A$3:$K$13,11,FALSE),\"\")","v":""},{"$f":"IF(I977<>0,VLOOKUP(J977,A01A02!A:J,10,0),\"\")","v":""}]
[null,0,"","","","",{"$f":"IF(B978<>0,VLOOKUP(C978,A01A02!$A$3:$K$13,11,FALSE),\"\")","v":""},null,0,"","","","",{"$f":"IF(I978<>0,VLOOKUP(J978,A01A02!$A$3:$K$13,11,FALSE),\"\")","v":""},{"$f":"IF(I978<>0,VLOOKUP(J978,A01A02!A:J,10,0),\"\")","v":""}]
[null,0,"","","","",{"$f":"IF(B979<>0,VLOOKUP(C979,A01A02!$A$3:$K$13,11,FALSE),\"\")","v":""},null,0,"","","","",{"$f":"IF(I979<>0,VLOOKUP(J979,A01A02!$A$3:$K$13,11,FALSE),\"\")","v":""},{"$f":"IF(I979<>0,VLOOKUP(J979,A01A02!A:J,10,0),\"\")","v":""}]
[null,0,"","","","",{"$f":"IF(B980<>0,VLOOKUP(C980,A01A02!$A$3:$K$13,11,FALSE),\"\")","v":""},null,0,"","","","",{"$f":"IF(I980<>0,VLOOKUP(J980,A01A02!$A$3:$K$13,11,FALSE),\"\")","v":""},{"$f":"IF(I980<>0,VLOOKUP(J980,A01A02!A:J,10,0),\"\")","v":""}]
[null,0,"","","","",{"$f":"IF(B981<>0,VLOOKUP(C981,A01A02!$A$3:$K$13,11,FALSE),\"\")","v":""},null,0,"","","","",{"$f":"IF(I981<>0,VLOOKUP(J981,A01A02!$A$3:$K$13,11,FALSE),\"\")","v":""},{"$f":"IF(I981<>0,VLOOKUP(J981,A01A02!A:J,10,0),\"\")","v":""}]
[null,0,"","","","",{"$f":"IF(B982<>0,VLOOKUP(C982,A01A02!$A$3:$K$13,11,FALSE),\"\")","v":""},null,0,"","","","",{"$f":"IF(I982<>0,VLOOKUP(J982,A01A02!$A$3:$K$13,11,FALSE),\"\")","v":""},{"$f":"IF(I982<>0,VLOOKUP(J982,A01A02!A:J,10,0),\"\")","v":""}]
[null,0,"","","","",{"$f":"IF(B983<>0,VLOOKUP(C983,A01A02!$A$3:$K$13,11,FALSE),\"\")","v":""},null,0,"","","","",{"$f":"IF(I983<>0,VLOOKUP(J983,A01A02!$A$3:$K$13,11,FALSE),\"\")","v":""},{"$f":"IF(I983<>0,VLOOKUP(J983,A01A02!A:J,10,0),\"\")","v":""}]
[null,0,"","","","",{"$f":"IF(B984<>0,VLOOKUP(C984,A01A02!$A$3:$K$13,11,FALSE),\"\")","v":""},null,0,"","","","",{"$f":"IF(I984<>0,VLOOKUP(J984,A01A02!$A$3:$K$13,11,FALSE),\"\")","v":""},{"$f":"IF(I984<>0,VLOOKUP(J984,A01A02!A:J,10,0),\"\")","v":""}]
[null,0,"","","","",{"$f":"IF(B985<>0,VLOOKUP(C985,A01A02!$A$3:$K$13,11,FALSE),\"\")","v":""},null,0,"","","","",{"$f":"IF(I985<>0,VLOOKUP(J985,A01A02!$A$3:$K$13,11,FALSE),\"\")","v":""},{"$f":"IF(I985<>0,VLOOKUP(J985,A01A02!A:J,10,0),\"\")","v":""}]
[null,0,"","","","",{"$f":"IF(B986<>0,VLOOKUP(C986,A01A02!$A$3:$K$13,11,FALSE),\"\")","v":""},null,0,"","","","",{"$f":"IF(I986<>0,VLOOKUP(J986,A01A02!$A$3:$K$13,11,FALSE),\"\")","v":""},{"$f":"IF(I986<>0,VLOOKUP(J986,A01A02!A:J,10,0),\"\")","v":""}]
[null,0,"","","","",{"$f":"IF(B987<>0,VLOOKUP(C987,A01A02!$A$3:$K$13,11,FALSE),\"\")","v":""},null,0,"","","","",{"$f":"IF(I987<>0,VLOOKUP(J987,A01A02!$A$3:$K$13,11,FALSE),\"\")","v":""},{"$f":"IF(I987<>0,VLOOKUP(J987,A01A02!A:J,10,0),\"\")","v":""}]
[null,0,"","","","",{"$f":"IF(B988<>0,VLOOKUP(C988,A01A02!$A$3:$K$13,11,FALSE),\"\")","v":""},null,0,"","","","",{"$f":"IF(I988<>0,VLOOKUP(J988,A01A02!$A$3:$K$13,11,FALSE),\"\")","v":""},{"$f":"IF(I988<>0,VLOOKUP(J988,A01A02!A:J,10,0),\"\")","v":""}]
[null,0,"","","","",{"$f":"IF(B989<>0,VLOOKUP(C989,A01A02!$A$3:$K$13,11,FALSE),\"\")","v":""},null,0,"","","","",{"$f":"IF(I989<>0,VLOOKUP(J989,A01A02!$A$3:$K$13,11,FALSE),\"\")","v":""},{"$f":"IF(I989<>0,VLOOKUP(J989,A01A02!A:J,10,0),\"\")","v":""}]
[null,0,"","","","",{"$f":"IF(B990<>0,VLOOKUP(C990,A01A02!$A$3:$K$13,11,FALSE),\"\")","v":""},null,0,"","","","",{"$f":"IF(I990<>0,VLOOKUP(J990,A01A02!$A$3:$K$13,11,FALSE),\"\")","v":""},{"$f":"IF(I990<>0,VLOOKUP(J990,A01A02!A:J,10,0),\"\")","v":""}]
[null,0,"","","","",{"$f":"IF(B991<>0,VLOOKUP(C991,A01A02!$A$3:$K$13,11,FALSE),\"\")","v":""},null,0,"","","","",{"$f":"IF(I991<>0,VLOOKUP(J991,A01A02!$A$3:$K$13,11,FALSE),\"\")","v":""},{"$f":"IF(I991<>0,VLOOKUP(J991,A01A02!A:J,10,0),\"\")","v":""}]
[null,0,"","","","",{"$f":"IF(B992<>0,VLOOKUP(C992,A01A02!$A$3:$K$13,11,FALSE),\"\")","v":""},null,0,"","","","",{"$f":"IF(I992<>0,VLOOKUP(J992,A01A02!$A$3:$K$13,11,FALSE),\"\")","v":""},{"$f":"IF(I992<>0,VLOOKUP(J992,A01A02!A:J,10,0),\"\")","v":""}]
[null,0,"","","","",{"$f":"IF(B993<>0,VLOOKUP(C993,A01A02!$A$3:$K$13,11,FALSE),\"\")","v":""},null,0,"","","","",{"$f":"IF(I993<>0,VLOOKUP(J993,A01A02!$A$3:$K$13,11,FALSE),\"\")","v":""},{"$f":"IF(I993<>0,VLOOKUP(J993,A01A02!A:J,10,0),\"\")","v":""}]
[null,0,"","","","",{"$f":"IF(B994<>0,VLOOKUP(C994,A01A02!$A$3:$K$13,11,FALSE),\"\")","v":""},null,0,"","","","",{"$f":"IF(I994<>0,VLOOKUP(J994,A01A02!$A$3:$K$13,11,FALSE),\"\")","v":""},{"$f":"IF(I994<>0,VLOOKUP(J994,A01A02!A:J,10,0),\"\")","v":""}]
[null,0,"","","","",{"$f":"IF(B995<>0,VLOOKUP(C995,A01A02!$A$3:$K$13,11,FALSE),\"\")","v":""},null,0,"","","","",{"$f":"IF(I995<>0,VLOOKUP(J995,A01A02!$A$3:$K$13,11,FALSE),\"\")","v":""},{"$f":"IF(I995<>0,VLOOKUP(J995,A01A02!A:J,10,0),\"\")","v":""}]
[null,0,"","","","",{"$f":"IF(B996<>0,VLOOKUP(C996,A01A02!$A$3:$K$13,11,FALSE),\"\")","v":""},null,0,"","","","",{"$f":"IF(I996<>0,VLOOKUP(J996,A01A02!$A$3:$K$13,11,FALSE),\"\")","v":""},{"$f":"IF(I996<>0,VLOOKUP(J996,A01A02!A:J,10,0),\"\")","v":""}]
[null,0,"",{"$f":"IF(B997<>0,znaget(B997),\"\")","v":""},{"$f":"IF(B997<>0,xget(B997),\"\")","v":""},{"$f":"IF(B997<>0,yget(B997),\"\")","v":""},{"$f":"IF(B997<>0,VLOOKUP(C997,A01A02!$A$3:$K$13,11,FALSE),\"\")","v":""},null,0,"",{"$f":"IF(I997<>0,znaget(I997),\"\")","v":""},{"$f":"IF(I997<>0,xget(I997),\"\")","v":""},{"$f":"IF(I997<>0,yget(I997),\"\")","v":""},{"$f":"IF(I997<>0,VLOOKUP(J997,A01A02!$A$3:$K$13,11,FALSE),\"\")","v":""},{"$f":"IF(I997<>0,VLOOKUP(J997,A01A02!A:J,10,0),\"\")","v":""}]
[null,0,"","","","",{"$f":"IF(B998<>0,VLOOKUP(C998,A01A02!$A$3:$K$13,11,FALSE),\"\")","v":""},null,0,"","","","",{"$f":"IF(I998<>0,VLOOKUP(J998,A01A02!$A$3:$K$13,11,FALSE),\"\")","v":""},{"$f":"IF(I998<>0,VLOOKUP(J998,A01A02!A:J,10,0),\"\")","v":""}]
[null,0,"","","","",{"$f":"IF(B999<>0,VLOOKUP(C999,A01A02!$A$3:$K$13,11,FALSE),\"\")","v":""},null,0,"","","","",{"$f":"IF(I999<>0,VLOOKUP(J999,A01A02!$A$3:$K$13,11,FALSE),\"\")","v":""},{"$f":"IF(I999<>0,VLOOKUP(J999,A01A02!A:J,10,0),\"\")","v":""}]
[null,0,"","","","",{"$f":"IF(B1000<>0,VLOOKUP(C1000,A01A02!$A$3:$K$13,11,FALSE),\"\")","v":""},null,0,"","","","",{"$f":"IF(I1000<>0,VLOOKUP(J1000,A01A02!$A$3:$K$13,11,FALSE),\"\")","v":""},{"$f":"IF(I1000<>0,VLOOKUP(J1000,A01A02!A:J,10,0),\"\")","v":""}]
[null,0,"","","","",{"$f":"IF(B1001<>0,VLOOKUP(C1001,A01A02!$A$3:$K$13,11,FALSE),\"\")","v":""},null,0,"","","","",{"$f":"IF(I1001<>0,VLOOKUP(J1001,A01A02!$A$3:$K$13,11,FALSE),\"\")","v":""},{"$f":"IF(I1001<>0,VLOOKUP(J1001,A01A02!A:J,10,0),\"\")","v":""}]
[null,0,{"$f":"IF(B1002<>0,znoget(B1002),\"\")","v":""},"","","",{"$f":"IF(B1002<>0,VLOOKUP(C1002,A01A02!$A$3:$K$13,11,FALSE),\"\")","v":""},null,{"$f":"IF(H1002<>\"\",xycall(H1002),0)","v":0},{"$f":"IF(I1002<>0,znoget(I1002),\"\")","v":""},"","","",{"$f":"IF(I1002<>0,VLOOKUP(J1002,A01A02!$A$3:$K$13,11,FALSE),\"\")","v":""},{"$f":"IF(I1002<>0,VLOOKUP(J1002,A01A02!A:J,10,0),\"\")","v":""}]
[null,0,{"$f":"IF(B1003<>0,znoget(B1003),\"\")","v":""},{"$f":"IF(B1003<>0,znaget(B1003),\"\")","v":""},{"$f":"IF(B1003<>0,xget(B1003),\"\")","v":""},{"$f":"IF(B1003<>0,yget(B1003),\"\")","v":""},{"$f":"IF(B1003<>0,VLOOKUP(C1003,A01A02!$A$3:$K$13,11,FALSE),\"\")","v":""},null,{"$f":"IF(H1003<>\"\",xycall(H1003),0)","v":0},{"$f":"IF(I1003<>0,znoget(I1003),\"\")","v":""},{"$f":"IF(I1003<>0,znaget(I1003),\"\")","v":""},{"$f":"IF(I1003<>0,xget(I1003),\"\")","v":""},{"$f":"IF(I1003<>0,yget(I1003),\"\")","v":""},{"$f":"IF(I1003<>0,VLOOKUP(J1003,A01A02!$A$3:$K$13,11,FALSE),\"\")","v":""},{"$f":"IF(I1003<>0,VLOOKUP(J1003,A01A02!A:J,10,0),\"\")","v":""}]
[null,{"$f":"IF(A1004<>\"\",xycall(A1004),0)","v":0},"","","","",{"$f":"IF(B1004<>0,VLOOKUP(C1004,A01A02!$A$3:$K$13,11,FALSE),\"\")","v":""},null,0,"","","","",{"$f":"IF(I1004<>0,VLOOKUP(J1004,A01A02!$A$3:$K$13,11,FALSE),\"\")","v":""},{"$f":"IF(I1004<>0,VLOOKUP(J1004,A01A02!A:J,10,0),\"\")","v":""}]
[null,0,"","","","",{"$f":"IF(B1005<>0,VLOOKUP(C1005,A01A02!$A$3:$K$13,11,FALSE),\"\")","v":""},null,0,"","","","",{"$f":"IF(I1005<>0,VLOOKUP(J1005,A01A02!$A$3:$K$13,11,FALSE),\"\")","v":""},{"$f":"IF(I1005<>0,VLOOKUP(J1005,A01A02!A:J,10,0),\"\")","v":""}]
[null,0,"","","","",{"$f":"IF(B1006<>0,VLOOKUP(C1006,A01A02!$A$3:$K$13,11,FALSE),\"\")","v":""},null,0,"","","","",{"$f":"IF(I1006<>0,VLOOKUP(J1006,A01A02!$A$3:$K$13,11,FALSE),\"\")","v":""},{"$f":"IF(I1006<>0,VLOOKUP(J1006,A01A02!A:J,10,0),\"\")","v":""}]
[null,0,"","","","",{"$f":"IF(B1007<>0,VLOOKUP(C1007,A01A02!$A$3:$K$13,11,FALSE),\"\")","v":""},null,0,"","","","",{"$f":"IF(I1007<>0,VLOOKUP(J1007,A01A02!$A$3:$K$13,11,FALSE),\"\")","v":""},{"$f":"IF(I1007<>0,VLOOKUP(J1007,A01A02!A:J,10,0),\"\")","v":""}]
[null,0,"","","","",{"$f":"IF(B1008<>0,VLOOKUP(C1008,A01A02!$A$3:$K$13,11,FALSE),\"\")","v":""},null,0,"","","","",{"$f":"IF(I1008<>0,VLOOKUP(J1008,A01A02!$A$3:$K$13,11,FALSE),\"\")","v":""},{"$f":"IF(I1008<>0,VLOOKUP(J1008,A01A02!A:J,10,0),\"\")","v":""}]
[null,0,"","","","",{"$f":"IF(B1009<>0,VLOOKUP(C1009,A01A02!$A$3:$K$13,11,FALSE),\"\")","v":""},null,0,"","","","",{"$f":"IF(I1009<>0,VLOOKUP(J1009,A01A02!$A$3:$K$13,11,FALSE),\"\")","v":""},{"$f":"IF(I1009<>0,VLOOKUP(J1009,A01A02!A:J,10,0),\"\")","v":""}]
[null,0,"","","","",{"$f":"IF(B1010<>0,VLOOKUP(C1010,A01A02!$A$3:$K$13,11,FALSE),\"\")","v":""},null,0,"","","","",{"$f":"IF(I1010<>0,VLOOKUP(J1010,A01A02!$A$3:$K$13,11,FALSE),\"\")","v":""},{"$f":"IF(I1010<>0,VLOOKUP(J1010,A01A02!A:J,10,0),\"\")","v":""}]
[null,0,"","","","",{"$f":"IF(B1011<>0,VLOOKUP(C1011,A01A02!$A$3:$K$13,11,FALSE),\"\")","v":""},null,0,"","","","",{"$f":"IF(I1011<>0,VLOOKUP(J1011,A01A02!$A$3:$K$13,11,FALSE),\"\")","v":""},{"$f":"IF(I1011<>0,VLOOKUP(J1011,A01A02!A:J,10,0),\"\")","v":""}]
[null,0,"","","","",{"$f":"IF(B1012<>0,VLOOKUP(C1012,A01A02!$A$3:$K$13,11,FALSE),\"\")","v":""},null,0,"","","","",{"$f":"IF(I1012<>0,VLOOKUP(J1012,A01A02!$A$3:$K$13,11,FALSE),\"\")","v":""},{"$f":"IF(I1012<>0,VLOOKUP(J1012,A01A02!A:J,10,0),\"\")","v":""}]
[null,0,"","","","",{"$f":"IF(B1013<>0,VLOOKUP(C1013,A01A02!$A$3:$K$13,11,FALSE),\"\")","v":""},null,0,"","","","",{"$f":"IF(I1013<>0,VLOOKUP(J1013,A01A02!$A$3:$K$13,11,FALSE),\"\")","v":""},{"$f":"IF(I1013<>0,VLOOKUP(J1013,A01A02!A:J,10,0),\"\")","v":""}]
[null,0,"","","","",{"$f":"IF(B1014<>0,VLOOKUP(C1014,A01A02!$A$3:$K$13,11,FALSE),\"\")","v":""},null,0,"","","","",{"$f":"IF(I1014<>0,VLOOKUP(J1014,A01A02!$A$3:$K$13,11,FALSE),\"\")","v":""},{"$f":"IF(I1014<>0,VLOOKUP(J1014,A01A02!A:J,10,0),\"\")","v":""}]
[null,0,"","","","",{"$f":"IF(B1015<>0,VLOOKUP(C1015,A01A02!$A$3:$K$13,11,FALSE),\"\")","v":""},null,0,"","","","",{"$f":"IF(I1015<>0,VLOOKUP(J1015,A01A02!$A$3:$K$13,11,FALSE),\"\")","v":""},{"$f":"IF(I1015<>0,VLOOKUP(J1015,A01A02!A:J,10,0),\"\")","v":""}]
[null,0,"","","","",{"$f":"IF(B1016<>0,VLOOKUP(C1016,A01A02!$A$3:$K$13,11,FALSE),\"\")","v":""},null,0,"","","","",{"$f":"IF(I1016<>0,VLOOKUP(J1016,A01A02!$A$3:$K$13,11,FALSE),\"\")","v":""},{"$f":"IF(I1016<>0,VLOOKUP(J1016,A01A02!A:J,10,0),\"\")","v":""}]
[null,0,"","","","",{"$f":"IF(B1017<>0,VLOOKUP(C1017,A01A02!$A$3:$K$13,11,FALSE),\"\")","v":""},null,0,"","","","",{"$f":"IF(I1017<>0,VLOOKUP(J1017,A01A02!$A$3:$K$13,11,FALSE),\"\")","v":""},{"$f":"IF(I1017<>0,VLOOKUP(J1017,A01A02!A:J,10,0),\"\")","v":""}]
[null,0,"","","","",{"$f":"IF(B1018<>0,VLOOKUP(C1018,A01A02!$A$3:$K$13,11,FALSE),\"\")","v":""},null,0,"","","","",{"$f":"IF(I1018<>0,VLOOKUP(J1018,A01A02!$A$3:$K$13,11,FALSE),\"\")","v":""},{"$f":"IF(I1018<>0,VLOOKUP(J1018,A01A02!A:J,10,0),\"\")","v":""}]
[null,0,"","","","",{"$f":"IF(B1019<>0,VLOOKUP(C1019,A01A02!$A$3:$K$13,11,FALSE),\"\")","v":""},null,0,"","","","",{"$f":"IF(I1019<>0,VLOOKUP(J1019,A01A02!$A$3:$K$13,11,FALSE),\"\")","v":""},{"$f":"IF(I1019<>0,VLOOKUP(J1019,A01A02!A:J,10,0),\"\")","v":""}]
[null,0,"","","","",{"$f":"IF(B1020<>0,VLOOKUP(C1020,A01A02!$A$3:$K$13,11,FALSE),\"\")","v":""},null,0,"","","","",{"$f":"IF(I1020<>0,VLOOKUP(J1020,A01A02!$A$3:$K$13,11,FALSE),\"\")","v":""},{"$f":"IF(I1020<>0,VLOOKUP(J1020,A01A02!A:J,10,0),\"\")","v":""}]
[null,0,"","","","",{"$f":"IF(B1021<>0,VLOOKUP(C1021,A01A02!$A$3:$K$13,11,FALSE),\"\")","v":""},null,0,"","","","",{"$f":"IF(I1021<>0,VLOOKUP(J1021,A01A02!$A$3:$K$13,11,FALSE),\"\")","v":""},{"$f":"IF(I1021<>0,VLOOKUP(J1021,A01A02!A:J,10,0),\"\")","v":""}]
[null,0,"","","","",{"$f":"IF(B1022<>0,VLOOKUP(C1022,A01A02!$A$3:$K$13,11,FALSE),\"\")","v":""},null,0,"","","","",{"$f":"IF(I1022<>0,VLOOKUP(J1022,A01A02!$A$3:$K$13,11,FALSE),\"\")","v":""},{"$f":"IF(I1022<>0,VLOOKUP(J1022,A01A02!A:J,10,0),\"\")","v":""}]
[null,0,"","","","",{"$f":"IF(B1023<>0,VLOOKUP(C1023,A01A02!$A$3:$K$13,11,FALSE),\"\")","v":""},null,0,"","","","",{"$f":"IF(I1023<>0,VLOOKUP(J1023,A01A02!$A$3:$K$13,11,FALSE),\"\")","v":""},{"$f":"IF(I1023<>0,VLOOKUP(J1023,A01A02!A:J,10,0),\"\")","v":""}]
[null,0,"","","","",{"$f":"IF(B1024<>0,VLOOKUP(C1024,A01A02!$A$3:$K$13,11,FALSE),\"\")","v":""},null,0,"","","","",{"$f":"IF(I1024<>0,VLOOKUP(J1024,A01A02!$A$3:$K$13,11,FALSE),\"\")","v":""},{"$f":"IF(I1024<>0,VLOOKUP(J1024,A01A02!A:J,10,0),\"\")","v":""}]
[null,0,"","","","",{"$f":"IF(B1025<>0,VLOOKUP(C1025,A01A02!$A$3:$K$13,11,FALSE),\"\")","v":""},null,0,"","","","",{"$f":"IF(I1025<>0,VLOOKUP(J1025,A01A02!$A$3:$K$13,11,FALSE),\"\")","v":""},{"$f":"IF(I1025<>0,VLOOKUP(J1025,A01A02!A:J,10,0),\"\")","v":""}]
[null,0,"","","","",{"$f":"IF(B1026<>0,VLOOKUP(C1026,A01A02!$A$3:$K$13,11,FALSE),\"\")","v":""},null,0,"","","","",{"$f":"IF(I1026<>0,VLOOKUP(J1026,A01A02!$A$3:$K$13,11,FALSE),\"\")","v":""},{"$f":"IF(I1026<>0,VLOOKUP(J1026,A01A02!A:J,10,0),\"\")","v":""}]
[null,{"$f":"IF(A1027<>\"\",xycall(A1027),0)","v":0},"","","","",{"$f":"IF(B1027<>0,VLOOKUP(C1027,A01A02!$A$3:$K$13,11,FALSE),\"\")","v":""},null,0,"","","","",{"$f":"IF(I1027<>0,VLOOKUP(J1027,A01A02!$A$3:$K$13,11,FALSE),\"\")","v":""},{"$f":"IF(I1027<>0,VLOOKUP(J1027,A01A02!A:J,10,0),\"\")","v":""}]
[null,0,"","","","",{"$f":"IF(B1028<>0,VLOOKUP(C1028,A01A02!$A$3:$K$13,11,FALSE),\"\")","v":""},null,0,"","","","",{"$f":"IF(I1028<>0,VLOOKUP(J1028,A01A02!$A$3:$K$13,11,FALSE),\"\")","v":""},{"$f":"IF(I1028<>0,VLOOKUP(J1028,A01A02!A:J,10,0),\"\")","v":""}]
[null,0,"","","","",{"$f":"IF(B1029<>0,VLOOKUP(C1029,A01A02!$A$3:$K$13,11,FALSE),\"\")","v":""},null,0,"","","","",{"$f":"IF(I1029<>0,VLOOKUP(J1029,A01A02!$A$3:$K$13,11,FALSE),\"\")","v":""},{"$f":"IF(I1029<>0,VLOOKUP(J1029,A01A02!A:J,10,0),\"\")","v":""}]
[null,0,"","","","",{"$f":"IF(B1030<>0,VLOOKUP(C1030,A01A02!$A$3:$K$13,11,FALSE),\"\")","v":""},null,0,"","","","",{"$f":"IF(I1030<>0,VLOOKUP(J1030,A01A02!$A$3:$K$13,11,FALSE),\"\")","v":""},{"$f":"IF(I1030<>0,VLOOKUP(J1030,A01A02!A:J,10,0),\"\")","v":""}]
[null,0,"","","","",{"$f":"IF(B1031<>0,VLOOKUP(C1031,A01A02!$A$3:$K$13,11,FALSE),\"\")","v":""},null,0,"","","","",{"$f":"IF(I1031<>0,VLOOKUP(J1031,A01A02!$A$3:$K$13,11,FALSE),\"\")","v":""},{"$f":"IF(I1031<>0,VLOOKUP(J1031,A01A02!A:J,10,0),\"\")","v":""}]
[null,0,"","","","",{"$f":"IF(B1032<>0,VLOOKUP(C1032,A01A02!$A$3:$K$13,11,FALSE),\"\")","v":""},null,0,"","","","",{"$f":"IF(I1032<>0,VLOOKUP(J1032,A01A02!$A$3:$K$13,11,FALSE),\"\")","v":""},{"$f":"IF(I1032<>0,VLOOKUP(J1032,A01A02!A:J,10,0),\"\")","v":""}]
[null,0,"","","","",{"$f":"IF(B1033<>0,VLOOKUP(C1033,A01A02!$A$3:$K$13,11,FALSE),\"\")","v":""},null,0,"","","","",{"$f":"IF(I1033<>0,VLOOKUP(J1033,A01A02!$A$3:$K$13,11,FALSE),\"\")","v":""},{"$f":"IF(I1033<>0,VLOOKUP(J1033,A01A02!A:J,10,0),\"\")","v":""}]
[null,0,"","","","",{"$f":"IF(B1034<>0,VLOOKUP(C1034,A01A02!$A$3:$K$13,11,FALSE),\"\")","v":""},null,0,"","","","",{"$f":"IF(I1034<>0,VLOOKUP(J1034,A01A02!$A$3:$K$13,11,FALSE),\"\")","v":""},{"$f":"IF(I1034<>0,VLOOKUP(J1034,A01A02!A:J,10,0),\"\")","v":""}]
[null,0,"","","","",{"$f":"IF(B1035<>0,VLOOKUP(C1035,A01A02!$A$3:$K$13,11,FALSE),\"\")","v":""},null,0,"","","","",{"$f":"IF(I1035<>0,VLOOKUP(J1035,A01A02!$A$3:$K$13,11,FALSE),\"\")","v":""},{"$f":"IF(I1035<>0,VLOOKUP(J1035,A01A02!A:J,10,0),\"\")","v":""}]
[null,0,"","","","",{"$f":"IF(B1036<>0,VLOOKUP(C1036,A01A02!$A$3:$K$13,11,FALSE),\"\")","v":""},null,0,"","","","",{"$f":"IF(I1036<>0,VLOOKUP(J1036,A01A02!$A$3:$K$13,11,FALSE),\"\")","v":""},{"$f":"IF(I1036<>0,VLOOKUP(J1036,A01A02!A:J,10,0),\"\")","v":""}]
[null,0,"","","","",{"$f":"IF(B1037<>0,VLOOKUP(C1037,A01A02!$A$3:$K$13,11,FALSE),\"\")","v":""},null,0,"","","","",{"$f":"IF(I1037<>0,VLOOKUP(J1037,A01A02!$A$3:$K$13,11,FALSE),\"\")","v":""},{"$f":"IF(I1037<>0,VLOOKUP(J1037,A01A02!A:J,10,0),\"\")","v":""}]
[null,0,"","","","",{"$f":"IF(B1038<>0,VLOOKUP(C1038,A01A02!$A$3:$K$13,11,FALSE),\"\")","v":""},null,0,"","","","",{"$f":"IF(I1038<>0,VLOOKUP(J1038,A01A02!$A$3:$K$13,11,FALSE),\"\")","v":""},{"$f":"IF(I1038<>0,VLOOKUP(J1038,A01A02!A:J,10,0),\"\")","v":""}]
[null,0,"","","","",{"$f":"IF(B1039<>0,VLOOKUP(C1039,A01A02!$A$3:$K$13,11,FALSE),\"\")","v":""},null,0,"","","","",{"$f":"IF(I1039<>0,VLOOKUP(J1039,A01A02!$A$3:$K$13,11,FALSE),\"\")","v":""},{"$f":"IF(I1039<>0,VLOOKUP(J1039,A01A02!A:J,10,0),\"\")","v":""}]
[null,0,"","","","",{"$f":"IF(B1040<>0,VLOOKUP(C1040,A01A02!$A$3:$K$13,11,FALSE),\"\")","v":""},null,0,"","","","",{"$f":"IF(I1040<>0,VLOOKUP(J1040,A01A02!$A$3:$K$13,11,FALSE),\"\")","v":""},{"$f":"IF(I1040<>0,VLOOKUP(J1040,A01A02!A:J,10,0),\"\")","v":""}]
[null,0,"","","","",{"$f":"IF(B1041<>0,VLOOKUP(C1041,A01A02!$A$3:$K$13,11,FALSE),\"\")","v":""},null,0,"","","","",{"$f":"IF(I1041<>0,VLOOKUP(J1041,A01A02!$A$3:$K$13,11,FALSE),\"\")","v":""},{"$f":"IF(I1041<>0,VLOOKUP(J1041,A01A02!A:J,10,0),\"\")","v":""}]
[null,0,"","","","",{"$f":"IF(B1042<>0,VLOOKUP(C1042,A01A02!$A$3:$K$13,11,FALSE),\"\")","v":""},null,0,"","","","",{"$f":"IF(I1042<>0,VLOOKUP(J1042,A01A02!$A$3:$K$13,11,FALSE),\"\")","v":""},{"$f":"IF(I1042<>0,VLOOKUP(J1042,A01A02!A:J,10,0),\"\")","v":""}]
[null,0,"","","","",{"$f":"IF(B1043<>0,VLOOKUP(C1043,A01A02!$A$3:$K$13,11,FALSE),\"\")","v":""},null,0,"","","","",{"$f":"IF(I1043<>0,VLOOKUP(J1043,A01A02!$A$3:$K$13,11,FALSE),\"\")","v":""},{"$f":"IF(I1043<>0,VLOOKUP(J1043,A01A02!A:J,10,0),\"\")","v":""}]
[null,0,"","","","",{"$f":"IF(B1044<>0,VLOOKUP(C1044,A01A02!$A$3:$K$13,11,FALSE),\"\")","v":""},null,0,"","","","",{"$f":"IF(I1044<>0,VLOOKUP(J1044,A01A02!$A$3:$K$13,11,FALSE),\"\")","v":""},{"$f":"IF(I1044<>0,VLOOKUP(J1044,A01A02!A:J,10,0),\"\")","v":""}]
[null,0,"","","","",{"$f":"IF(B1045<>0,VLOOKUP(C1045,A01A02!$A$3:$K$13,11,FALSE),\"\")","v":""},null,0,"","","","",{"$f":"IF(I1045<>0,VLOOKUP(J1045,A01A02!$A$3:$K$13,11,FALSE),\"\")","v":""},{"$f":"IF(I1045<>0,VLOOKUP(J1045,A01A02!A:J,10,0),\"\")","v":""}]
[null,0,"","","","",{"$f":"IF(B1046<>0,VLOOKUP(C1046,A01A02!$A$3:$K$13,11,FALSE),\"\")","v":""},null,0,"","","","",{"$f":"IF(I1046<>0,VLOOKUP(J1046,A01A02!$A$3:$K$13,11,FALSE),\"\")","v":""},{"$f":"IF(I1046<>0,VLOOKUP(J1046,A01A02!A:J,10,0),\"\")","v":""}]
[null,0,"","","","",{"$f":"IF(B1047<>0,VLOOKUP(C1047,A01A02!$A$3:$K$13,11,FALSE),\"\")","v":""},null,0,"","","","",{"$f":"IF(I1047<>0,VLOOKUP(J1047,A01A02!$A$3:$K$13,11,FALSE),\"\")","v":""},{"$f":"IF(I1047<>0,VLOOKUP(J1047,A01A02!A:J,10,0),\"\")","v":""}]
[null,0,"","","","",{"$f":"IF(B1048<>0,VLOOKUP(C1048,A01A02!$A$3:$K$13,11,FALSE),\"\")","v":""},null,0,"","","","",{"$f":"IF(I1048<>0,VLOOKUP(J1048,A01A02!$A$3:$K$13,11,FALSE),\"\")","v":""},{"$f":"IF(I1048<>0,VLOOKUP(J1048,A01A02!A:J,10,0),\"\")","v":""}]
[null,0,"","","","",{"$f":"IF(B1049<>0,VLOOKUP(C1049,A01A02!$A$3:$K$13,11,FALSE),\"\")","v":""},null,0,"","","","",{"$f":"IF(I1049<>0,VLOOKUP(J1049,A01A02!$A$3:$K$13,11,FALSE),\"\")","v":""},{"$f":"IF(I1049<>0,VLOOKUP(J1049,A01A02!A:J,10,0),\"\")","v":""}]
[null,0,"","","","",{"$f":"IF(B1050<>0,VLOOKUP(C1050,A01A02!$A$3:$K$13,11,FALSE),\"\")","v":""},null,0,"","","","",{"$f":"IF(I1050<>0,VLOOKUP(J1050,A01A02!$A$3:$K$13,11,FALSE),\"\")","v":""},{"$f":"IF(I1050<>0,VLOOKUP(J1050,A01A02!A:J,10,0),\"\")","v":""}]
[null,0,"","","","",{"$f":"IF(B1051<>0,VLOOKUP(C1051,A01A02!$A$3:$K$13,11,FALSE),\"\")","v":""},null,0,"","","","",{"$f":"IF(I1051<>0,VLOOKUP(J1051,A01A02!$A$3:$K$13,11,FALSE),\"\")","v":""},{"$f":"IF(I1051<>0,VLOOKUP(J1051,A01A02!A:J,10,0),\"\")","v":""}]
[null,0,"","","","",{"$f":"IF(B1052<>0,VLOOKUP(C1052,A01A02!$A$3:$K$13,11,FALSE),\"\")","v":""},null,0,"","","","",{"$f":"IF(I1052<>0,VLOOKUP(J1052,A01A02!$A$3:$K$13,11,FALSE),\"\")","v":""},{"$f":"IF(I1052<>0,VLOOKUP(J1052,A01A02!A:J,10,0),\"\")","v":""}]
[null,0,"","","","",{"$f":"IF(B1053<>0,VLOOKUP(C1053,A01A02!$A$3:$K$13,11,FALSE),\"\")","v":""},null,0,"","","","",{"$f":"IF(I1053<>0,VLOOKUP(J1053,A01A02!$A$3:$K$13,11,FALSE),\"\")","v":""},{"$f":"IF(I1053<>0,VLOOKUP(J1053,A01A02!A:J,10,0),\"\")","v":""}]
[null,0,"","","","",{"$f":"IF(B1054<>0,VLOOKUP(C1054,A01A02!$A$3:$K$13,11,FALSE),\"\")","v":""},null,0,"","","","",{"$f":"IF(I1054<>0,VLOOKUP(J1054,A01A02!$A$3:$K$13,11,FALSE),\"\")","v":""},{"$f":"IF(I1054<>0,VLOOKUP(J1054,A01A02!A:J,10,0),\"\")","v":""}]
[null,0,"","","","",{"$f":"IF(B1055<>0,VLOOKUP(C1055,A01A02!$A$3:$K$13,11,FALSE),\"\")","v":""},null,0,"","","","",{"$f":"IF(I1055<>0,VLOOKUP(J1055,A01A02!$A$3:$K$13,11,FALSE),\"\")","v":""},{"$f":"IF(I1055<>0,VLOOKUP(J1055,A01A02!A:J,10,0),\"\")","v":""}]
[null,0,"","","","",{"$f":"IF(B1056<>0,VLOOKUP(C1056,A01A02!$A$3:$K$13,11,FALSE),\"\")","v":""},null,0,"","","","",{"$f":"IF(I1056<>0,VLOOKUP(J1056,A01A02!$A$3:$K$13,11,FALSE),\"\")","v":""},{"$f":"IF(I1056<>0,VLOOKUP(J1056,A01A02!A:J,10,0),\"\")","v":""}]
[null,0,"","","","",{"$f":"IF(B1057<>0,VLOOKUP(C1057,A01A02!$A$3:$K$13,11,FALSE),\"\")","v":""},null,0,"","","","",{"$f":"IF(I1057<>0,VLOOKUP(J1057,A01A02!$A$3:$K$13,11,FALSE),\"\")","v":""},{"$f":"IF(I1057<>0,VLOOKUP(J1057,A01A02!A:J,10,0),\"\")","v":""}]
[null,0,"","","","",{"$f":"IF(B1058<>0,VLOOKUP(C1058,A01A02!$A$3:$K$13,11,FALSE),\"\")","v":""},null,0,"","","","",{"$f":"IF(I1058<>0,VLOOKUP(J1058,A01A02!$A$3:$K$13,11,FALSE),\"\")","v":""},{"$f":"IF(I1058<>0,VLOOKUP(J1058,A01A02!A:J,10,0),\"\")","v":""}]
[null,0,"","","","",{"$f":"IF(B1059<>0,VLOOKUP(C1059,A01A02!$A$3:$K$13,11,FALSE),\"\")","v":""},null,0,"","","","",{"$f":"IF(I1059<>0,VLOOKUP(J1059,A01A02!$A$3:$K$13,11,FALSE),\"\")","v":""},{"$f":"IF(I1059<>0,VLOOKUP(J1059,A01A02!A:J,10,0),\"\")","v":""}]
[null,0,"","","","",{"$f":"IF(B1060<>0,VLOOKUP(C1060,A01A02!$A$3:$K$13,11,FALSE),\"\")","v":""},null,0,"","","","",{"$f":"IF(I1060<>0,VLOOKUP(J1060,A01A02!$A$3:$K$13,11,FALSE),\"\")","v":""},{"$f":"IF(I1060<>0,VLOOKUP(J1060,A01A02!A:J,10,0),\"\")","v":""}]
[null,0,"","","","",{"$f":"IF(B1061<>0,VLOOKUP(C1061,A01A02!$A$3:$K$13,11,FALSE),\"\")","v":""},null,0,"","","","",{"$f":"IF(I1061<>0,VLOOKUP(J1061,A01A02!$A$3:$K$13,11,FALSE),\"\")","v":""},{"$f":"IF(I1061<>0,VLOOKUP(J1061,A01A02!A:J,10,0),\"\")","v":""}]
[null,0,"","","","",{"$f":"IF(B1062<>0,VLOOKUP(C1062,A01A02!$A$3:$K$13,11,FALSE),\"\")","v":""},null,0,"","","","",{"$f":"IF(I1062<>0,VLOOKUP(J1062,A01A02!$A$3:$K$13,11,FALSE),\"\")","v":""},{"$f":"IF(I1062<>0,VLOOKUP(J1062,A01A02!A:J,10,0),\"\")","v":""}]
[null,0,"","","","",{"$f":"IF(B1063<>0,VLOOKUP(C1063,A01A02!$A$3:$K$13,11,FALSE),\"\")","v":""},null,0,"","","","",{"$f":"IF(I1063<>0,VLOOKUP(J1063,A01A02!$A$3:$K$13,11,FALSE),\"\")","v":""},{"$f":"IF(I1063<>0,VLOOKUP(J1063,A01A02!A:J,10,0),\"\")","v":""}]
[null,0,"","","","",{"$f":"IF(B1064<>0,VLOOKUP(C1064,A01A02!$A$3:$K$13,11,FALSE),\"\")","v":""},null,0,"","","","",{"$f":"IF(I1064<>0,VLOOKUP(J1064,A01A02!$A$3:$K$13,11,FALSE),\"\")","v":""},{"$f":"IF(I1064<>0,VLOOKUP(J1064,A01A02!A:J,10,0),\"\")","v":""}]
[null,0,"","","","",{"$f":"IF(B1065<>0,VLOOKUP(C1065,A01A02!$A$3:$K$13,11,FALSE),\"\")","v":""},null,0,"","","","",{"$f":"IF(I1065<>0,VLOOKUP(J1065,A01A02!$A$3:$K$13,11,FALSE),\"\")","v":""},{"$f":"IF(I1065<>0,VLOOKUP(J1065,A01A02!A:J,10,0),\"\")","v":""}]
[null,0,"","","","",{"$f":"IF(B1066<>0,VLOOKUP(C1066,A01A02!$A$3:$K$13,11,FALSE),\"\")","v":""},null,0,"","","","",{"$f":"IF(I1066<>0,VLOOKUP(J1066,A01A02!$A$3:$K$13,11,FALSE),\"\")","v":""},{"$f":"IF(I1066<>0,VLOOKUP(J1066,A01A02!A:J,10,0),\"\")","v":""}]
[null,0,{"$f":"IF(B1067<>0,znoget(B1067),\"\")","v":""},{"$f":"IF(B1067<>0,znaget(B1067),\"\")","v":""},{"$f":"IF(B1067<>0,xget(B1067),\"\")","v":""},{"$f":"IF(B1067<>0,yget(B1067),\"\")","v":""},{"$f":"IF(B1067<>0,VLOOKUP(C1067,A01A02!$A$3:$K$13,11,FALSE),\"\")","v":""},null,{"$f":"IF(H1067<>\"\",xycall(H1067),0)","v":0},{"$f":"IF(I1067<>0,znoget(I1067),\"\")","v":""},{"$f":"IF(I1067<>0,znaget(I1067),\"\")","v":""},{"$f":"IF(I1067<>0,xget(I1067),\"\")","v":""},{"$f":"IF(I1067<>0,yget(I1067),\"\")","v":""},{"$f":"IF(I1067<>0,VLOOKUP(J1067,A01A02!$A$3:$K$13,11,FALSE),\"\")","v":""},{"$f":"IF(I1067<>0,VLOOKUP(J1067,A01A02!A:J,10,0),\"\")","v":""}]
[null,0,"","","","",{"$f":"IF(B1068<>0,VLOOKUP(C1068,A01A02!$A$3:$K$13,11,FALSE),\"\")","v":""},null,0,"","","","",{"$f":"IF(I1068<>0,VLOOKUP(J1068,A01A02!$A$3:$K$13,11,FALSE),\"\")","v":""},{"$f":"IF(I1068<>0,VLOOKUP(J1068,A01A02!A:J,10,0),\"\")","v":""}]
[null,0,"","","","",{"$f":"IF(B1069<>0,VLOOKUP(C1069,A01A02!$A$3:$K$13,11,FALSE),\"\")","v":""},null,0,"","","","",{"$f":"IF(I1069<>0,VLOOKUP(J1069,A01A02!$A$3:$K$13,11,FALSE),\"\")","v":""},{"$f":"IF(I1069<>0,VLOOKUP(J1069,A01A02!A:J,10,0),\"\")","v":""}]
[null,0,"","","","",{"$f":"IF(B1070<>0,VLOOKUP(C1070,A01A02!$A$3:$K$13,11,FALSE),\"\")","v":""},null,0,"","","","",{"$f":"IF(I1070<>0,VLOOKUP(J1070,A01A02!$A$3:$K$13,11,FALSE),\"\")","v":""},{"$f":"IF(I1070<>0,VLOOKUP(J1070,A01A02!A:J,10,0),\"\")","v":""}]
[null,0,"","","","",{"$f":"IF(B1071<>0,VLOOKUP(C1071,A01A02!$A$3:$K$13,11,FALSE),\"\")","v":""},null,0,"","","","",{"$f":"IF(I1071<>0,VLOOKUP(J1071,A01A02!$A$3:$K$13,11,FALSE),\"\")","v":""},{"$f":"IF(I1071<>0,VLOOKUP(J1071,A01A02!A:J,10,0),\"\")","v":""}]
[null,0,"","","","",{"$f":"IF(B1072<>0,VLOOKUP(C1072,A01A02!$A$3:$K$13,11,FALSE),\"\")","v":""},null,0,"","","","",{"$f":"IF(I1072<>0,VLOOKUP(J1072,A01A02!$A$3:$K$13,11,FALSE),\"\")","v":""},{"$f":"IF(I1072<>0,VLOOKUP(J1072,A01A02!A:J,10,0),\"\")","v":""}]
[null,0,"","","","",{"$f":"IF(B1073<>0,VLOOKUP(C1073,A01A02!$A$3:$K$13,11,FALSE),\"\")","v":""},null,0,"","","","",{"$f":"IF(I1073<>0,VLOOKUP(J1073,A01A02!$A$3:$K$13,11,FALSE),\"\")","v":""},{"$f":"IF(I1073<>0,VLOOKUP(J1073,A01A02!A:J,10,0),\"\")","v":""}]
[null,0,"","","","",{"$f":"IF(B1074<>0,VLOOKUP(C1074,A01A02!$A$3:$K$13,11,FALSE),\"\")","v":""},null,0,"","","","",{"$f":"IF(I1074<>0,VLOOKUP(J1074,A01A02!$A$3:$K$13,11,FALSE),\"\")","v":""},{"$f":"IF(I1074<>0,VLOOKUP(J1074,A01A02!A:J,10,0),\"\")","v":""}]
[null,0,"","","","",{"$f":"IF(B1075<>0,VLOOKUP(C1075,A01A02!$A$3:$K$13,11,FALSE),\"\")","v":""},null,0,"","","","",{"$f":"IF(I1075<>0,VLOOKUP(J1075,A01A02!$A$3:$K$13,11,FALSE),\"\")","v":""},{"$f":"IF(I1075<>0,VLOOKUP(J1075,A01A02!A:J,10,0),\"\")","v":""}]
[null,0,"","","","",{"$f":"IF(B1076<>0,VLOOKUP(C1076,A01A02!$A$3:$K$13,11,FALSE),\"\")","v":""},null,0,"","","","",{"$f":"IF(I1076<>0,VLOOKUP(J1076,A01A02!$A$3:$K$13,11,FALSE),\"\")","v":""},{"$f":"IF(I1076<>0,VLOOKUP(J1076,A01A02!A:J,10,0),\"\")","v":""}]
[null,0,"","","","",{"$f":"IF(B1077<>0,VLOOKUP(C1077,A01A02!$A$3:$K$13,11,FALSE),\"\")","v":""},null,0,"","","","",{"$f":"IF(I1077<>0,VLOOKUP(J1077,A01A02!$A$3:$K$13,11,FALSE),\"\")","v":""},{"$f":"IF(I1077<>0,VLOOKUP(J1077,A01A02!A:J,10,0),\"\")","v":""}]
[null,0,"","","","",{"$f":"IF(B1078<>0,VLOOKUP(C1078,A01A02!$A$3:$K$13,11,FALSE),\"\")","v":""},null,0,"","","","",{"$f":"IF(I1078<>0,VLOOKUP(J1078,A01A02!$A$3:$K$13,11,FALSE),\"\")","v":""},{"$f":"IF(I1078<>0,VLOOKUP(J1078,A01A02!A:J,10,0),\"\")","v":""}]
[null,0,"","","","",{"$f":"IF(B1079<>0,VLOOKUP(C1079,A01A02!$A$3:$K$13,11,FALSE),\"\")","v":""},null,0,"","","","",{"$f":"IF(I1079<>0,VLOOKUP(J1079,A01A02!$A$3:$K$13,11,FALSE),\"\")","v":""},{"$f":"IF(I1079<>0,VLOOKUP(J1079,A01A02!A:J,10,0),\"\")","v":""}]
[null,0,"","","","",{"$f":"IF(B1080<>0,VLOOKUP(C1080,A01A02!$A$3:$K$13,11,FALSE),\"\")","v":""},null,0,"","","","",{"$f":"IF(I1080<>0,VLOOKUP(J1080,A01A02!$A$3:$K$13,11,FALSE),\"\")","v":""},{"$f":"IF(I1080<>0,VLOOKUP(J1080,A01A02!A:J,10,0),\"\")","v":""}]
[null,0,"","","","",{"$f":"IF(B1081<>0,VLOOKUP(C1081,A01A02!$A$3:$K$13,11,FALSE),\"\")","v":""},null,0,"","","","",{"$f":"IF(I1081<>0,VLOOKUP(J1081,A01A02!$A$3:$K$13,11,FALSE),\"\")","v":""},{"$f":"IF(I1081<>0,VLOOKUP(J1081,A01A02!A:J,10,0),\"\")","v":""}]
[null,0,"","","","",{"$f":"IF(B1082<>0,VLOOKUP(C1082,A01A02!$A$3:$K$13,11,FALSE),\"\")","v":""},null,0,"","","","",{"$f":"IF(I1082<>0,VLOOKUP(J1082,A01A02!$A$3:$K$13,11,FALSE),\"\")","v":""},{"$f":"IF(I1082<>0,VLOOKUP(J1082,A01A02!A:J,10,0),\"\")","v":""}]
[null,0,"","","","",{"$f":"IF(B1083<>0,VLOOKUP(C1083,A01A02!$A$3:$K$13,11,FALSE),\"\")","v":""},null,0,"","","","",{"$f":"IF(I1083<>0,VLOOKUP(J1083,A01A02!$A$3:$K$13,11,FALSE),\"\")","v":""},{"$f":"IF(I1083<>0,VLOOKUP(J1083,A01A02!A:J,10,0),\"\")","v":""}]
[null,0,"","","","",{"$f":"IF(B1084<>0,VLOOKUP(C1084,A01A02!$A$3:$K$13,11,FALSE),\"\")","v":""},null,0,"","","","",{"$f":"IF(I1084<>0,VLOOKUP(J1084,A01A02!$A$3:$K$13,11,FALSE),\"\")","v":""},{"$f":"IF(I1084<>0,VLOOKUP(J1084,A01A02!A:J,10,0),\"\")","v":""}]
[null,0,"","","","",{"$f":"IF(B1085<>0,VLOOKUP(C1085,A01A02!$A$3:$K$13,11,FALSE),\"\")","v":""},null,0,"","","","",{"$f":"IF(I1085<>0,VLOOKUP(J1085,A01A02!$A$3:$K$13,11,FALSE),\"\")","v":""},{"$f":"IF(I1085<>0,VLOOKUP(J1085,A01A02!A:J,10,0),\"\")","v":""}]
[null,0,"","","","",{"$f":"IF(B1086<>0,VLOOKUP(C1086,A01A02!$A$3:$K$13,11,FALSE),\"\")","v":""},null,0,"","","","",{"$f":"IF(I1086<>0,VLOOKUP(J1086,A01A02!$A$3:$K$13,11,FALSE),\"\")","v":""},{"$f":"IF(I1086<>0,VLOOKUP(J1086,A01A02!A:J,10,0),\"\")","v":""}]
[null,0,"","","","",{"$f":"IF(B1087<>0,VLOOKUP(C1087,A01A02!$A$3:$K$13,11,FALSE),\"\")","v":""},null,0,"","","","",{"$f":"IF(I1087<>0,VLOOKUP(J1087,A01A02!$A$3:$K$13,11,FALSE),\"\")","v":""},{"$f":"IF(I1087<>0,VLOOKUP(J1087,A01A02!A:J,10,0),\"\")","v":""}]
[null,0,"","","","",{"$f":"IF(B1088<>0,VLOOKUP(C1088,A01A02!$A$3:$K$13,11,FALSE),\"\")","v":""},null,0,"","","","",{"$f":"IF(I1088<>0,VLOOKUP(J1088,A01A02!$A$3:$K$13,11,FALSE),\"\")","v":""},{"$f":"IF(I1088<>0,VLOOKUP(J1088,A01A02!A:J,10,0),\"\")","v":""}]
[null,0,"","","","",{"$f":"IF(B1089<>0,VLOOKUP(C1089,A01A02!$A$3:$K$13,11,FALSE),\"\")","v":""},null,0,"","","","",{"$f":"IF(I1089<>0,VLOOKUP(J1089,A01A02!$A$3:$K$13,11,FALSE),\"\")","v":""},{"$f":"IF(I1089<>0,VLOOKUP(J1089,A01A02!A:J,10,0),\"\")","v":""}]
[null,0,"","","","",{"$f":"IF(B1090<>0,VLOOKUP(C1090,A01A02!$A$3:$K$13,11,FALSE),\"\")","v":""},null,0,"","","","",{"$f":"IF(I1090<>0,VLOOKUP(J1090,A01A02!$A$3:$K$13,11,FALSE),\"\")","v":""},{"$f":"IF(I1090<>0,VLOOKUP(J1090,A01A02!A:J,10,0),\"\")","v":""}]
[null,{"$f":"IF(A1091<>\"\",xycall(A1091),0)","v":0},"","","","",{"$f":"IF(B1091<>0,VLOOKUP(C1091,A01A02!$A$3:$K$13,11,FALSE),\"\")","v":""},null,0,"","","","",{"$f":"IF(I1091<>0,VLOOKUP(J1091,A01A02!$A$3:$K$13,11,FALSE),\"\")","v":""},{"$f":"IF(I1091<>0,VLOOKUP(J1091,A01A02!A:J,10,0),\"\")","v":""}]
[null,0,"","","","",{"$f":"IF(B1092<>0,VLOOKUP(C1092,A01A02!$A$3:$K$13,11,FALSE),\"\")","v":""},null,0,"","","","",{"$f":"IF(I1092<>0,VLOOKUP(J1092,A01A02!$A$3:$K$13,11,FALSE),\"\")","v":""},{"$f":"IF(I1092<>0,VLOOKUP(J1092,A01A02!A:J,10,0),\"\")","v":""}]
[null,0,"","","","",{"$f":"IF(B1093<>0,VLOOKUP(C1093,A01A02!$A$3:$K$13,11,FALSE),\"\")","v":""},null,0,"","","","",{"$f":"IF(I1093<>0,VLOOKUP(J1093,A01A02!$A$3:$K$13,11,FALSE),\"\")","v":""},{"$f":"IF(I1093<>0,VLOOKUP(J1093,A01A02!A:J,10,0),\"\")","v":""}]
[null,0,"","","","",{"$f":"IF(B1094<>0,VLOOKUP(C1094,A01A02!$A$3:$K$13,11,FALSE),\"\")","v":""},null,0,"","","","",{"$f":"IF(I1094<>0,VLOOKUP(J1094,A01A02!$A$3:$K$13,11,FALSE),\"\")","v":""},{"$f":"IF(I1094<>0,VLOOKUP(J1094,A01A02!A:J,10,0),\"\")","v":""}]
[null,0,"","","","",{"$f":"IF(B1095<>0,VLOOKUP(C1095,A01A02!$A$3:$K$13,11,FALSE),\"\")","v":""},null,0,"","","","",{"$f":"IF(I1095<>0,VLOOKUP(J1095,A01A02!$A$3:$K$13,11,FALSE),\"\")","v":""},{"$f":"IF(I1095<>0,VLOOKUP(J1095,A01A02!A:J,10,0),\"\")","v":""}]
[null,0,"","","","",{"$f":"IF(B1096<>0,VLOOKUP(C1096,A01A02!$A$3:$K$13,11,FALSE),\"\")","v":""},null,0,"","","","",{"$f":"IF(I1096<>0,VLOOKUP(J1096,A01A02!$A$3:$K$13,11,FALSE),\"\")","v":""},{"$f":"IF(I1096<>0,VLOOKUP(J1096,A01A02!A:J,10,0),\"\")","v":""}]
[null,0,"","","","",{"$f":"IF(B1097<>0,VLOOKUP(C1097,A01A02!$A$3:$K$13,11,FALSE),\"\")","v":""},null,0,"","","","",{"$f":"IF(I1097<>0,VLOOKUP(J1097,A01A02!$A$3:$K$13,11,FALSE),\"\")","v":""},{"$f":"IF(I1097<>0,VLOOKUP(J1097,A01A02!A:J,10,0),\"\")","v":""}]
[null,0,"","","","",{"$f":"IF(B1098<>0,VLOOKUP(C1098,A01A02!$A$3:$K$13,11,FALSE),\"\")","v":""},null,0,"","","","",{"$f":"IF(I1098<>0,VLOOKUP(J1098,A01A02!$A$3:$K$13,11,FALSE),\"\")","v":""},{"$f":"IF(I1098<>0,VLOOKUP(J1098,A01A02!A:J,10,0),\"\")","v":""}]
[null,0,"","","","",{"$f":"IF(B1099<>0,VLOOKUP(C1099,A01A02!$A$3:$K$13,11,FALSE),\"\")","v":""},null,0,"","","","",{"$f":"IF(I1099<>0,VLOOKUP(J1099,A01A02!$A$3:$K$13,11,FALSE),\"\")","v":""},{"$f":"IF(I1099<>0,VLOOKUP(J1099,A01A02!A:J,10,0),\"\")","v":""}]
[null,0,"","","","",{"$f":"IF(B1100<>0,VLOOKUP(C1100,A01A02!$A$3:$K$13,11,FALSE),\"\")","v":""},null,0,"","","","",{"$f":"IF(I1100<>0,VLOOKUP(J1100,A01A02!$A$3:$K$13,11,FALSE),\"\")","v":""},{"$f":"IF(I1100<>0,VLOOKUP(J1100,A01A02!A:J,10,0),\"\")","v":""}]
[null,0,"","","","",{"$f":"IF(B1101<>0,VLOOKUP(C1101,A01A02!$A$3:$K$13,11,FALSE),\"\")","v":""},null,0,"","","","",{"$f":"IF(I1101<>0,VLOOKUP(J1101,A01A02!$A$3:$K$13,11,FALSE),\"\")","v":""},{"$f":"IF(I1101<>0,VLOOKUP(J1101,A01A02!A:J,10,0),\"\")","v":""}]
[null,0,"","","","",{"$f":"IF(B1102<>0,VLOOKUP(C1102,A01A02!$A$3:$K$13,11,FALSE),\"\")","v":""},null,0,"","","","",{"$f":"IF(I1102<>0,VLOOKUP(J1102,A01A02!$A$3:$K$13,11,FALSE),\"\")","v":""},{"$f":"IF(I1102<>0,VLOOKUP(J1102,A01A02!A:J,10,0),\"\")","v":""}]
[null,0,"","","","",{"$f":"IF(B1103<>0,VLOOKUP(C1103,A01A02!$A$3:$K$13,11,FALSE),\"\")","v":""},null,0,"","","","",{"$f":"IF(I1103<>0,VLOOKUP(J1103,A01A02!$A$3:$K$13,11,FALSE),\"\")","v":""},{"$f":"IF(I1103<>0,VLOOKUP(J1103,A01A02!A:J,10,0),\"\")","v":""}]
[null,0,"","","","",{"$f":"IF(B1104<>0,VLOOKUP(C1104,A01A02!$A$3:$K$13,11,FALSE),\"\")","v":""},null,0,"","","","",{"$f":"IF(I1104<>0,VLOOKUP(J1104,A01A02!$A$3:$K$13,11,FALSE),\"\")","v":""},{"$f":"IF(I1104<>0,VLOOKUP(J1104,A01A02!A:J,10,0),\"\")","v":""}]
[null,0,"","","","",{"$f":"IF(B1105<>0,VLOOKUP(C1105,A01A02!$A$3:$K$13,11,FALSE),\"\")","v":""},null,0,"","","","",{"$f":"IF(I1105<>0,VLOOKUP(J1105,A01A02!$A$3:$K$13,11,FALSE),\"\")","v":""},{"$f":"IF(I1105<>0,VLOOKUP(J1105,A01A02!A:J,10,0),\"\")","v":""}]
[null,0,"","","","",{"$f":"IF(B1106<>0,VLOOKUP(C1106,A01A02!$A$3:$K$13,11,FALSE),\"\")","v":""},null,0,"","","","",{"$f":"IF(I1106<>0,VLOOKUP(J1106,A01A02!$A$3:$K$13,11,FALSE),\"\")","v":""},{"$f":"IF(I1106<>0,VLOOKUP(J1106,A01A02!A:J,10,0),\"\")","v":""}]
[null,0,"","","","",{"$f":"IF(B1107<>0,VLOOKUP(C1107,A01A02!$A$3:$K$13,11,FALSE),\"\")","v":""},null,0,"","","","",{"$f":"IF(I1107<>0,VLOOKUP(J1107,A01A02!$A$3:$K$13,11,FALSE),\"\")","v":""},{"$f":"IF(I1107<>0,VLOOKUP(J1107,A01A02!A:J,10,0),\"\")","v":""}]
[null,0,"","","","",{"$f":"IF(B1108<>0,VLOOKUP(C1108,A01A02!$A$3:$K$13,11,FALSE),\"\")","v":""},null,0,"","","","",{"$f":"IF(I1108<>0,VLOOKUP(J1108,A01A02!$A$3:$K$13,11,FALSE),\"\")","v":""},{"$f":"IF(I1108<>0,VLOOKUP(J1108,A01A02!A:J,10,0),\"\")","v":""}]
[null,0,"","","","",{"$f":"IF(B1109<>0,VLOOKUP(C1109,A01A02!$A$3:$K$13,11,FALSE),\"\")","v":""},null,0,"","","","",{"$f":"IF(I1109<>0,VLOOKUP(J1109,A01A02!$A$3:$K$13,11,FALSE),\"\")","v":""},{"$f":"IF(I1109<>0,VLOOKUP(J1109,A01A02!A:J,10,0),\"\")","v":""}]
[null,0,"","","","",{"$f":"IF(B1110<>0,VLOOKUP(C1110,A01A02!$A$3:$K$13,11,FALSE),\"\")","v":""},null,0,"","","","",{"$f":"IF(I1110<>0,VLOOKUP(J1110,A01A02!$A$3:$K$13,11,FALSE),\"\")","v":""},{"$f":"IF(I1110<>0,VLOOKUP(J1110,A01A02!A:J,10,0),\"\")","v":""}]
[null,0,"","","","",{"$f":"IF(B1111<>0,VLOOKUP(C1111,A01A02!$A$3:$K$13,11,FALSE),\"\")","v":""},null,0,"","","","",{"$f":"IF(I1111<>0,VLOOKUP(J1111,A01A02!$A$3:$K$13,11,FALSE),\"\")","v":""},{"$f":"IF(I1111<>0,VLOOKUP(J1111,A01A02!A:J,10,0),\"\")","v":""}]
[null,0,"","","","",{"$f":"IF(B1112<>0,VLOOKUP(C1112,A01A02!$A$3:$K$13,11,FALSE),\"\")","v":""},null,0,"","","","",{"$f":"IF(I1112<>0,VLOOKUP(J1112,A01A02!$A$3:$K$13,11,FALSE),\"\")","v":""},{"$f":"IF(I1112<>0,VLOOKUP(J1112,A01A02!A:J,10,0),\"\")","v":""}]
[null,0,"","","","",{"$f":"IF(B1113<>0,VLOOKUP(C1113,A01A02!$A$3:$K$13,11,FALSE),\"\")","v":""},null,0,"","","","",{"$f":"IF(I1113<>0,VLOOKUP(J1113,A01A02!$A$3:$K$13,11,FALSE),\"\")","v":""},{"$f":"IF(I1113<>0,VLOOKUP(J1113,A01A02!A:J,10,0),\"\")","v":""}]
[null,0,"","","","",{"$f":"IF(B1114<>0,VLOOKUP(C1114,A01A02!$A$3:$K$13,11,FALSE),\"\")","v":""},null,0,"","","","",{"$f":"IF(I1114<>0,VLOOKUP(J1114,A01A02!$A$3:$K$13,11,FALSE),\"\")","v":""},{"$f":"IF(I1114<>0,VLOOKUP(J1114,A01A02!A:J,10,0),\"\")","v":""}]
[null,0,"","","","",{"$f":"IF(B1115<>0,VLOOKUP(C1115,A01A02!$A$3:$K$13,11,FALSE),\"\")","v":""},null,0,"","","","",{"$f":"IF(I1115<>0,VLOOKUP(J1115,A01A02!$A$3:$K$13,11,FALSE),\"\")","v":""},{"$f":"IF(I1115<>0,VLOOKUP(J1115,A01A02!A:J,10,0),\"\")","v":""}]
[null,0,"","","","",{"$f":"IF(B1116<>0,VLOOKUP(C1116,A01A02!$A$3:$K$13,11,FALSE),\"\")","v":""},null,0,"","","","",{"$f":"IF(I1116<>0,VLOOKUP(J1116,A01A02!$A$3:$K$13,11,FALSE),\"\")","v":""},{"$f":"IF(I1116<>0,VLOOKUP(J1116,A01A02!A:J,10,0),\"\")","v":""}]
[null,0,"","","","",{"$f":"IF(B1117<>0,VLOOKUP(C1117,A01A02!$A$3:$K$13,11,FALSE),\"\")","v":""},null,0,"","","","",{"$f":"IF(I1117<>0,VLOOKUP(J1117,A01A02!$A$3:$K$13,11,FALSE),\"\")","v":""},{"$f":"IF(I1117<>0,VLOOKUP(J1117,A01A02!A:J,10,0),\"\")","v":""}]
[null,0,"","","","",{"$f":"IF(B1118<>0,VLOOKUP(C1118,A01A02!$A$3:$K$13,11,FALSE),\"\")","v":""},null,0,"","","","",{"$f":"IF(I1118<>0,VLOOKUP(J1118,A01A02!$A$3:$K$13,11,FALSE),\"\")","v":""},{"$f":"IF(I1118<>0,VLOOKUP(J1118,A01A02!A:J,10,0),\"\")","v":""}]
[null,0,"","","","",{"$f":"IF(B1119<>0,VLOOKUP(C1119,A01A02!$A$3:$K$13,11,FALSE),\"\")","v":""},null,0,"","","","",{"$f":"IF(I1119<>0,VLOOKUP(J1119,A01A02!$A$3:$K$13,11,FALSE),\"\")","v":""},{"$f":"IF(I1119<>0,VLOOKUP(J1119,A01A02!A:J,10,0),\"\")","v":""}]
[null,0,"","","","",{"$f":"IF(B1120<>0,VLOOKUP(C1120,A01A02!$A$3:$K$13,11,FALSE),\"\")","v":""},null,0,"","","","",{"$f":"IF(I1120<>0,VLOOKUP(J1120,A01A02!$A$3:$K$13,11,FALSE),\"\")","v":""},{"$f":"IF(I1120<>0,VLOOKUP(J1120,A01A02!A:J,10,0),\"\")","v":""}]
[null,0,"","","","",{"$f":"IF(B1121<>0,VLOOKUP(C1121,A01A02!$A$3:$K$13,11,FALSE),\"\")","v":""},null,0,"","","","",{"$f":"IF(I1121<>0,VLOOKUP(J1121,A01A02!$A$3:$K$13,11,FALSE),\"\")","v":""},{"$f":"IF(I1121<>0,VLOOKUP(J1121,A01A02!A:J,10,0),\"\")","v":""}]
[null,0,"","","","",{"$f":"IF(B1122<>0,VLOOKUP(C1122,A01A02!$A$3:$K$13,11,FALSE),\"\")","v":""},null,0,"","","","",{"$f":"IF(I1122<>0,VLOOKUP(J1122,A01A02!$A$3:$K$13,11,FALSE),\"\")","v":""},{"$f":"IF(I1122<>0,VLOOKUP(J1122,A01A02!A:J,10,0),\"\")","v":""}]
[null,0,"","","","",{"$f":"IF(B1123<>0,VLOOKUP(C1123,A01A02!$A$3:$K$13,11,FALSE),\"\")","v":""},null,0,"","","","",{"$f":"IF(I1123<>0,VLOOKUP(J1123,A01A02!$A$3:$K$13,11,FALSE),\"\")","v":""},{"$f":"IF(I1123<>0,VLOOKUP(J1123,A01A02!A:J,10,0),\"\")","v":""}]
[null,0,"","","","",{"$f":"IF(B1124<>0,VLOOKUP(C1124,A01A02!$A$3:$K$13,11,FALSE),\"\")","v":""},null,0,"","","","",{"$f":"IF(I1124<>0,VLOOKUP(J1124,A01A02!$A$3:$K$13,11,FALSE),\"\")","v":""},{"$f":"IF(I1124<>0,VLOOKUP(J1124,A01A02!A:J,10,0),\"\")","v":""}]
[null,0,"","","","",{"$f":"IF(B1125<>0,VLOOKUP(C1125,A01A02!$A$3:$K$13,11,FALSE),\"\")","v":""},null,0,"","","","",{"$f":"IF(I1125<>0,VLOOKUP(J1125,A01A02!$A$3:$K$13,11,FALSE),\"\")","v":""},{"$f":"IF(I1125<>0,VLOOKUP(J1125,A01A02!A:J,10,0),\"\")","v":""}]
[null,0,"","","","",{"$f":"IF(B1126<>0,VLOOKUP(C1126,A01A02!$A$3:$K$13,11,FALSE),\"\")","v":""},null,0,"","","","",{"$f":"IF(I1126<>0,VLOOKUP(J1126,A01A02!$A$3:$K$13,11,FALSE),\"\")","v":""},{"$f":"IF(I1126<>0,VLOOKUP(J1126,A01A02!A:J,10,0),\"\")","v":""}]
[null,0,"","","","",{"$f":"IF(B1127<>0,VLOOKUP(C1127,A01A02!$A$3:$K$13,11,FALSE),\"\")","v":""},null,0,"","","","",{"$f":"IF(I1127<>0,VLOOKUP(J1127,A01A02!$A$3:$K$13,11,FALSE),\"\")","v":""},{"$f":"IF(I1127<>0,VLOOKUP(J1127,A01A02!A:J,10,0),\"\")","v":""}]
[null,0,"","","","",{"$f":"IF(B1128<>0,VLOOKUP(C1128,A01A02!$A$3:$K$13,11,FALSE),\"\")","v":""},null,0,"","","","",{"$f":"IF(I1128<>0,VLOOKUP(J1128,A01A02!$A$3:$K$13,11,FALSE),\"\")","v":""},{"$f":"IF(I1128<>0,VLOOKUP(J1128,A01A02!A:J,10,0),\"\")","v":""}]
[null,0,"","","","",{"$f":"IF(B1129<>0,VLOOKUP(C1129,A01A02!$A$3:$K$13,11,FALSE),\"\")","v":""},null,0,"","","","",{"$f":"IF(I1129<>0,VLOOKUP(J1129,A01A02!$A$3:$K$13,11,FALSE),\"\")","v":""},{"$f":"IF(I1129<>0,VLOOKUP(J1129,A01A02!A:J,10,0),\"\")","v":""}]
[null,0,"","","","",{"$f":"IF(B1130<>0,VLOOKUP(C1130,A01A02!$A$3:$K$13,11,FALSE),\"\")","v":""},null,0,"","","","",{"$f":"IF(I1130<>0,VLOOKUP(J1130,A01A02!$A$3:$K$13,11,FALSE),\"\")","v":""},{"$f":"IF(I1130<>0,VLOOKUP(J1130,A01A02!A:J,10,0),\"\")","v":""}]
[null,0,{"$f":"IF(B1131<>0,znoget(B1131),\"\")","v":""},{"$f":"IF(B1131<>0,znaget(B1131),\"\")","v":""},{"$f":"IF(B1131<>0,xget(B1131),\"\")","v":""},{"$f":"IF(B1131<>0,yget(B1131),\"\")","v":""},{"$f":"IF(B1131<>0,VLOOKUP(C1131,A01A02!$A$3:$K$13,11,FALSE),\"\")","v":""},null,{"$f":"IF(H1131<>\"\",xycall(H1131),0)","v":0},{"$f":"IF(I1131<>0,znoget(I1131),\"\")","v":""},{"$f":"IF(I1131<>0,znaget(I1131),\"\")","v":""},{"$f":"IF(I1131<>0,xget(I1131),\"\")","v":""},{"$f":"IF(I1131<>0,yget(I1131),\"\")","v":""},{"$f":"IF(I1131<>0,VLOOKUP(J1131,A01A02!$A$3:$K$13,11,FALSE),\"\")","v":""},{"$f":"IF(I1131<>0,VLOOKUP(J1131,A01A02!A:J,10,0),\"\")","v":""}]
[null,0,"","","","",{"$f":"IF(B1132<>0,VLOOKUP(C1132,A01A02!$A$3:$K$13,11,FALSE),\"\")","v":""},null,0,"","","","",{"$f":"IF(I1132<>0,VLOOKUP(J1132,A01A02!$A$3:$K$13,11,FALSE),\"\")","v":""},{"$f":"IF(I1132<>0,VLOOKUP(J1132,A01A02!A:J,10,0),\"\")","v":""}]
[null,0,"","","","",{"$f":"IF(B1133<>0,VLOOKUP(C1133,A01A02!$A$3:$K$13,11,FALSE),\"\")","v":""},null,0,"","","","",{"$f":"IF(I1133<>0,VLOOKUP(J1133,A01A02!$A$3:$K$13,11,FALSE),\"\")","v":""},{"$f":"IF(I1133<>0,VLOOKUP(J1133,A01A02!A:J,10,0),\"\")","v":""}]
[null,0,"","","","",{"$f":"IF(B1134<>0,VLOOKUP(C1134,A01A02!$A$3:$K$13,11,FALSE),\"\")","v":""},null,0,"","","","",{"$f":"IF(I1134<>0,VLOOKUP(J1134,A01A02!$A$3:$K$13,11,FALSE),\"\")","v":""},{"$f":"IF(I1134<>0,VLOOKUP(J1134,A01A02!A:J,10,0),\"\")","v":""}]
[null,0,"","","","",{"$f":"IF(B1135<>0,VLOOKUP(C1135,A01A02!$A$3:$K$13,11,FALSE),\"\")","v":""},null,0,"","","","",{"$f":"IF(I1135<>0,VLOOKUP(J1135,A01A02!$A$3:$K$13,11,FALSE),\"\")","v":""},{"$f":"IF(I1135<>0,VLOOKUP(J1135,A01A02!A:J,10,0),\"\")","v":""}]
[null,0,"","","","",{"$f":"IF(B1136<>0,VLOOKUP(C1136,A01A02!$A$3:$K$13,11,FALSE),\"\")","v":""},null,0,"","","","",{"$f":"IF(I1136<>0,VLOOKUP(J1136,A01A02!$A$3:$K$13,11,FALSE),\"\")","v":""},{"$f":"IF(I1136<>0,VLOOKUP(J1136,A01A02!A:J,10,0),\"\")","v":""}]
[null,0,"","","","",{"$f":"IF(B1137<>0,VLOOKUP(C1137,A01A02!$A$3:$K$13,11,FALSE),\"\")","v":""},null,0,"","","","",{"$f":"IF(I1137<>0,VLOOKUP(J1137,A01A02!$A$3:$K$13,11,FALSE),\"\")","v":""},{"$f":"IF(I1137<>0,VLOOKUP(J1137,A01A02!A:J,10,0),\"\")","v":""}]
[null,0,"","","","",{"$f":"IF(B1138<>0,VLOOKUP(C1138,A01A02!$A$3:$K$13,11,FALSE),\"\")","v":""},null,0,"","","","",{"$f":"IF(I1138<>0,VLOOKUP(J1138,A01A02!$A$3:$K$13,11,FALSE),\"\")","v":""},{"$f":"IF(I1138<>0,VLOOKUP(J1138,A01A02!A:J,10,0),\"\")","v":""}]
[null,0,"","","","",{"$f":"IF(B1139<>0,VLOOKUP(C1139,A01A02!$A$3:$K$13,11,FALSE),\"\")","v":""},null,0,"","","","",{"$f":"IF(I1139<>0,VLOOKUP(J1139,A01A02!$A$3:$K$13,11,FALSE),\"\")","v":""},{"$f":"IF(I1139<>0,VLOOKUP(J1139,A01A02!A:J,10,0),\"\")","v":""}]
[null,0,"","","","",{"$f":"IF(B1140<>0,VLOOKUP(C1140,A01A02!$A$3:$K$13,11,FALSE),\"\")","v":""},null,0,"","","","",{"$f":"IF(I1140<>0,VLOOKUP(J1140,A01A02!$A$3:$K$13,11,FALSE),\"\")","v":""},{"$f":"IF(I1140<>0,VLOOKUP(J1140,A01A02!A:J,10,0),\"\")","v":""}]
[null,0,"","","","",{"$f":"IF(B1141<>0,VLOOKUP(C1141,A01A02!$A$3:$K$13,11,FALSE),\"\")","v":""},null,0,"","","","",{"$f":"IF(I1141<>0,VLOOKUP(J1141,A01A02!$A$3:$K$13,11,FALSE),\"\")","v":""},{"$f":"IF(I1141<>0,VLOOKUP(J1141,A01A02!A:J,10,0),\"\")","v":""}]
[null,0,"","","","",{"$f":"IF(B1142<>0,VLOOKUP(C1142,A01A02!$A$3:$K$13,11,FALSE),\"\")","v":""},null,0,"","","","",{"$f":"IF(I1142<>0,VLOOKUP(J1142,A01A02!$A$3:$K$13,11,FALSE),\"\")","v":""},{"$f":"IF(I1142<>0,VLOOKUP(J1142,A01A02!A:J,10,0),\"\")","v":""}]
[null,0,"","","","",{"$f":"IF(B1143<>0,VLOOKUP(C1143,A01A02!$A$3:$K$13,11,FALSE),\"\")","v":""},null,0,"","","","",{"$f":"IF(I1143<>0,VLOOKUP(J1143,A01A02!$A$3:$K$13,11,FALSE),\"\")","v":""},{"$f":"IF(I1143<>0,VLOOKUP(J1143,A01A02!A:J,10,0),\"\")","v":""}]
[null,0,"","","","",{"$f":"IF(B1144<>0,VLOOKUP(C1144,A01A02!$A$3:$K$13,11,FALSE),\"\")","v":""},null,0,"","","","",{"$f":"IF(I1144<>0,VLOOKUP(J1144,A01A02!$A$3:$K$13,11,FALSE),\"\")","v":""},{"$f":"IF(I1144<>0,VLOOKUP(J1144,A01A02!A:J,10,0),\"\")","v":""}]
[null,0,"","","","",{"$f":"IF(B1145<>0,VLOOKUP(C1145,A01A02!$A$3:$K$13,11,FALSE),\"\")","v":""},null,0,"","","","",{"$f":"IF(I1145<>0,VLOOKUP(J1145,A01A02!$A$3:$K$13,11,FALSE),\"\")","v":""},{"$f":"IF(I1145<>0,VLOOKUP(J1145,A01A02!A:J,10,0),\"\")","v":""}]
[null,0,"","","","",{"$f":"IF(B1146<>0,VLOOKUP(C1146,A01A02!$A$3:$K$13,11,FALSE),\"\")","v":""},null,0,"","","","",{"$f":"IF(I1146<>0,VLOOKUP(J1146,A01A02!$A$3:$K$13,11,FALSE),\"\")","v":""},{"$f":"IF(I1146<>0,VLOOKUP(J1146,A01A02!A:J,10,0),\"\")","v":""}]
[null,0,"","","","",{"$f":"IF(B1147<>0,VLOOKUP(C1147,A01A02!$A$3:$K$13,11,FALSE),\"\")","v":""},null,0,"","","","",{"$f":"IF(I1147<>0,VLOOKUP(J1147,A01A02!$A$3:$K$13,11,FALSE),\"\")","v":""},{"$f":"IF(I1147<>0,VLOOKUP(J1147,A01A02!A:J,10,0),\"\")","v":""}]
[null,0,"","","","",{"$f":"IF(B1148<>0,VLOOKUP(C1148,A01A02!$A$3:$K$13,11,FALSE),\"\")","v":""},null,0,"","","","",{"$f":"IF(I1148<>0,VLOOKUP(J1148,A01A02!$A$3:$K$13,11,FALSE),\"\")","v":""},{"$f":"IF(I1148<>0,VLOOKUP(J1148,A01A02!A:J,10,0),\"\")","v":""}]
[null,0,"","","","",{"$f":"IF(B1149<>0,VLOOKUP(C1149,A01A02!$A$3:$K$13,11,FALSE),\"\")","v":""},null,0,"","","","",{"$f":"IF(I1149<>0,VLOOKUP(J1149,A01A02!$A$3:$K$13,11,FALSE),\"\")","v":""},{"$f":"IF(I1149<>0,VLOOKUP(J1149,A01A02!A:J,10,0),\"\")","v":""}]
[null,0,"","","","",{"$f":"IF(B1150<>0,VLOOKUP(C1150,A01A02!$A$3:$K$13,11,FALSE),\"\")","v":""},null,0,"","","","",{"$f":"IF(I1150<>0,VLOOKUP(J1150,A01A02!$A$3:$K$13,11,FALSE),\"\")","v":""},{"$f":"IF(I1150<>0,VLOOKUP(J1150,A01A02!A:J,10,0),\"\")","v":""}]
[null,0,"","","","",{"$f":"IF(B1151<>0,VLOOKUP(C1151,A01A02!$A$3:$K$13,11,FALSE),\"\")","v":""},null,0,"","","","",{"$f":"IF(I1151<>0,VLOOKUP(J1151,A01A02!$A$3:$K$13,11,FALSE),\"\")","v":""},{"$f":"IF(I1151<>0,VLOOKUP(J1151,A01A02!A:J,10,0),\"\")","v":""}]
[null,0,"","","","",{"$f":"IF(B1152<>0,VLOOKUP(C1152,A01A02!$A$3:$K$13,11,FALSE),\"\")","v":""},null,0,"","","","",{"$f":"IF(I1152<>0,VLOOKUP(J1152,A01A02!$A$3:$K$13,11,FALSE),\"\")","v":""},{"$f":"IF(I1152<>0,VLOOKUP(J1152,A01A02!A:J,10,0),\"\")","v":""}]
[null,0,"","","","",{"$f":"IF(B1153<>0,VLOOKUP(C1153,A01A02!$A$3:$K$13,11,FALSE),\"\")","v":""},null,0,"","","","",{"$f":"IF(I1153<>0,VLOOKUP(J1153,A01A02!$A$3:$K$13,11,FALSE),\"\")","v":""},{"$f":"IF(I1153<>0,VLOOKUP(J1153,A01A02!A:J,10,0),\"\")","v":""}]
[null,0,"","","","",{"$f":"IF(B1154<>0,VLOOKUP(C1154,A01A02!$A$3:$K$13,11,FALSE),\"\")","v":""},null,0,"","","","",{"$f":"IF(I1154<>0,VLOOKUP(J1154,A01A02!$A$3:$K$13,11,FALSE),\"\")","v":""},{"$f":"IF(I1154<>0,VLOOKUP(J1154,A01A02!A:J,10,0),\"\")","v":""}]
[null,{"$f":"IF(A1155<>\"\",xycall(A1155),0)","v":0},"","","","",{"$f":"IF(B1155<>0,VLOOKUP(C1155,A01A02!$A$3:$K$13,11,FALSE),\"\")","v":""},null,0,"","","","",{"$f":"IF(I1155<>0,VLOOKUP(J1155,A01A02!$A$3:$K$13,11,FALSE),\"\")","v":""},{"$f":"IF(I1155<>0,VLOOKUP(J1155,A01A02!A:J,10,0),\"\")","v":""}]
[null,0,"","","","",{"$f":"IF(B1156<>0,VLOOKUP(C1156,A01A02!$A$3:$K$13,11,FALSE),\"\")","v":""},null,0,"","","","",{"$f":"IF(I1156<>0,VLOOKUP(J1156,A01A02!$A$3:$K$13,11,FALSE),\"\")","v":""},{"$f":"IF(I1156<>0,VLOOKUP(J1156,A01A02!A:J,10,0),\"\")","v":""}]
[null,0,"","","","",{"$f":"IF(B1157<>0,VLOOKUP(C1157,A01A02!$A$3:$K$13,11,FALSE),\"\")","v":""},null,0,"","","","",{"$f":"IF(I1157<>0,VLOOKUP(J1157,A01A02!$A$3:$K$13,11,FALSE),\"\")","v":""},{"$f":"IF(I1157<>0,VLOOKUP(J1157,A01A02!A:J,10,0),\"\")","v":""}]
[null,0,"","","","",{"$f":"IF(B1158<>0,VLOOKUP(C1158,A01A02!$A$3:$K$13,11,FALSE),\"\")","v":""},null,0,"","","","",{"$f":"IF(I1158<>0,VLOOKUP(J1158,A01A02!$A$3:$K$13,11,FALSE),\"\")","v":""},{"$f":"IF(I1158<>0,VLOOKUP(J1158,A01A02!A:J,10,0),\"\")","v":""}]
[null,0,"","","","",{"$f":"IF(B1159<>0,VLOOKUP(C1159,A01A02!$A$3:$K$13,11,FALSE),\"\")","v":""},null,0,"","","","",{"$f":"IF(I1159<>0,VLOOKUP(J1159,A01A02!$A$3:$K$13,11,FALSE),\"\")","v":""},{"$f":"IF(I1159<>0,VLOOKUP(J1159,A01A02!A:J,10,0),\"\")","v":""}]
[null,0,"","","","",{"$f":"IF(B1160<>0,VLOOKUP(C1160,A01A02!$A$3:$K$13,11,FALSE),\"\")","v":""},null,0,"","","","",{"$f":"IF(I1160<>0,VLOOKUP(J1160,A01A02!$A$3:$K$13,11,FALSE),\"\")","v":""},{"$f":"IF(I1160<>0,VLOOKUP(J1160,A01A02!A:J,10,0),\"\")","v":""}]
[null,0,"","","","",{"$f":"IF(B1161<>0,VLOOKUP(C1161,A01A02!$A$3:$K$13,11,FALSE),\"\")","v":""},null,0,"","","","",{"$f":"IF(I1161<>0,VLOOKUP(J1161,A01A02!$A$3:$K$13,11,FALSE),\"\")","v":""},{"$f":"IF(I1161<>0,VLOOKUP(J1161,A01A02!A:J,10,0),\"\")","v":""}]
[null,0,"","","","",{"$f":"IF(B1162<>0,VLOOKUP(C1162,A01A02!$A$3:$K$13,11,FALSE),\"\")","v":""},null,0,"","","","",{"$f":"IF(I1162<>0,VLOOKUP(J1162,A01A02!$A$3:$K$13,11,FALSE),\"\")","v":""},{"$f":"IF(I1162<>0,VLOOKUP(J1162,A01A02!A:J,10,0),\"\")","v":""}]
[null,0,"","","","",{"$f":"IF(B1163<>0,VLOOKUP(C1163,A01A02!$A$3:$K$13,11,FALSE),\"\")","v":""},null,0,"","","","",{"$f":"IF(I1163<>0,VLOOKUP(J1163,A01A02!$A$3:$K$13,11,FALSE),\"\")","v":""},{"$f":"IF(I1163<>0,VLOOKUP(J1163,A01A02!A:J,10,0),\"\")","v":""}]
[null,0,"","","","",{"$f":"IF(B1164<>0,VLOOKUP(C1164,A01A02!$A$3:$K$13,11,FALSE),\"\")","v":""},null,0,"","","","",{"$f":"IF(I1164<>0,VLOOKUP(J1164,A01A02!$A$3:$K$13,11,FALSE),\"\")","v":""},{"$f":"IF(I1164<>0,VLOOKUP(J1164,A01A02!A:J,10,0),\"\")","v":""}]
[null,0,"","","","",{"$f":"IF(B1165<>0,VLOOKUP(C1165,A01A02!$A$3:$K$13,11,FALSE),\"\")","v":""},null,0,"","","","",{"$f":"IF(I1165<>0,VLOOKUP(J1165,A01A02!$A$3:$K$13,11,FALSE),\"\")","v":""},{"$f":"IF(I1165<>0,VLOOKUP(J1165,A01A02!A:J,10,0),\"\")","v":""}]
[null,0,"","","","",{"$f":"IF(B1166<>0,VLOOKUP(C1166,A01A02!$A$3:$K$13,11,FALSE),\"\")","v":""},null,0,"","","","",{"$f":"IF(I1166<>0,VLOOKUP(J1166,A01A02!$A$3:$K$13,11,FALSE),\"\")","v":""},{"$f":"IF(I1166<>0,VLOOKUP(J1166,A01A02!A:J,10,0),\"\")","v":""}]
[null,0,"","","","",{"$f":"IF(B1167<>0,VLOOKUP(C1167,A01A02!$A$3:$K$13,11,FALSE),\"\")","v":""},null,0,"","","","",{"$f":"IF(I1167<>0,VLOOKUP(J1167,A01A02!$A$3:$K$13,11,FALSE),\"\")","v":""},{"$f":"IF(I1167<>0,VLOOKUP(J1167,A01A02!A:J,10,0),\"\")","v":""}]
[null,0,"","","","",{"$f":"IF(B1168<>0,VLOOKUP(C1168,A01A02!$A$3:$K$13,11,FALSE),\"\")","v":""},null,0,"","","","",{"$f":"IF(I1168<>0,VLOOKUP(J1168,A01A02!$A$3:$K$13,11,FALSE),\"\")","v":""},{"$f":"IF(I1168<>0,VLOOKUP(J1168,A01A02!A:J,10,0),\"\")","v":""}]
[null,0,"","","","",{"$f":"IF(B1169<>0,VLOOKUP(C1169,A01A02!$A$3:$K$13,11,FALSE),\"\")","v":""},null,0,"","","","",{"$f":"IF(I1169<>0,VLOOKUP(J1169,A01A02!$A$3:$K$13,11,FALSE),\"\")","v":""},{"$f":"IF(I1169<>0,VLOOKUP(J1169,A01A02!A:J,10,0),\"\")","v":""}]
[null,0,"","","","",{"$f":"IF(B1170<>0,VLOOKUP(C1170,A01A02!$A$3:$K$13,11,FALSE),\"\")","v":""},null,0,"","","","",{"$f":"IF(I1170<>0,VLOOKUP(J1170,A01A02!$A$3:$K$13,11,FALSE),\"\")","v":""},{"$f":"IF(I1170<>0,VLOOKUP(J1170,A01A02!A:J,10,0),\"\")","v":""}]
[null,0,"","","","",{"$f":"IF(B1171<>0,VLOOKUP(C1171,A01A02!$A$3:$K$13,11,FALSE),\"\")","v":""},null,0,"","","","",{"$f":"IF(I1171<>0,VLOOKUP(J1171,A01A02!$A$3:$K$13,11,FALSE),\"\")","v":""},{"$f":"IF(I1171<>0,VLOOKUP(J1171,A01A02!A:J,10,0),\"\")","v":""}]
[null,0,"","","","",{"$f":"IF(B1172<>0,VLOOKUP(C1172,A01A02!$A$3:$K$13,11,FALSE),\"\")","v":""},null,0,"","","","",{"$f":"IF(I1172<>0,VLOOKUP(J1172,A01A02!$A$3:$K$13,11,FALSE),\"\")","v":""},{"$f":"IF(I1172<>0,VLOOKUP(J1172,A01A02!A:J,10,0),\"\")","v":""}]
[null,0,"","","","",{"$f":"IF(B1173<>0,VLOOKUP(C1173,A01A02!$A$3:$K$13,11,FALSE),\"\")","v":""},null,0,"","","","",{"$f":"IF(I1173<>0,VLOOKUP(J1173,A01A02!$A$3:$K$13,11,FALSE),\"\")","v":""},{"$f":"IF(I1173<>0,VLOOKUP(J1173,A01A02!A:J,10,0),\"\")","v":""}]
[null,0,"","","","",{"$f":"IF(B1174<>0,VLOOKUP(C1174,A01A02!$A$3:$K$13,11,FALSE),\"\")","v":""},null,0,"","","","",{"$f":"IF(I1174<>0,VLOOKUP(J1174,A01A02!$A$3:$K$13,11,FALSE),\"\")","v":""},{"$f":"IF(I1174<>0,VLOOKUP(J1174,A01A02!A:J,10,0),\"\")","v":""}]
[null,0,"","","","",{"$f":"IF(B1175<>0,VLOOKUP(C1175,A01A02!$A$3:$K$13,11,FALSE),\"\")","v":""},null,0,"","","","",{"$f":"IF(I1175<>0,VLOOKUP(J1175,A01A02!$A$3:$K$13,11,FALSE),\"\")","v":""},{"$f":"IF(I1175<>0,VLOOKUP(J1175,A01A02!A:J,10,0),\"\")","v":""}]
[null,0,"","","","",{"$f":"IF(B1176<>0,VLOOKUP(C1176,A01A02!$A$3:$K$13,11,FALSE),\"\")","v":""},null,0,"","","","",{"$f":"IF(I1176<>0,VLOOKUP(J1176,A01A02!$A$3:$K$13,11,FALSE),\"\")","v":""},{"$f":"IF(I1176<>0,VLOOKUP(J1176,A01A02!A:J,10,0),\"\")","v":""}]
[null,0,"","","","",{"$f":"IF(B1177<>0,VLOOKUP(C1177,A01A02!$A$3:$K$13,11,FALSE),\"\")","v":""},null,0,"","","","",{"$f":"IF(I1177<>0,VLOOKUP(J1177,A01A02!$A$3:$K$13,11,FALSE),\"\")","v":""},{"$f":"IF(I1177<>0,VLOOKUP(J1177,A01A02!A:J,10,0),\"\")","v":""}]
[null,0,"","","","",{"$f":"IF(B1178<>0,VLOOKUP(C1178,A01A02!$A$3:$K$13,11,FALSE),\"\")","v":""},null,0,"","","","",{"$f":"IF(I1178<>0,VLOOKUP(J1178,A01A02!$A$3:$K$13,11,FALSE),\"\")","v":""},{"$f":"IF(I1178<>0,VLOOKUP(J1178,A01A02!A:J,10,0),\"\")","v":""}]
[null,0,"","","","",{"$f":"IF(B1179<>0,VLOOKUP(C1179,A01A02!$A$3:$K$13,11,FALSE),\"\")","v":""},null,0,"","","","",{"$f":"IF(I1179<>0,VLOOKUP(J1179,A01A02!$A$3:$K$13,11,FALSE),\"\")","v":""},{"$f":"IF(I1179<>0,VLOOKUP(J1179,A01A02!A:J,10,0),\"\")","v":""}]
[null,0,"","","","",{"$f":"IF(B1180<>0,VLOOKUP(C1180,A01A02!$A$3:$K$13,11,FALSE),\"\")","v":""},null,0,"","","","",{"$f":"IF(I1180<>0,VLOOKUP(J1180,A01A02!$A$3:$K$13,11,FALSE),\"\")","v":""},{"$f":"IF(I1180<>0,VLOOKUP(J1180,A01A02!A:J,10,0),\"\")","v":""}]
[null,0,"","","","",{"$f":"IF(B1181<>0,VLOOKUP(C1181,A01A02!$A$3:$K$13,11,FALSE),\"\")","v":""},null,0,"","","","",{"$f":"IF(I1181<>0,VLOOKUP(J1181,A01A02!$A$3:$K$13,11,FALSE),\"\")","v":""},{"$f":"IF(I1181<>0,VLOOKUP(J1181,A01A02!A:J,10,0),\"\")","v":""}]
[null,0,"","","","",{"$f":"IF(B1182<>0,VLOOKUP(C1182,A01A02!$A$3:$K$13,11,FALSE),\"\")","v":""},null,0,"","","","",{"$f":"IF(I1182<>0,VLOOKUP(J1182,A01A02!$A$3:$K$13,11,FALSE),\"\")","v":""},{"$f":"IF(I1182<>0,VLOOKUP(J1182,A01A02!A:J,10,0),\"\")","v":""}]
[null,0,"","","","",{"$f":"IF(B1183<>0,VLOOKUP(C1183,A01A02!$A$3:$K$13,11,FALSE),\"\")","v":""},null,0,"","","","",{"$f":"IF(I1183<>0,VLOOKUP(J1183,A01A02!$A$3:$K$13,11,FALSE),\"\")","v":""},{"$f":"IF(I1183<>0,VLOOKUP(J1183,A01A02!A:J,10,0),\"\")","v":""}]
[null,0,"","","","",{"$f":"IF(B1184<>0,VLOOKUP(C1184,A01A02!$A$3:$K$13,11,FALSE),\"\")","v":""},null,0,"","","","",{"$f":"IF(I1184<>0,VLOOKUP(J1184,A01A02!$A$3:$K$13,11,FALSE),\"\")","v":""},{"$f":"IF(I1184<>0,VLOOKUP(J1184,A01A02!A:J,10,0),\"\")","v":""}]
[null,0,"","","","",{"$f":"IF(B1185<>0,VLOOKUP(C1185,A01A02!$A$3:$K$13,11,FALSE),\"\")","v":""},null,0,"","","","",{"$f":"IF(I1185<>0,VLOOKUP(J1185,A01A02!$A$3:$K$13,11,FALSE),\"\")","v":""},{"$f":"IF(I1185<>0,VLOOKUP(J1185,A01A02!A:J,10,0),\"\")","v":""}]
[null,0,"","","","",{"$f":"IF(B1186<>0,VLOOKUP(C1186,A01A02!$A$3:$K$13,11,FALSE),\"\")","v":""},null,0,"","","","",{"$f":"IF(I1186<>0,VLOOKUP(J1186,A01A02!$A$3:$K$13,11,FALSE),\"\")","v":""},{"$f":"IF(I1186<>0,VLOOKUP(J1186,A01A02!A:J,10,0),\"\")","v":""}]
[null,0,"","","","",{"$f":"IF(B1187<>0,VLOOKUP(C1187,A01A02!$A$3:$K$13,11,FALSE),\"\")","v":""},null,0,"","","","",{"$f":"IF(I1187<>0,VLOOKUP(J1187,A01A02!$A$3:$K$13,11,FALSE),\"\")","v":""},{"$f":"IF(I1187<>0,VLOOKUP(J1187,A01A02!A:J,10,0),\"\")","v":""}]
[null,0,"","","","",{"$f":"IF(B1188<>0,VLOOKUP(C1188,A01A02!$A$3:$K$13,11,FALSE),\"\")","v":""},null,0,"","","","",{"$f":"IF(I1188<>0,VLOOKUP(J1188,A01A02!$A$3:$K$13,11,FALSE),\"\")","v":""},{"$f":"IF(I1188<>0,VLOOKUP(J1188,A01A02!A:J,10,0),\"\")","v":""}]
[null,0,"","","","",{"$f":"IF(B1189<>0,VLOOKUP(C1189,A01A02!$A$3:$K$13,11,FALSE),\"\")","v":""},null,0,"","","","",{"$f":"IF(I1189<>0,VLOOKUP(J1189,A01A02!$A$3:$K$13,11,FALSE),\"\")","v":""},{"$f":"IF(I1189<>0,VLOOKUP(J1189,A01A02!A:J,10,0),\"\")","v":""}]
[null,0,"","","","",{"$f":"IF(B1190<>0,VLOOKUP(C1190,A01A02!$A$3:$K$13,11,FALSE),\"\")","v":""},null,0,"","","","",{"$f":"IF(I1190<>0,VLOOKUP(J1190,A01A02!$A$3:$K$13,11,FALSE),\"\")","v":""},{"$f":"IF(I1190<>0,VLOOKUP(J1190,A01A02!A:J,10,0),\"\")","v":""}]
[null,0,"","","","",{"$f":"IF(B1191<>0,VLOOKUP(C1191,A01A02!$A$3:$K$13,11,FALSE),\"\")","v":""},null,0,"","","","",{"$f":"IF(I1191<>0,VLOOKUP(J1191,A01A02!$A$3:$K$13,11,FALSE),\"\")","v":""},{"$f":"IF(I1191<>0,VLOOKUP(J1191,A01A02!A:J,10,0),\"\")","v":""}]
[null,0,"","","","",{"$f":"IF(B1192<>0,VLOOKUP(C1192,A01A02!$A$3:$K$13,11,FALSE),\"\")","v":""},null,0,"","","","",{"$f":"IF(I1192<>0,VLOOKUP(J1192,A01A02!$A$3:$K$13,11,FALSE),\"\")","v":""},{"$f":"IF(I1192<>0,VLOOKUP(J1192,A01A02!A:J,10,0),\"\")","v":""}]
[null,0,"","","","",{"$f":"IF(B1193<>0,VLOOKUP(C1193,A01A02!$A$3:$K$13,11,FALSE),\"\")","v":""},null,0,"","","","",{"$f":"IF(I1193<>0,VLOOKUP(J1193,A01A02!$A$3:$K$13,11,FALSE),\"\")","v":""},{"$f":"IF(I1193<>0,VLOOKUP(J1193,A01A02!A:J,10,0),\"\")","v":""}]
[null,0,"","","","",{"$f":"IF(B1194<>0,VLOOKUP(C1194,A01A02!$A$3:$K$13,11,FALSE),\"\")","v":""},null,0,"","","","",{"$f":"IF(I1194<>0,VLOOKUP(J1194,A01A02!$A$3:$K$13,11,FALSE),\"\")","v":""},{"$f":"IF(I1194<>0,VLOOKUP(J1194,A01A02!A:J,10,0),\"\")","v":""}]
[null,0,{"$f":"IF(B1195<>0,znoget(B1195),\"\")","v":""},{"$f":"IF(B1195<>0,znaget(B1195),\"\")","v":""},{"$f":"IF(B1195<>0,xget(B1195),\"\")","v":""},{"$f":"IF(B1195<>0,yget(B1195),\"\")","v":""},{"$f":"IF(B1195<>0,VLOOKUP(C1195,A01A02!$A$3:$K$13,11,FALSE),\"\")","v":""},null,{"$f":"IF(H1195<>\"\",xycall(H1195),0)","v":0},{"$f":"IF(I1195<>0,znoget(I1195),\"\")","v":""},{"$f":"IF(I1195<>0,znaget(I1195),\"\")","v":""},{"$f":"IF(I1195<>0,xget(I1195),\"\")","v":""},{"$f":"IF(I1195<>0,yget(I1195),\"\")","v":""},{"$f":"IF(I1195<>0,VLOOKUP(J1195,A01A02!$A$3:$K$13,11,FALSE),\"\")","v":""},{"$f":"IF(I1195<>0,VLOOKUP(J1195,A01A02!A:J,10,0),\"\")","v":""}]
[null,0,"","","","",{"$f":"IF(B1196<>0,VLOOKUP(C1196,A01A02!$A$3:$K$13,11,FALSE),\"\")","v":""},null,0,"","","","",{"$f":"IF(I1196<>0,VLOOKUP(J1196,A01A02!$A$3:$K$13,11,FALSE),\"\")","v":""},{"$f":"IF(I1196<>0,VLOOKUP(J1196,A01A02!A:J,10,0),\"\")","v":""}]
[null,0,"","","","",{"$f":"IF(B1197<>0,VLOOKUP(C1197,A01A02!$A$3:$K$13,11,FALSE),\"\")","v":""},null,0,"","","","",{"$f":"IF(I1197<>0,VLOOKUP(J1197,A01A02!$A$3:$K$13,11,FALSE),\"\")","v":""},{"$f":"IF(I1197<>0,VLOOKUP(J1197,A01A02!A:J,10,0),\"\")","v":""}]
[null,0,"","","","",{"$f":"IF(B1198<>0,VLOOKUP(C1198,A01A02!$A$3:$K$13,11,FALSE),\"\")","v":""},null,0,"","","","",{"$f":"IF(I1198<>0,VLOOKUP(J1198,A01A02!$A$3:$K$13,11,FALSE),\"\")","v":""},{"$f":"IF(I1198<>0,VLOOKUP(J1198,A01A02!A:J,10,0),\"\")","v":""}]
[null,0,"","","","",{"$f":"IF(B1199<>0,VLOOKUP(C1199,A01A02!$A$3:$K$13,11,FALSE),\"\")","v":""},null,0,"","","","",{"$f":"IF(I1199<>0,VLOOKUP(J1199,A01A02!$A$3:$K$13,11,FALSE),\"\")","v":""},{"$f":"IF(I1199<>0,VLOOKUP(J1199,A01A02!A:J,10,0),\"\")","v":""}]
[null,0,"","","","",{"$f":"IF(B1200<>0,VLOOKUP(C1200,A01A02!$A$3:$K$13,11,FALSE),\"\")","v":""},null,0,"","","","",{"$f":"IF(I1200<>0,VLOOKUP(J1200,A01A02!$A$3:$K$13,11,FALSE),\"\")","v":""},{"$f":"IF(I1200<>0,VLOOKUP(J1200,A01A02!A:J,10,0),\"\")","v":""}]
[null,0,"","","","",{"$f":"IF(B1201<>0,VLOOKUP(C1201,A01A02!$A$3:$K$13,11,FALSE),\"\")","v":""},null,0,"","","","",{"$f":"IF(I1201<>0,VLOOKUP(J1201,A01A02!$A$3:$K$13,11,FALSE),\"\")","v":""},{"$f":"IF(I1201<>0,VLOOKUP(J1201,A01A02!A:J,10,0),\"\")","v":""}]
[null,0,"","","","",{"$f":"IF(B1202<>0,VLOOKUP(C1202,A01A02!$A$3:$K$13,11,FALSE),\"\")","v":""},null,0,"","","","",{"$f":"IF(I1202<>0,VLOOKUP(J1202,A01A02!$A$3:$K$13,11,FALSE),\"\")","v":""},{"$f":"IF(I1202<>0,VLOOKUP(J1202,A01A02!A:J,10,0),\"\")","v":""}]
[null,0,"","","","",{"$f":"IF(B1203<>0,VLOOKUP(C1203,A01A02!$A$3:$K$13,11,FALSE),\"\")","v":""},null,0,"","","","",{"$f":"IF(I1203<>0,VLOOKUP(J1203,A01A02!$A$3:$K$13,11,FALSE),\"\")","v":""},{"$f":"IF(I1203<>0,VLOOKUP(J1203,A01A02!A:J,10,0),\"\")","v":""}]
[null,0,"","","","",{"$f":"IF(B1204<>0,VLOOKUP(C1204,A01A02!$A$3:$K$13,11,FALSE),\"\")","v":""},null,0,"","","","",{"$f":"IF(I1204<>0,VLOOKUP(J1204,A01A02!$A$3:$K$13,11,FALSE),\"\")","v":""},{"$f":"IF(I1204<>0,VLOOKUP(J1204,A01A02!A:J,10,0),\"\")","v":""}]
[null,0,"","","","",{"$f":"IF(B1205<>0,VLOOKUP(C1205,A01A02!$A$3:$K$13,11,FALSE),\"\")","v":""},null,0,"","","","",{"$f":"IF(I1205<>0,VLOOKUP(J1205,A01A02!$A$3:$K$13,11,FALSE),\"\")","v":""},{"$f":"IF(I1205<>0,VLOOKUP(J1205,A01A02!A:J,10,0),\"\")","v":""}]
[null,0,"","","","",{"$f":"IF(B1206<>0,VLOOKUP(C1206,A01A02!$A$3:$K$13,11,FALSE),\"\")","v":""},null,0,"","","","",{"$f":"IF(I1206<>0,VLOOKUP(J1206,A01A02!$A$3:$K$13,11,FALSE),\"\")","v":""},{"$f":"IF(I1206<>0,VLOOKUP(J1206,A01A02!A:J,10,0),\"\")","v":""}]
[null,0,"","","","",{"$f":"IF(B1207<>0,VLOOKUP(C1207,A01A02!$A$3:$K$13,11,FALSE),\"\")","v":""},null,0,"","","","",{"$f":"IF(I1207<>0,VLOOKUP(J1207,A01A02!$A$3:$K$13,11,FALSE),\"\")","v":""},{"$f":"IF(I1207<>0,VLOOKUP(J1207,A01A02!A:J,10,0),\"\")","v":""}]
[null,0,"","","","",{"$f":"IF(B1208<>0,VLOOKUP(C1208,A01A02!$A$3:$K$13,11,FALSE),\"\")","v":""},null,0,"","","","",{"$f":"IF(I1208<>0,VLOOKUP(J1208,A01A02!$A$3:$K$13,11,FALSE),\"\")","v":""},{"$f":"IF(I1208<>0,VLOOKUP(J1208,A01A02!A:J,10,0),\"\")","v":""}]
[null,0,"","","","",{"$f":"IF(B1209<>0,VLOOKUP(C1209,A01A02!$A$3:$K$13,11,FALSE),\"\")","v":""},null,0,"","","","",{"$f":"IF(I1209<>0,VLOOKUP(J1209,A01A02!$A$3:$K$13,11,FALSE),\"\")","v":""},{"$f":"IF(I1209<>0,VLOOKUP(J1209,A01A02!A:J,10,0),\"\")","v":""}]
[null,0,"","","","",{"$f":"IF(B1210<>0,VLOOKUP(C1210,A01A02!$A$3:$K$13,11,FALSE),\"\")","v":""},null,0,"","","","",{"$f":"IF(I1210<>0,VLOOKUP(J1210,A01A02!$A$3:$K$13,11,FALSE),\"\")","v":""},{"$f":"IF(I1210<>0,VLOOKUP(J1210,A01A02!A:J,10,0),\"\")","v":""}]
[null,0,"","","","",{"$f":"IF(B1211<>0,VLOOKUP(C1211,A01A02!$A$3:$K$13,11,FALSE),\"\")","v":""},null,0,"","","","",{"$f":"IF(I1211<>0,VLOOKUP(J1211,A01A02!$A$3:$K$13,11,FALSE),\"\")","v":""},{"$f":"IF(I1211<>0,VLOOKUP(J1211,A01A02!A:J,10,0),\"\")","v":""}]
[null,0,"","","","",{"$f":"IF(B1212<>0,VLOOKUP(C1212,A01A02!$A$3:$K$13,11,FALSE),\"\")","v":""},null,0,"","","","",{"$f":"IF(I1212<>0,VLOOKUP(J1212,A01A02!$A$3:$K$13,11,FALSE),\"\")","v":""},{"$f":"IF(I1212<>0,VLOOKUP(J1212,A01A02!A:J,10,0),\"\")","v":""}]
[null,0,"","","","",{"$f":"IF(B1213<>0,VLOOKUP(C1213,A01A02!$A$3:$K$13,11,FALSE),\"\")","v":""},null,0,"","","","",{"$f":"IF(I1213<>0,VLOOKUP(J1213,A01A02!$A$3:$K$13,11,FALSE),\"\")","v":""},{"$f":"IF(I1213<>0,VLOOKUP(J1213,A01A02!A:J,10,0),\"\")","v":""}]
[null,0,"","","","",{"$f":"IF(B1214<>0,VLOOKUP(C1214,A01A02!$A$3:$K$13,11,FALSE),\"\")","v":""},null,0,"","","","",{"$f":"IF(I1214<>0,VLOOKUP(J1214,A01A02!$A$3:$K$13,11,FALSE),\"\")","v":""},{"$f":"IF(I1214<>0,VLOOKUP(J1214,A01A02!A:J,10,0),\"\")","v":""}]
[null,0,"","","","",{"$f":"IF(B1215<>0,VLOOKUP(C1215,A01A02!$A$3:$K$13,11,FALSE),\"\")","v":""},null,0,"","","","",{"$f":"IF(I1215<>0,VLOOKUP(J1215,A01A02!$A$3:$K$13,11,FALSE),\"\")","v":""},{"$f":"IF(I1215<>0,VLOOKUP(J1215,A01A02!A:J,10,0),\"\")","v":""}]
[null,0,"","","","",{"$f":"IF(B1216<>0,VLOOKUP(C1216,A01A02!$A$3:$K$13,11,FALSE),\"\")","v":""},null,0,"","","","",{"$f":"IF(I1216<>0,VLOOKUP(J1216,A01A02!$A$3:$K$13,11,FALSE),\"\")","v":""},{"$f":"IF(I1216<>0,VLOOKUP(J1216,A01A02!A:J,10,0),\"\")","v":""}]
[null,0,"","","","",{"$f":"IF(B1217<>0,VLOOKUP(C1217,A01A02!$A$3:$K$13,11,FALSE),\"\")","v":""},null,0,"","","","",{"$f":"IF(I1217<>0,VLOOKUP(J1217,A01A02!$A$3:$K$13,11,FALSE),\"\")","v":""},{"$f":"IF(I1217<>0,VLOOKUP(J1217,A01A02!A:J,10,0),\"\")","v":""}]
[null,0,"","","","",{"$f":"IF(B1218<>0,VLOOKUP(C1218,A01A02!$A$3:$K$13,11,FALSE),\"\")","v":""},null,0,"","","","",{"$f":"IF(I1218<>0,VLOOKUP(J1218,A01A02!$A$3:$K$13,11,FALSE),\"\")","v":""},{"$f":"IF(I1218<>0,VLOOKUP(J1218,A01A02!A:J,10,0),\"\")","v":""}]
[null,{"$f":"IF(A1219<>\"\",xycall(A1219),0)","v":0},"","","","",{"$f":"IF(B1219<>0,VLOOKUP(C1219,A01A02!$A$3:$K$13,11,FALSE),\"\")","v":""},null,0,"","","","",{"$f":"IF(I1219<>0,VLOOKUP(J1219,A01A02!$A$3:$K$13,11,FALSE),\"\")","v":""},{"$f":"IF(I1219<>0,VLOOKUP(J1219,A01A02!A:J,10,0),\"\")","v":""}]
[null,0,"","","","",{"$f":"IF(B1220<>0,VLOOKUP(C1220,A01A02!$A$3:$K$13,11,FALSE),\"\")","v":""},null,0,"","","","",{"$f":"IF(I1220<>0,VLOOKUP(J1220,A01A02!$A$3:$K$13,11,FALSE),\"\")","v":""},{"$f":"IF(I1220<>0,VLOOKUP(J1220,A01A02!A:J,10,0),\"\")","v":""}]
[null,0,"","","","",{"$f":"IF(B1221<>0,VLOOKUP(C1221,A01A02!$A$3:$K$13,11,FALSE),\"\")","v":""},null,0,"","","","",{"$f":"IF(I1221<>0,VLOOKUP(J1221,A01A02!$A$3:$K$13,11,FALSE),\"\")","v":""},{"$f":"IF(I1221<>0,VLOOKUP(J1221,A01A02!A:J,10,0),\"\")","v":""}]
[null,0,"","","","",{"$f":"IF(B1222<>0,VLOOKUP(C1222,A01A02!$A$3:$K$13,11,FALSE),\"\")","v":""},null,0,"","","","",{"$f":"IF(I1222<>0,VLOOKUP(J1222,A01A02!$A$3:$K$13,11,FALSE),\"\")","v":""},{"$f":"IF(I1222<>0,VLOOKUP(J1222,A01A02!A:J,10,0),\"\")","v":""}]
[null,0,"","","","",{"$f":"IF(B1223<>0,VLOOKUP(C1223,A01A02!$A$3:$K$13,11,FALSE),\"\")","v":""},null,0,"","","","",{"$f":"IF(I1223<>0,VLOOKUP(J1223,A01A02!$A$3:$K$13,11,FALSE),\"\")","v":""},{"$f":"IF(I1223<>0,VLOOKUP(J1223,A01A02!A:J,10,0),\"\")","v":""}]
[null,0,"","","","",{"$f":"IF(B1224<>0,VLOOKUP(C1224,A01A02!$A$3:$K$13,11,FALSE),\"\")","v":""},null,0,"","","","",{"$f":"IF(I1224<>0,VLOOKUP(J1224,A01A02!$A$3:$K$13,11,FALSE),\"\")","v":""},{"$f":"IF(I1224<>0,VLOOKUP(J1224,A01A02!A:J,10,0),\"\")","v":""}]
[null,0,"","","","",{"$f":"IF(B1225<>0,VLOOKUP(C1225,A01A02!$A$3:$K$13,11,FALSE),\"\")","v":""},null,0,"","","","",{"$f":"IF(I1225<>0,VLOOKUP(J1225,A01A02!$A$3:$K$13,11,FALSE),\"\")","v":""},{"$f":"IF(I1225<>0,VLOOKUP(J1225,A01A02!A:J,10,0),\"\")","v":""}]
[null,0,"","","","",{"$f":"IF(B1226<>0,VLOOKUP(C1226,A01A02!$A$3:$K$13,11,FALSE),\"\")","v":""},null,0,"","","","",{"$f":"IF(I1226<>0,VLOOKUP(J1226,A01A02!$A$3:$K$13,11,FALSE),\"\")","v":""},{"$f":"IF(I1226<>0,VLOOKUP(J1226,A01A02!A:J,10,0),\"\")","v":""}]
[null,0,"","","","",{"$f":"IF(B1227<>0,VLOOKUP(C1227,A01A02!$A$3:$K$13,11,FALSE),\"\")","v":""},null,0,"","","","",{"$f":"IF(I1227<>0,VLOOKUP(J1227,A01A02!$A$3:$K$13,11,FALSE),\"\")","v":""},{"$f":"IF(I1227<>0,VLOOKUP(J1227,A01A02!A:J,10,0),\"\")","v":""}]
[null,0,"","","","",{"$f":"IF(B1228<>0,VLOOKUP(C1228,A01A02!$A$3:$K$13,11,FALSE),\"\")","v":""},null,0,"","","","",{"$f":"IF(I1228<>0,VLOOKUP(J1228,A01A02!$A$3:$K$13,11,FALSE),\"\")","v":""},{"$f":"IF(I1228<>0,VLOOKUP(J1228,A01A02!A:J,10,0),\"\")","v":""}]
[null,0,"","","","",{"$f":"IF(B1229<>0,VLOOKUP(C1229,A01A02!$A$3:$K$13,11,FALSE),\"\")","v":""},null,0,"","","","",{"$f":"IF(I1229<>0,VLOOKUP(J1229,A01A02!$A$3:$K$13,11,FALSE),\"\")","v":""},{"$f":"IF(I1229<>0,VLOOKUP(J1229,A01A02!A:J,10,0),\"\")","v":""}]
[null,0,"","","","",{"$f":"IF(B1230<>0,VLOOKUP(C1230,A01A02!$A$3:$K$13,11,FALSE),\"\")","v":""},null,0,"","","","",{"$f":"IF(I1230<>0,VLOOKUP(J1230,A01A02!$A$3:$K$13,11,FALSE),\"\")","v":""},{"$f":"IF(I1230<>0,VLOOKUP(J1230,A01A02!A:J,10,0),\"\")","v":""}]
[null,0,"","","","",{"$f":"IF(B1231<>0,VLOOKUP(C1231,A01A02!$A$3:$K$13,11,FALSE),\"\")","v":""},null,0,"","","","",{"$f":"IF(I1231<>0,VLOOKUP(J1231,A01A02!$A$3:$K$13,11,FALSE),\"\")","v":""},{"$f":"IF(I1231<>0,VLOOKUP(J1231,A01A02!A:J,10,0),\"\")","v":""}]
[null,0,"","","","",{"$f":"IF(B1232<>0,VLOOKUP(C1232,A01A02!$A$3:$K$13,11,FALSE),\"\")","v":""},null,0,"","","","",{"$f":"IF(I1232<>0,VLOOKUP(J1232,A01A02!$A$3:$K$13,11,FALSE),\"\")","v":""},{"$f":"IF(I1232<>0,VLOOKUP(J1232,A01A02!A:J,10,0),\"\")","v":""}]
[null,0,"","","","",{"$f":"IF(B1233<>0,VLOOKUP(C1233,A01A02!$A$3:$K$13,11,FALSE),\"\")","v":""},null,0,"","","","",{"$f":"IF(I1233<>0,VLOOKUP(J1233,A01A02!$A$3:$K$13,11,FALSE),\"\")","v":""},{"$f":"IF(I1233<>0,VLOOKUP(J1233,A01A02!A:J,10,0),\"\")","v":""}]
[null,0,"","","","",{"$f":"IF(B1234<>0,VLOOKUP(C1234,A01A02!$A$3:$K$13,11,FALSE),\"\")","v":""},null,0,"","","","",{"$f":"IF(I1234<>0,VLOOKUP(J1234,A01A02!$A$3:$K$13,11,FALSE),\"\")","v":""},{"$f":"IF(I1234<>0,VLOOKUP(J1234,A01A02!A:J,10,0),\"\")","v":""}]
[null,0,"","","","",{"$f":"IF(B1235<>0,VLOOKUP(C1235,A01A02!$A$3:$K$13,11,FALSE),\"\")","v":""},null,0,"","","","",{"$f":"IF(I1235<>0,VLOOKUP(J1235,A01A02!$A$3:$K$13,11,FALSE),\"\")","v":""},{"$f":"IF(I1235<>0,VLOOKUP(J1235,A01A02!A:J,10,0),\"\")","v":""}]
[null,0,"","","","",{"$f":"IF(B1236<>0,VLOOKUP(C1236,A01A02!$A$3:$K$13,11,FALSE),\"\")","v":""},null,0,"","","","",{"$f":"IF(I1236<>0,VLOOKUP(J1236,A01A02!$A$3:$K$13,11,FALSE),\"\")","v":""},{"$f":"IF(I1236<>0,VLOOKUP(J1236,A01A02!A:J,10,0),\"\")","v":""}]
[null,0,"","","","",{"$f":"IF(B1237<>0,VLOOKUP(C1237,A01A02!$A$3:$K$13,11,FALSE),\"\")","v":""},null,0,"","","","",{"$f":"IF(I1237<>0,VLOOKUP(J1237,A01A02!$A$3:$K$13,11,FALSE),\"\")","v":""},{"$f":"IF(I1237<>0,VLOOKUP(J1237,A01A02!A:J,10,0),\"\")","v":""}]
[null,0,"","","","",{"$f":"IF(B1238<>0,VLOOKUP(C1238,A01A02!$A$3:$K$13,11,FALSE),\"\")","v":""},null,0,"","","","",{"$f":"IF(I1238<>0,VLOOKUP(J1238,A01A02!$A$3:$K$13,11,FALSE),\"\")","v":""},{"$f":"IF(I1238<>0,VLOOKUP(J1238,A01A02!A:J,10,0),\"\")","v":""}]
[null,0,"","","","",{"$f":"IF(B1239<>0,VLOOKUP(C1239,A01A02!$A$3:$K$13,11,FALSE),\"\")","v":""},null,0,"","","","",{"$f":"IF(I1239<>0,VLOOKUP(J1239,A01A02!$A$3:$K$13,11,FALSE),\"\")","v":""},{"$f":"IF(I1239<>0,VLOOKUP(J1239,A01A02!A:J,10,0),\"\")","v":""}]
[null,0,"","","","",{"$f":"IF(B1240<>0,VLOOKUP(C1240,A01A02!$A$3:$K$13,11,FALSE),\"\")","v":""},null,0,"","","","",{"$f":"IF(I1240<>0,VLOOKUP(J1240,A01A02!$A$3:$K$13,11,FALSE),\"\")","v":""},{"$f":"IF(I1240<>0,VLOOKUP(J1240,A01A02!A:J,10,0),\"\")","v":""}]
[null,0,"","","","",{"$f":"IF(B1241<>0,VLOOKUP(C1241,A01A02!$A$3:$K$13,11,FALSE),\"\")","v":""},null,0,"","","","",{"$f":"IF(I1241<>0,VLOOKUP(J1241,A01A02!$A$3:$K$13,11,FALSE),\"\")","v":""},{"$f":"IF(I1241<>0,VLOOKUP(J1241,A01A02!A:J,10,0),\"\")","v":""}]
[null,0,"","","","",{"$f":"IF(B1242<>0,VLOOKUP(C1242,A01A02!$A$3:$K$13,11,FALSE),\"\")","v":""},null,0,"","","","",{"$f":"IF(I1242<>0,VLOOKUP(J1242,A01A02!$A$3:$K$13,11,FALSE),\"\")","v":""},{"$f":"IF(I1242<>0,VLOOKUP(J1242,A01A02!A:J,10,0),\"\")","v":""}]
[null,0,"","","","",{"$f":"IF(B1243<>0,VLOOKUP(C1243,A01A02!$A$3:$K$13,11,FALSE),\"\")","v":""},null,0,"","","","",{"$f":"IF(I1243<>0,VLOOKUP(J1243,A01A02!$A$3:$K$13,11,FALSE),\"\")","v":""},{"$f":"IF(I1243<>0,VLOOKUP(J1243,A01A02!A:J,10,0),\"\")","v":""}]
[null,0,"","","","",{"$f":"IF(B1244<>0,VLOOKUP(C1244,A01A02!$A$3:$K$13,11,FALSE),\"\")","v":""},null,0,"","","","",{"$f":"IF(I1244<>0,VLOOKUP(J1244,A01A02!$A$3:$K$13,11,FALSE),\"\")","v":""},{"$f":"IF(I1244<>0,VLOOKUP(J1244,A01A02!A:J,10,0),\"\")","v":""}]
[null,0,"","","","",{"$f":"IF(B1245<>0,VLOOKUP(C1245,A01A02!$A$3:$K$13,11,FALSE),\"\")","v":""},null,0,"","","","",{"$f":"IF(I1245<>0,VLOOKUP(J1245,A01A02!$A$3:$K$13,11,FALSE),\"\")","v":""},{"$f":"IF(I1245<>0,VLOOKUP(J1245,A01A02!A:J,10,0),\"\")","v":""}]
[null,0,"","","","",{"$f":"IF(B1246<>0,VLOOKUP(C1246,A01A02!$A$3:$K$13,11,FALSE),\"\")","v":""},null,0,"","","","",{"$f":"IF(I1246<>0,VLOOKUP(J1246,A01A02!$A$3:$K$13,11,FALSE),\"\")","v":""},{"$f":"IF(I1246<>0,VLOOKUP(J1246,A01A02!A:J,10,0),\"\")","v":""}]
[null,0,"","","","",{"$f":"IF(B1247<>0,VLOOKUP(C1247,A01A02!$A$3:$K$13,11,FALSE),\"\")","v":""},null,0,"","","","",{"$f":"IF(I1247<>0,VLOOKUP(J1247,A01A02!$A$3:$K$13,11,FALSE),\"\")","v":""},{"$f":"IF(I1247<>0,VLOOKUP(J1247,A01A02!A:J,10,0),\"\")","v":""}]
[null,0,"","","","",{"$f":"IF(B1248<>0,VLOOKUP(C1248,A01A02!$A$3:$K$13,11,FALSE),\"\")","v":""},null,0,"","","","",{"$f":"IF(I1248<>0,VLOOKUP(J1248,A01A02!$A$3:$K$13,11,FALSE),\"\")","v":""},{"$f":"IF(I1248<>0,VLOOKUP(J1248,A01A02!A:J,10,0),\"\")","v":""}]
[null,0,"","","","",{"$f":"IF(B1249<>0,VLOOKUP(C1249,A01A02!$A$3:$K$13,11,FALSE),\"\")","v":""},null,0,"","","","",{"$f":"IF(I1249<>0,VLOOKUP(J1249,A01A02!$A$3:$K$13,11,FALSE),\"\")","v":""},{"$f":"IF(I1249<>0,VLOOKUP(J1249,A01A02!A:J,10,0),\"\")","v":""}]
[null,0,"","","","",{"$f":"IF(B1250<>0,VLOOKUP(C1250,A01A02!$A$3:$K$13,11,FALSE),\"\")","v":""},null,0,"","","","",{"$f":"IF(I1250<>0,VLOOKUP(J1250,A01A02!$A$3:$K$13,11,FALSE),\"\")","v":""},{"$f":"IF(I1250<>0,VLOOKUP(J1250,A01A02!A:J,10,0),\"\")","v":""}]
[null,0,"","","","",{"$f":"IF(B1251<>0,VLOOKUP(C1251,A01A02!$A$3:$K$13,11,FALSE),\"\")","v":""},null,0,"","","","",{"$f":"IF(I1251<>0,VLOOKUP(J1251,A01A02!$A$3:$K$13,11,FALSE),\"\")","v":""},{"$f":"IF(I1251<>0,VLOOKUP(J1251,A01A02!A:J,10,0),\"\")","v":""}]
[null,0,"","","","",{"$f":"IF(B1252<>0,VLOOKUP(C1252,A01A02!$A$3:$K$13,11,FALSE),\"\")","v":""},null,0,"","","","",{"$f":"IF(I1252<>0,VLOOKUP(J1252,A01A02!$A$3:$K$13,11,FALSE),\"\")","v":""},{"$f":"IF(I1252<>0,VLOOKUP(J1252,A01A02!A:J,10,0),\"\")","v":""}]
[null,0,"","","","",{"$f":"IF(B1253<>0,VLOOKUP(C1253,A01A02!$A$3:$K$13,11,FALSE),\"\")","v":""},null,0,"","","","",{"$f":"IF(I1253<>0,VLOOKUP(J1253,A01A02!$A$3:$K$13,11,FALSE),\"\")","v":""},{"$f":"IF(I1253<>0,VLOOKUP(J1253,A01A02!A:J,10,0),\"\")","v":""}]
[null,0,"","","","",{"$f":"IF(B1254<>0,VLOOKUP(C1254,A01A02!$A$3:$K$13,11,FALSE),\"\")","v":""},null,0,"","","","",{"$f":"IF(I1254<>0,VLOOKUP(J1254,A01A02!$A$3:$K$13,11,FALSE),\"\")","v":""},{"$f":"IF(I1254<>0,VLOOKUP(J1254,A01A02!A:J,10,0),\"\")","v":""}]
[null,0,"","","","",{"$f":"IF(B1255<>0,VLOOKUP(C1255,A01A02!$A$3:$K$13,11,FALSE),\"\")","v":""},null,0,"","","","",{"$f":"IF(I1255<>0,VLOOKUP(J1255,A01A02!$A$3:$K$13,11,FALSE),\"\")","v":""},{"$f":"IF(I1255<>0,VLOOKUP(J1255,A01A02!A:J,10,0),\"\")","v":""}]
[null,0,"","","","",{"$f":"IF(B1256<>0,VLOOKUP(C1256,A01A02!$A$3:$K$13,11,FALSE),\"\")","v":""},null,0,"","","","",{"$f":"IF(I1256<>0,VLOOKUP(J1256,A01A02!$A$3:$K$13,11,FALSE),\"\")","v":""},{"$f":"IF(I1256<>0,VLOOKUP(J1256,A01A02!A:J,10,0),\"\")","v":""}]
[null,0,"","","","",{"$f":"IF(B1257<>0,VLOOKUP(C1257,A01A02!$A$3:$K$13,11,FALSE),\"\")","v":""},null,0,"","","","",{"$f":"IF(I1257<>0,VLOOKUP(J1257,A01A02!$A$3:$K$13,11,FALSE),\"\")","v":""},{"$f":"IF(I1257<>0,VLOOKUP(J1257,A01A02!A:J,10,0),\"\")","v":""}]
[null,0,"","","","",{"$f":"IF(B1258<>0,VLOOKUP(C1258,A01A02!$A$3:$K$13,11,FALSE),\"\")","v":""},null,0,"","","","",{"$f":"IF(I1258<>0,VLOOKUP(J1258,A01A02!$A$3:$K$13,11,FALSE),\"\")","v":""},{"$f":"IF(I1258<>0,VLOOKUP(J1258,A01A02!A:J,10,0),\"\")","v":""}]
[null,0,{"$f":"IF(B1259<>0,znoget(B1259),\"\")","v":""},{"$f":"IF(B1259<>0,znaget(B1259),\"\")","v":""},{"$f":"IF(B1259<>0,xget(B1259),\"\")","v":""},{"$f":"IF(B1259<>0,yget(B1259),\"\")","v":""},{"$f":"IF(B1259<>0,VLOOKUP(C1259,A01A02!$A$3:$K$13,11,FALSE),\"\")","v":""},null,{"$f":"IF(H1259<>\"\",xycall(H1259),0)","v":0},{"$f":"IF(I1259<>0,znoget(I1259),\"\")","v":""},{"$f":"IF(I1259<>0,znaget(I1259),\"\")","v":""},{"$f":"IF(I1259<>0,xget(I1259),\"\")","v":""},{"$f":"IF(I1259<>0,yget(I1259),\"\")","v":""},{"$f":"IF(I1259<>0,VLOOKUP(J1259,A01A02!$A$3:$K$13,11,FALSE),\"\")","v":""},{"$f":"IF(I1259<>0,VLOOKUP(J1259,A01A02!A:J,10,0),\"\")","v":""}]
[null,0,"","","","",{"$f":"IF(B1260<>0,VLOOKUP(C1260,A01A02!$A$3:$K$13,11,FALSE),\"\")","v":""},null,0,"","","","",{"$f":"IF(I1260<>0,VLOOKUP(J1260,A01A02!$A$3:$K$13,11,FALSE),\"\")","v":""},{"$f":"IF(I1260<>0,VLOOKUP(J1260,A01A02!A:J,10,0),\"\")","v":""}]
[null,0,"","","","",{"$f":"IF(B1261<>0,VLOOKUP(C1261,A01A02!$A$3:$K$13,11,FALSE),\"\")","v":""},null,0,"","","","",{"$f":"IF(I1261<>0,VLOOKUP(J1261,A01A02!$A$3:$K$13,11,FALSE),\"\")","v":""},{"$f":"IF(I1261<>0,VLOOKUP(J1261,A01A02!A:J,10,0),\"\")","v":""}]
[null,0,"","","","",{"$f":"IF(B1262<>0,VLOOKUP(C1262,A01A02!$A$3:$K$13,11,FALSE),\"\")","v":""},null,0,"","","","",{"$f":"IF(I1262<>0,VLOOKUP(J1262,A01A02!$A$3:$K$13,11,FALSE),\"\")","v":""},{"$f":"IF(I1262<>0,VLOOKUP(J1262,A01A02!A:J,10,0),\"\")","v":""}]
[null,0,"","","","",{"$f":"IF(B1263<>0,VLOOKUP(C1263,A01A02!$A$3:$K$13,11,FALSE),\"\")","v":""},null,0,"","","","",{"$f":"IF(I1263<>0,VLOOKUP(J1263,A01A02!$A$3:$K$13,11,FALSE),\"\")","v":""},{"$f":"IF(I1263<>0,VLOOKUP(J1263,A01A02!A:J,10,0),\"\")","v":""}]
[null,0,"","","","",{"$f":"IF(B1264<>0,VLOOKUP(C1264,A01A02!$A$3:$K$13,11,FALSE),\"\")","v":""},null,0,"","","","",{"$f":"IF(I1264<>0,VLOOKUP(J1264,A01A02!$A$3:$K$13,11,FALSE),\"\")","v":""},{"$f":"IF(I1264<>0,VLOOKUP(J1264,A01A02!A:J,10,0),\"\")","v":""}]
[null,0,"","","","",{"$f":"IF(B1265<>0,VLOOKUP(C1265,A01A02!$A$3:$K$13,11,FALSE),\"\")","v":""},null,0,"","","","",{"$f":"IF(I1265<>0,VLOOKUP(J1265,A01A02!$A$3:$K$13,11,FALSE),\"\")","v":""},{"$f":"IF(I1265<>0,VLOOKUP(J1265,A01A02!A:J,10,0),\"\")","v":""}]
[null,0,"","","","",{"$f":"IF(B1266<>0,VLOOKUP(C1266,A01A02!$A$3:$K$13,11,FALSE),\"\")","v":""},null,0,"","","","",{"$f":"IF(I1266<>0,VLOOKUP(J1266,A01A02!$A$3:$K$13,11,FALSE),\"\")","v":""},{"$f":"IF(I1266<>0,VLOOKUP(J1266,A01A02!A:J,10,0),\"\")","v":""}]
[null,0,"","","","",{"$f":"IF(B1267<>0,VLOOKUP(C1267,A01A02!$A$3:$K$13,11,FALSE),\"\")","v":""},null,0,"","","","",{"$f":"IF(I1267<>0,VLOOKUP(J1267,A01A02!$A$3:$K$13,11,FALSE),\"\")","v":""},{"$f":"IF(I1267<>0,VLOOKUP(J1267,A01A02!A:J,10,0),\"\")","v":""}]
[null,0,"","","","",{"$f":"IF(B1268<>0,VLOOKUP(C1268,A01A02!$A$3:$K$13,11,FALSE),\"\")","v":""},null,0,"","","","",{"$f":"IF(I1268<>0,VLOOKUP(J1268,A01A02!$A$3:$K$13,11,FALSE),\"\")","v":""},{"$f":"IF(I1268<>0,VLOOKUP(J1268,A01A02!A:J,10,0),\"\")","v":""}]
[null,0,"","","","",{"$f":"IF(B1269<>0,VLOOKUP(C1269,A01A02!$A$3:$K$13,11,FALSE),\"\")","v":""},null,0,"","","","",{"$f":"IF(I1269<>0,VLOOKUP(J1269,A01A02!$A$3:$K$13,11,FALSE),\"\")","v":""},{"$f":"IF(I1269<>0,VLOOKUP(J1269,A01A02!A:J,10,0),\"\")","v":""}]
[null,0,"","","","",{"$f":"IF(B1270<>0,VLOOKUP(C1270,A01A02!$A$3:$K$13,11,FALSE),\"\")","v":""},null,0,"","","","",{"$f":"IF(I1270<>0,VLOOKUP(J1270,A01A02!$A$3:$K$13,11,FALSE),\"\")","v":""},{"$f":"IF(I1270<>0,VLOOKUP(J1270,A01A02!A:J,10,0),\"\")","v":""}]
[null,0,"","","","",{"$f":"IF(B1271<>0,VLOOKUP(C1271,A01A02!$A$3:$K$13,11,FALSE),\"\")","v":""},null,0,"","","","",{"$f":"IF(I1271<>0,VLOOKUP(J1271,A01A02!$A$3:$K$13,11,FALSE),\"\")","v":""},{"$f":"IF(I1271<>0,VLOOKUP(J1271,A01A02!A:J,10,0),\"\")","v":""}]
[null,0,"","","","",{"$f":"IF(B1272<>0,VLOOKUP(C1272,A01A02!$A$3:$K$13,11,FALSE),\"\")","v":""},null,0,"","","","",{"$f":"IF(I1272<>0,VLOOKUP(J1272,A01A02!$A$3:$K$13,11,FALSE),\"\")","v":""},{"$f":"IF(I1272<>0,VLOOKUP(J1272,A01A02!A:J,10,0),\"\")","v":""}]
[null,0,"","","","",{"$f":"IF(B1273<>0,VLOOKUP(C1273,A01A02!$A$3:$K$13,11,FALSE),\"\")","v":""},null,0,"","","","",{"$f":"IF(I1273<>0,VLOOKUP(J1273,A01A02!$A$3:$K$13,11,FALSE),\"\")","v":""},{"$f":"IF(I1273<>0,VLOOKUP(J1273,A01A02!A:J,10,0),\"\")","v":""}]
[null,0,"","","","",{"$f":"IF(B1274<>0,VLOOKUP(C1274,A01A02!$A$3:$K$13,11,FALSE),\"\")","v":""},null,0,"","","","",{"$f":"IF(I1274<>0,VLOOKUP(J1274,A01A02!$A$3:$K$13,11,FALSE),\"\")","v":""},{"$f":"IF(I1274<>0,VLOOKUP(J1274,A01A02!A:J,10,0),\"\")","v":""}]
[null,0,"","","","",{"$f":"IF(B1275<>0,VLOOKUP(C1275,A01A02!$A$3:$K$13,11,FALSE),\"\")","v":""},null,0,"","","","",{"$f":"IF(I1275<>0,VLOOKUP(J1275,A01A02!$A$3:$K$13,11,FALSE),\"\")","v":""},{"$f":"IF(I1275<>0,VLOOKUP(J1275,A01A02!A:J,10,0),\"\")","v":""}]
[null,0,"","","","",{"$f":"IF(B1276<>0,VLOOKUP(C1276,A01A02!$A$3:$K$13,11,FALSE),\"\")","v":""},null,0,"","","","",{"$f":"IF(I1276<>0,VLOOKUP(J1276,A01A02!$A$3:$K$13,11,FALSE),\"\")","v":""},{"$f":"IF(I1276<>0,VLOOKUP(J1276,A01A02!A:J,10,0),\"\")","v":""}]
[null,0,"","","","",{"$f":"IF(B1277<>0,VLOOKUP(C1277,A01A02!$A$3:$K$13,11,FALSE),\"\")","v":""},null,0,"","","","",{"$f":"IF(I1277<>0,VLOOKUP(J1277,A01A02!$A$3:$K$13,11,FALSE),\"\")","v":""},{"$f":"IF(I1277<>0,VLOOKUP(J1277,A01A02!A:J,10,0),\"\")","v":""}]
[null,0,"","","","",{"$f":"IF(B1278<>0,VLOOKUP(C1278,A01A02!$A$3:$K$13,11,FALSE),\"\")","v":""},null,0,"","","","",{"$f":"IF(I1278<>0,VLOOKUP(J1278,A01A02!$A$3:$K$13,11,FALSE),\"\")","v":""},{"$f":"IF(I1278<>0,VLOOKUP(J1278,A01A02!A:J,10,0),\"\")","v":""}]
[null,0,"","","","",{"$f":"IF(B1279<>0,VLOOKUP(C1279,A01A02!$A$3:$K$13,11,FALSE),\"\")","v":""},null,0,"","","","",{"$f":"IF(I1279<>0,VLOOKUP(J1279,A01A02!$A$3:$K$13,11,FALSE),\"\")","v":""},{"$f":"IF(I1279<>0,VLOOKUP(J1279,A01A02!A:J,10,0),\"\")","v":""}]
[null,0,"","","","",{"$f":"IF(B1280<>0,VLOOKUP(C1280,A01A02!$A$3:$K$13,11,FALSE),\"\")","v":""},null,0,"","","","",{"$f":"IF(I1280<>0,VLOOKUP(J1280,A01A02!$A$3:$K$13,11,FALSE),\"\")","v":""},{"$f":"IF(I1280<>0,VLOOKUP(J1280,A01A02!A:J,10,0),\"\")","v":""}]
[null,0,"","","","",{"$f":"IF(B1281<>0,VLOOKUP(C1281,A01A02!$A$3:$K$13,11,FALSE),\"\")","v":""},null,0,"","","","",{"$f":"IF(I1281<>0,VLOOKUP(J1281,A01A02!$A$3:$K$13,11,FALSE),\"\")","v":""},{"$f":"IF(I1281<>0,VLOOKUP(J1281,A01A02!A:J,10,0),\"\")","v":""}]
[null,0,"","","","",{"$f":"IF(B1282<>0,VLOOKUP(C1282,A01A02!$A$3:$K$13,11,FALSE),\"\")","v":""},null,0,"","","","",{"$f":"IF(I1282<>0,VLOOKUP(J1282,A01A02!$A$3:$K$13,11,FALSE),\"\")","v":""},{"$f":"IF(I1282<>0,VLOOKUP(J1282,A01A02!A:J,10,0),\"\")","v":""}]
[null,{"$f":"IF(A1283<>\"\",xycall(A1283),0)","v":0},"","","","",{"$f":"IF(B1283<>0,VLOOKUP(C1283,A01A02!$A$3:$K$13,11,FALSE),\"\")","v":""},null,0,"","","","",{"$f":"IF(I1283<>0,VLOOKUP(J1283,A01A02!$A$3:$K$13,11,FALSE),\"\")","v":""},{"$f":"IF(I1283<>0,VLOOKUP(J1283,A01A02!A:J,10,0),\"\")","v":""}]
[null,0,"","","","",{"$f":"IF(B1284<>0,VLOOKUP(C1284,A01A02!$A$3:$K$13,11,FALSE),\"\")","v":""},null,0,"","","","",{"$f":"IF(I1284<>0,VLOOKUP(J1284,A01A02!$A$3:$K$13,11,FALSE),\"\")","v":""},{"$f":"IF(I1284<>0,VLOOKUP(J1284,A01A02!A:J,10,0),\"\")","v":""}]
[null,0,"","","","",{"$f":"IF(B1285<>0,VLOOKUP(C1285,A01A02!$A$3:$K$13,11,FALSE),\"\")","v":""},null,0,"","","","",{"$f":"IF(I1285<>0,VLOOKUP(J1285,A01A02!$A$3:$K$13,11,FALSE),\"\")","v":""},{"$f":"IF(I1285<>0,VLOOKUP(J1285,A01A02!A:J,10,0),\"\")","v":""}]
[null,0,"","","","",{"$f":"IF(B1286<>0,VLOOKUP(C1286,A01A02!$A$3:$K$13,11,FALSE),\"\")","v":""},null,0,"","","","",{"$f":"IF(I1286<>0,VLOOKUP(J1286,A01A02!$A$3:$K$13,11,FALSE),\"\")","v":""},{"$f":"IF(I1286<>0,VLOOKUP(J1286,A01A02!A:J,10,0),\"\")","v":""}]
[null,0,"","","","",{"$f":"IF(B1287<>0,VLOOKUP(C1287,A01A02!$A$3:$K$13,11,FALSE),\"\")","v":""},null,0,"","","","",{"$f":"IF(I1287<>0,VLOOKUP(J1287,A01A02!$A$3:$K$13,11,FALSE),\"\")","v":""},{"$f":"IF(I1287<>0,VLOOKUP(J1287,A01A02!A:J,10,0),\"\")","v":""}]
[null,0,"","","","",{"$f":"IF(B1288<>0,VLOOKUP(C1288,A01A02!$A$3:$K$13,11,FALSE),\"\")","v":""},null,0,"","","","",{"$f":"IF(I1288<>0,VLOOKUP(J1288,A01A02!$A$3:$K$13,11,FALSE),\"\")","v":""},{"$f":"IF(I1288<>0,VLOOKUP(J1288,A01A02!A:J,10,0),\"\")","v":""}]
[null,0,"","","","",{"$f":"IF(B1289<>0,VLOOKUP(C1289,A01A02!$A$3:$K$13,11,FALSE),\"\")","v":""},null,0,"","","","",{"$f":"IF(I1289<>0,VLOOKUP(J1289,A01A02!$A$3:$K$13,11,FALSE),\"\")","v":""},{"$f":"IF(I1289<>0,VLOOKUP(J1289,A01A02!A:J,10,0),\"\")","v":""}]
[null,0,"","","","",{"$f":"IF(B1290<>0,VLOOKUP(C1290,A01A02!$A$3:$K$13,11,FALSE),\"\")","v":""},null,0,"","","","",{"$f":"IF(I1290<>0,VLOOKUP(J1290,A01A02!$A$3:$K$13,11,FALSE),\"\")","v":""},{"$f":"IF(I1290<>0,VLOOKUP(J1290,A01A02!A:J,10,0),\"\")","v":""}]
[null,0,"","","","",{"$f":"IF(B1291<>0,VLOOKUP(C1291,A01A02!$A$3:$K$13,11,FALSE),\"\")","v":""},null,0,"","","","",{"$f":"IF(I1291<>0,VLOOKUP(J1291,A01A02!$A$3:$K$13,11,FALSE),\"\")","v":""},{"$f":"IF(I1291<>0,VLOOKUP(J1291,A01A02!A:J,10,0),\"\")","v":""}]
[null,0,"","","","",{"$f":"IF(B1292<>0,VLOOKUP(C1292,A01A02!$A$3:$K$13,11,FALSE),\"\")","v":""},null,0,"","","","",{"$f":"IF(I1292<>0,VLOOKUP(J1292,A01A02!$A$3:$K$13,11,FALSE),\"\")","v":""},{"$f":"IF(I1292<>0,VLOOKUP(J1292,A01A02!A:J,10,0),\"\")","v":""}]
[null,0,"","","","",{"$f":"IF(B1293<>0,VLOOKUP(C1293,A01A02!$A$3:$K$13,11,FALSE),\"\")","v":""},null,0,"","","","",{"$f":"IF(I1293<>0,VLOOKUP(J1293,A01A02!$A$3:$K$13,11,FALSE),\"\")","v":""},{"$f":"IF(I1293<>0,VLOOKUP(J1293,A01A02!A:J,10,0),\"\")","v":""}]
[null,0,"","","","",{"$f":"IF(B1294<>0,VLOOKUP(C1294,A01A02!$A$3:$K$13,11,FALSE),\"\")","v":""},null,0,"","","","",{"$f":"IF(I1294<>0,VLOOKUP(J1294,A01A02!$A$3:$K$13,11,FALSE),\"\")","v":""},{"$f":"IF(I1294<>0,VLOOKUP(J1294,A01A02!A:J,10,0),\"\")","v":""}]
[null,0,"","","","",{"$f":"IF(B1295<>0,VLOOKUP(C1295,A01A02!$A$3:$K$13,11,FALSE),\"\")","v":""},null,0,"","","","",{"$f":"IF(I1295<>0,VLOOKUP(J1295,A01A02!$A$3:$K$13,11,FALSE),\"\")","v":""},{"$f":"IF(I1295<>0,VLOOKUP(J1295,A01A02!A:J,10,0),\"\")","v":""}]
[null,0,"","","","",{"$f":"IF(B1296<>0,VLOOKUP(C1296,A01A02!$A$3:$K$13,11,FALSE),\"\")","v":""},null,0,"","","","",{"$f":"IF(I1296<>0,VLOOKUP(J1296,A01A02!$A$3:$K$13,11,FALSE),\"\")","v":""},{"$f":"IF(I1296<>0,VLOOKUP(J1296,A01A02!A:J,10,0),\"\")","v":""}]
[null,0,"","","","",{"$f":"IF(B1297<>0,VLOOKUP(C1297,A01A02!$A$3:$K$13,11,FALSE),\"\")","v":""},null,0,"","","","",{"$f":"IF(I1297<>0,VLOOKUP(J1297,A01A02!$A$3:$K$13,11,FALSE),\"\")","v":""},{"$f":"IF(I1297<>0,VLOOKUP(J1297,A01A02!A:J,10,0),\"\")","v":""}]
[null,0,"","","","",{"$f":"IF(B1298<>0,VLOOKUP(C1298,A01A02!$A$3:$K$13,11,FALSE),\"\")","v":""},null,0,"","","","",{"$f":"IF(I1298<>0,VLOOKUP(J1298,A01A02!$A$3:$K$13,11,FALSE),\"\")","v":""},{"$f":"IF(I1298<>0,VLOOKUP(J1298,A01A02!A:J,10,0),\"\")","v":""}]
[null,0,"","","","",{"$f":"IF(B1299<>0,VLOOKUP(C1299,A01A02!$A$3:$K$13,11,FALSE),\"\")","v":""},null,0,"","","","",{"$f":"IF(I1299<>0,VLOOKUP(J1299,A01A02!$A$3:$K$13,11,FALSE),\"\")","v":""},{"$f":"IF(I1299<>0,VLOOKUP(J1299,A01A02!A:J,10,0),\"\")","v":""}]
[null,0,"","","","",{"$f":"IF(B1300<>0,VLOOKUP(C1300,A01A02!$A$3:$K$13,11,FALSE),\"\")","v":""},null,0,"","","","",{"$f":"IF(I1300<>0,VLOOKUP(J1300,A01A02!$A$3:$K$13,11,FALSE),\"\")","v":""},{"$f":"IF(I1300<>0,VLOOKUP(J1300,A01A02!A:J,10,0),\"\")","v":""}]
[null,0,"","","","",{"$f":"IF(B1301<>0,VLOOKUP(C1301,A01A02!$A$3:$K$13,11,FALSE),\"\")","v":""},null,0,"","","","",{"$f":"IF(I1301<>0,VLOOKUP(J1301,A01A02!$A$3:$K$13,11,FALSE),\"\")","v":""},{"$f":"IF(I1301<>0,VLOOKUP(J1301,A01A02!A:J,10,0),\"\")","v":""}]
[null,0,"","","","",{"$f":"IF(B1302<>0,VLOOKUP(C1302,A01A02!$A$3:$K$13,11,FALSE),\"\")","v":""},null,0,"","","","",{"$f":"IF(I1302<>0,VLOOKUP(J1302,A01A02!$A$3:$K$13,11,FALSE),\"\")","v":""},{"$f":"IF(I1302<>0,VLOOKUP(J1302,A01A02!A:J,10,0),\"\")","v":""}]
[null,0,"","","","",{"$f":"IF(B1303<>0,VLOOKUP(C1303,A01A02!$A$3:$K$13,11,FALSE),\"\")","v":""},null,0,"","","","",{"$f":"IF(I1303<>0,VLOOKUP(J1303,A01A02!$A$3:$K$13,11,FALSE),\"\")","v":""},{"$f":"IF(I1303<>0,VLOOKUP(J1303,A01A02!A:J,10,0),\"\")","v":""}]
[null,0,"","","","",{"$f":"IF(B1304<>0,VLOOKUP(C1304,A01A02!$A$3:$K$13,11,FALSE),\"\")","v":""},null,0,"","","","",{"$f":"IF(I1304<>0,VLOOKUP(J1304,A01A02!$A$3:$K$13,11,FALSE),\"\")","v":""},{"$f":"IF(I1304<>0,VLOOKUP(J1304,A01A02!A:J,10,0),\"\")","v":""}]
[null,0,"","","","",{"$f":"IF(B1305<>0,VLOOKUP(C1305,A01A02!$A$3:$K$13,11,FALSE),\"\")","v":""},null,0,"","","","",{"$f":"IF(I1305<>0,VLOOKUP(J1305,A01A02!$A$3:$K$13,11,FALSE),\"\")","v":""},{"$f":"IF(I1305<>0,VLOOKUP(J1305,A01A02!A:J,10,0),\"\")","v":""}]
[null,0,"","","","",{"$f":"IF(B1306<>0,VLOOKUP(C1306,A01A02!$A$3:$K$13,11,FALSE),\"\")","v":""},null,0,"","","","",{"$f":"IF(I1306<>0,VLOOKUP(J1306,A01A02!$A$3:$K$13,11,FALSE),\"\")","v":""},{"$f":"IF(I1306<>0,VLOOKUP(J1306,A01A02!A:J,10,0),\"\")","v":""}]
[null,0,"","","","",{"$f":"IF(B1307<>0,VLOOKUP(C1307,A01A02!$A$3:$K$13,11,FALSE),\"\")","v":""},null,0,"","","","",{"$f":"IF(I1307<>0,VLOOKUP(J1307,A01A02!$A$3:$K$13,11,FALSE),\"\")","v":""},{"$f":"IF(I1307<>0,VLOOKUP(J1307,A01A02!A:J,10,0),\"\")","v":""}]
[null,0,"","","","",{"$f":"IF(B1308<>0,VLOOKUP(C1308,A01A02!$A$3:$K$13,11,FALSE),\"\")","v":""},null,0,"","","","",{"$f":"IF(I1308<>0,VLOOKUP(J1308,A01A02!$A$3:$K$13,11,FALSE),\"\")","v":""},{"$f":"IF(I1308<>0,VLOOKUP(J1308,A01A02!A:J,10,0),\"\")","v":""}]
[null,0,"","","","",{"$f":"IF(B1309<>0,VLOOKUP(C1309,A01A02!$A$3:$K$13,11,FALSE),\"\")","v":""},null,0,"","","","",{"$f":"IF(I1309<>0,VLOOKUP(J1309,A01A02!$A$3:$K$13,11,FALSE),\"\")","v":""},{"$f":"IF(I1309<>0,VLOOKUP(J1309,A01A02!A:J,10,0),\"\")","v":""}]
[null,0,"","","","",{"$f":"IF(B1310<>0,VLOOKUP(C1310,A01A02!$A$3:$K$13,11,FALSE),\"\")","v":""},null,0,"","","","",{"$f":"IF(I1310<>0,VLOOKUP(J1310,A01A02!$A$3:$K$13,11,FALSE),\"\")","v":""},{"$f":"IF(I1310<>0,VLOOKUP(J1310,A01A02!A:J,10,0),\"\")","v":""}]
[null,0,"","","","",{"$f":"IF(B1311<>0,VLOOKUP(C1311,A01A02!$A$3:$K$13,11,FALSE),\"\")","v":""},null,0,"","","","",{"$f":"IF(I1311<>0,VLOOKUP(J1311,A01A02!$A$3:$K$13,11,FALSE),\"\")","v":""},{"$f":"IF(I1311<>0,VLOOKUP(J1311,A01A02!A:J,10,0),\"\")","v":""}]
[null,0,"","","","",{"$f":"IF(B1312<>0,VLOOKUP(C1312,A01A02!$A$3:$K$13,11,FALSE),\"\")","v":""},null,0,"","","","",{"$f":"IF(I1312<>0,VLOOKUP(J1312,A01A02!$A$3:$K$13,11,FALSE),\"\")","v":""},{"$f":"IF(I1312<>0,VLOOKUP(J1312,A01A02!A:J,10,0),\"\")","v":""}]
[null,0,"","","","",{"$f":"IF(B1313<>0,VLOOKUP(C1313,A01A02!$A$3:$K$13,11,FALSE),\"\")","v":""},null,0,"","","","",{"$f":"IF(I1313<>0,VLOOKUP(J1313,A01A02!$A$3:$K$13,11,FALSE),\"\")","v":""},{"$f":"IF(I1313<>0,VLOOKUP(J1313,A01A02!A:J,10,0),\"\")","v":""}]
[null,0,"","","","",{"$f":"IF(B1314<>0,VLOOKUP(C1314,A01A02!$A$3:$K$13,11,FALSE),\"\")","v":""},null,0,"","","","",{"$f":"IF(I1314<>0,VLOOKUP(J1314,A01A02!$A$3:$K$13,11,FALSE),\"\")","v":""},{"$f":"IF(I1314<>0,VLOOKUP(J1314,A01A02!A:J,10,0),\"\")","v":""}]
[null,0,"","","","",{"$f":"IF(B1315<>0,VLOOKUP(C1315,A01A02!$A$3:$K$13,11,FALSE),\"\")","v":""},null,0,"","","","",{"$f":"IF(I1315<>0,VLOOKUP(J1315,A01A02!$A$3:$K$13,11,FALSE),\"\")","v":""},{"$f":"IF(I1315<>0,VLOOKUP(J1315,A01A02!A:J,10,0),\"\")","v":""}]
[null,0,"","","","",{"$f":"IF(B1316<>0,VLOOKUP(C1316,A01A02!$A$3:$K$13,11,FALSE),\"\")","v":""},null,0,"","","","",{"$f":"IF(I1316<>0,VLOOKUP(J1316,A01A02!$A$3:$K$13,11,FALSE),\"\")","v":""},{"$f":"IF(I1316<>0,VLOOKUP(J1316,A01A02!A:J,10,0),\"\")","v":""}]
[null,0,"","","","",{"$f":"IF(B1317<>0,VLOOKUP(C1317,A01A02!$A$3:$K$13,11,FALSE),\"\")","v":""},null,0,"","","","",{"$f":"IF(I1317<>0,VLOOKUP(J1317,A01A02!$A$3:$K$13,11,FALSE),\"\")","v":""},{"$f":"IF(I1317<>0,VLOOKUP(J1317,A01A02!A:J,10,0),\"\")","v":""}]
[null,0,"","","","",{"$f":"IF(B1318<>0,VLOOKUP(C1318,A01A02!$A$3:$K$13,11,FALSE),\"\")","v":""},null,0,"","","","",{"$f":"IF(I1318<>0,VLOOKUP(J1318,A01A02!$A$3:$K$13,11,FALSE),\"\")","v":""},{"$f":"IF(I1318<>0,VLOOKUP(J1318,A01A02!A:J,10,0),\"\")","v":""}]
[null,0,"","","","",{"$f":"IF(B1319<>0,VLOOKUP(C1319,A01A02!$A$3:$K$13,11,FALSE),\"\")","v":""},null,0,"","","","",{"$f":"IF(I1319<>0,VLOOKUP(J1319,A01A02!$A$3:$K$13,11,FALSE),\"\")","v":""},{"$f":"IF(I1319<>0,VLOOKUP(J1319,A01A02!A:J,10,0),\"\")","v":""}]
[null,0,"","","","",{"$f":"IF(B1320<>0,VLOOKUP(C1320,A01A02!$A$3:$K$13,11,FALSE),\"\")","v":""},null,0,"","","","",{"$f":"IF(I1320<>0,VLOOKUP(J1320,A01A02!$A$3:$K$13,11,FALSE),\"\")","v":""},{"$f":"IF(I1320<>0,VLOOKUP(J1320,A01A02!A:J,10,0),\"\")","v":""}]
[null,0,"","","","",{"$f":"IF(B1321<>0,VLOOKUP(C1321,A01A02!$A$3:$K$13,11,FALSE),\"\")","v":""},null,0,"","","","",{"$f":"IF(I1321<>0,VLOOKUP(J1321,A01A02!$A$3:$K$13,11,FALSE),\"\")","v":""},{"$f":"IF(I1321<>0,VLOOKUP(J1321,A01A02!A:J,10,0),\"\")","v":""}]
[null,0,"","","","",{"$f":"IF(B1322<>0,VLOOKUP(C1322,A01A02!$A$3:$K$13,11,FALSE),\"\")","v":""},null,0,"","","","",{"$f":"IF(I1322<>0,VLOOKUP(J1322,A01A02!$A$3:$K$13,11,FALSE),\"\")","v":""},{"$f":"IF(I1322<>0,VLOOKUP(J1322,A01A02!A:J,10,0),\"\")","v":""}]
[null,0,{"$f":"IF(B1323<>0,znoget(B1323),\"\")","v":""},{"$f":"IF(B1323<>0,znaget(B1323),\"\")","v":""},{"$f":"IF(B1323<>0,xget(B1323),\"\")","v":""},{"$f":"IF(B1323<>0,yget(B1323),\"\")","v":""},{"$f":"IF(B1323<>0,VLOOKUP(C1323,A01A02!$A$3:$K$13,11,FALSE),\"\")","v":""},null,{"$f":"IF(H1323<>\"\",xycall(H1323),0)","v":0},{"$f":"IF(I1323<>0,znoget(I1323),\"\")","v":""},{"$f":"IF(I1323<>0,znaget(I1323),\"\")","v":""},{"$f":"IF(I1323<>0,xget(I1323),\"\")","v":""},{"$f":"IF(I1323<>0,yget(I1323),\"\")","v":""},{"$f":"IF(I1323<>0,VLOOKUP(J1323,A01A02!$A$3:$K$13,11,FALSE),\"\")","v":""},{"$f":"IF(I1323<>0,VLOOKUP(J1323,A01A02!A:J,10,0),\"\")","v":""}]
[null,0,"","","","",{"$f":"IF(B1324<>0,VLOOKUP(C1324,A01A02!$A$3:$K$13,11,FALSE),\"\")","v":""},null,0,"","","","",{"$f":"IF(I1324<>0,VLOOKUP(J1324,A01A02!$A$3:$K$13,11,FALSE),\"\")","v":""},{"$f":"IF(I1324<>0,VLOOKUP(J1324,A01A02!A:J,10,0),\"\")","v":""}]
[null,0,"","","","",{"$f":"IF(B1325<>0,VLOOKUP(C1325,A01A02!$A$3:$K$13,11,FALSE),\"\")","v":""},null,0,"","","","",{"$f":"IF(I1325<>0,VLOOKUP(J1325,A01A02!$A$3:$K$13,11,FALSE),\"\")","v":""},{"$f":"IF(I1325<>0,VLOOKUP(J1325,A01A02!A:J,10,0),\"\")","v":""}]
[null,0,"","","","",{"$f":"IF(B1326<>0,VLOOKUP(C1326,A01A02!$A$3:$K$13,11,FALSE),\"\")","v":""},null,0,"","","","",{"$f":"IF(I1326<>0,VLOOKUP(J1326,A01A02!$A$3:$K$13,11,FALSE),\"\")","v":""},{"$f":"IF(I1326<>0,VLOOKUP(J1326,A01A02!A:J,10,0),\"\")","v":""}]
[null,0,"","","","",{"$f":"IF(B1327<>0,VLOOKUP(C1327,A01A02!$A$3:$K$13,11,FALSE),\"\")","v":""},null,0,"","","","",{"$f":"IF(I1327<>0,VLOOKUP(J1327,A01A02!$A$3:$K$13,11,FALSE),\"\")","v":""},{"$f":"IF(I1327<>0,VLOOKUP(J1327,A01A02!A:J,10,0),\"\")","v":""}]
[null,0,"","","","",{"$f":"IF(B1328<>0,VLOOKUP(C1328,A01A02!$A$3:$K$13,11,FALSE),\"\")","v":""},null,0,"","","","",{"$f":"IF(I1328<>0,VLOOKUP(J1328,A01A02!$A$3:$K$13,11,FALSE),\"\")","v":""},{"$f":"IF(I1328<>0,VLOOKUP(J1328,A01A02!A:J,10,0),\"\")","v":""}]
[null,0,"","","","",{"$f":"IF(B1329<>0,VLOOKUP(C1329,A01A02!$A$3:$K$13,11,FALSE),\"\")","v":""},null,0,"","","","",{"$f":"IF(I1329<>0,VLOOKUP(J1329,A01A02!$A$3:$K$13,11,FALSE),\"\")","v":""},{"$f":"IF(I1329<>0,VLOOKUP(J1329,A01A02!A:J,10,0),\"\")","v":""}]
[null,0,"","","","",{"$f":"IF(B1330<>0,VLOOKUP(C1330,A01A02!$A$3:$K$13,11,FALSE),\"\")","v":""},null,0,"","","","",{"$f":"IF(I1330<>0,VLOOKUP(J1330,A01A02!$A$3:$K$13,11,FALSE),\"\")","v":""},{"$f":"IF(I1330<>0,VLOOKUP(J1330,A01A02!A:J,10,0),\"\")","v":""}]
[null,0,"","","","",{"$f":"IF(B1331<>0,VLOOKUP(C1331,A01A02!$A$3:$K$13,11,FALSE),\"\")","v":""},null,0,"","","","",{"$f":"IF(I1331<>0,VLOOKUP(J1331,A01A02!$A$3:$K$13,11,FALSE),\"\")","v":""},{"$f":"IF(I1331<>0,VLOOKUP(J1331,A01A02!A:J,10,0),\"\")","v":""}]
[null,0,"","","","",{"$f":"IF(B1332<>0,VLOOKUP(C1332,A01A02!$A$3:$K$13,11,FALSE),\"\")","v":""},null,0,"","","","",{"$f":"IF(I1332<>0,VLOOKUP(J1332,A01A02!$A$3:$K$13,11,FALSE),\"\")","v":""},{"$f":"IF(I1332<>0,VLOOKUP(J1332,A01A02!A:J,10,0),\"\")","v":""}]
[null,0,"","","","",{"$f":"IF(B1333<>0,VLOOKUP(C1333,A01A02!$A$3:$K$13,11,FALSE),\"\")","v":""},null,0,"","","","",{"$f":"IF(I1333<>0,VLOOKUP(J1333,A01A02!$A$3:$K$13,11,FALSE),\"\")","v":""},{"$f":"IF(I1333<>0,VLOOKUP(J1333,A01A02!A:J,10,0),\"\")","v":""}]
[null,0,"","","","",{"$f":"IF(B1334<>0,VLOOKUP(C1334,A01A02!$A$3:$K$13,11,FALSE),\"\")","v":""},null,0,"","","","",{"$f":"IF(I1334<>0,VLOOKUP(J1334,A01A02!$A$3:$K$13,11,FALSE),\"\")","v":""},{"$f":"IF(I1334<>0,VLOOKUP(J1334,A01A02!A:J,10,0),\"\")","v":""}]
[null,0,"","","","",{"$f":"IF(B1335<>0,VLOOKUP(C1335,A01A02!$A$3:$K$13,11,FALSE),\"\")","v":""},null,0,"","","","",{"$f":"IF(I1335<>0,VLOOKUP(J1335,A01A02!$A$3:$K$13,11,FALSE),\"\")","v":""},{"$f":"IF(I1335<>0,VLOOKUP(J1335,A01A02!A:J,10,0),\"\")","v":""}]
[null,0,"","","","",{"$f":"IF(B1336<>0,VLOOKUP(C1336,A01A02!$A$3:$K$13,11,FALSE),\"\")","v":""},null,0,"","","","",{"$f":"IF(I1336<>0,VLOOKUP(J1336,A01A02!$A$3:$K$13,11,FALSE),\"\")","v":""},{"$f":"IF(I1336<>0,VLOOKUP(J1336,A01A02!A:J,10,0),\"\")","v":""}]
[null,0,"","","","",{"$f":"IF(B1337<>0,VLOOKUP(C1337,A01A02!$A$3:$K$13,11,FALSE),\"\")","v":""},null,0,"","","","",{"$f":"IF(I1337<>0,VLOOKUP(J1337,A01A02!$A$3:$K$13,11,FALSE),\"\")","v":""},{"$f":"IF(I1337<>0,VLOOKUP(J1337,A01A02!A:J,10,0),\"\")","v":""}]
[null,0,"","","","",{"$f":"IF(B1338<>0,VLOOKUP(C1338,A01A02!$A$3:$K$13,11,FALSE),\"\")","v":""},null,0,"","","","",{"$f":"IF(I1338<>0,VLOOKUP(J1338,A01A02!$A$3:$K$13,11,FALSE),\"\")","v":""},{"$f":"IF(I1338<>0,VLOOKUP(J1338,A01A02!A:J,10,0),\"\")","v":""}]
[null,0,"","","","",{"$f":"IF(B1339<>0,VLOOKUP(C1339,A01A02!$A$3:$K$13,11,FALSE),\"\")","v":""},null,0,"","","","",{"$f":"IF(I1339<>0,VLOOKUP(J1339,A01A02!$A$3:$K$13,11,FALSE),\"\")","v":""},{"$f":"IF(I1339<>0,VLOOKUP(J1339,A01A02!A:J,10,0),\"\")","v":""}]
[null,0,"","","","",{"$f":"IF(B1340<>0,VLOOKUP(C1340,A01A02!$A$3:$K$13,11,FALSE),\"\")","v":""},null,0,"","","","",{"$f":"IF(I1340<>0,VLOOKUP(J1340,A01A02!$A$3:$K$13,11,FALSE),\"\")","v":""},{"$f":"IF(I1340<>0,VLOOKUP(J1340,A01A02!A:J,10,0),\"\")","v":""}]
[null,0,"","","","",{"$f":"IF(B1341<>0,VLOOKUP(C1341,A01A02!$A$3:$K$13,11,FALSE),\"\")","v":""},null,0,"","","","",{"$f":"IF(I1341<>0,VLOOKUP(J1341,A01A02!$A$3:$K$13,11,FALSE),\"\")","v":""},{"$f":"IF(I1341<>0,VLOOKUP(J1341,A01A02!A:J,10,0),\"\")","v":""}]
[null,0,"","","","",{"$f":"IF(B1342<>0,VLOOKUP(C1342,A01A02!$A$3:$K$13,11,FALSE),\"\")","v":""},null,0,"","","","",{"$f":"IF(I1342<>0,VLOOKUP(J1342,A01A02!$A$3:$K$13,11,FALSE),\"\")","v":""},{"$f":"IF(I1342<>0,VLOOKUP(J1342,A01A02!A:J,10,0),\"\")","v":""}]
[null,0,"","","","",{"$f":"IF(B1343<>0,VLOOKUP(C1343,A01A02!$A$3:$K$13,11,FALSE),\"\")","v":""},null,0,"","","","",{"$f":"IF(I1343<>0,VLOOKUP(J1343,A01A02!$A$3:$K$13,11,FALSE),\"\")","v":""},{"$f":"IF(I1343<>0,VLOOKUP(J1343,A01A02!A:J,10,0),\"\")","v":""}]
[null,0,"","","","",{"$f":"IF(B1344<>0,VLOOKUP(C1344,A01A02!$A$3:$K$13,11,FALSE),\"\")","v":""},null,0,"","","","",{"$f":"IF(I1344<>0,VLOOKUP(J1344,A01A02!$A$3:$K$13,11,FALSE),\"\")","v":""},{"$f":"IF(I1344<>0,VLOOKUP(J1344,A01A02!A:J,10,0),\"\")","v":""}]
[null,0,"","","","",{"$f":"IF(B1345<>0,VLOOKUP(C1345,A01A02!$A$3:$K$13,11,FALSE),\"\")","v":""},null,0,"","","","",{"$f":"IF(I1345<>0,VLOOKUP(J1345,A01A02!$A$3:$K$13,11,FALSE),\"\")","v":""},{"$f":"IF(I1345<>0,VLOOKUP(J1345,A01A02!A:J,10,0),\"\")","v":""}]
[null,0,"","","","",{"$f":"IF(B1346<>0,VLOOKUP(C1346,A01A02!$A$3:$K$13,11,FALSE),\"\")","v":""},null,0,"","","","",{"$f":"IF(I1346<>0,VLOOKUP(J1346,A01A02!$A$3:$K$13,11,FALSE),\"\")","v":""},{"$f":"IF(I1346<>0,VLOOKUP(J1346,A01A02!A:J,10,0),\"\")","v":""}]
[null,{"$f":"IF(A1347<>\"\",xycall(A1347),0)","v":0},"","","","",{"$f":"IF(B1347<>0,VLOOKUP(C1347,A01A02!$A$3:$K$13,11,FALSE),\"\")","v":""},null,0,"","","","",{"$f":"IF(I1347<>0,VLOOKUP(J1347,A01A02!$A$3:$K$13,11,FALSE),\"\")","v":""},{"$f":"IF(I1347<>0,VLOOKUP(J1347,A01A02!A:J,10,0),\"\")","v":""}]
[null,0,"","","","",{"$f":"IF(B1348<>0,VLOOKUP(C1348,A01A02!$A$3:$K$13,11,FALSE),\"\")","v":""},null,0,"","","","",{"$f":"IF(I1348<>0,VLOOKUP(J1348,A01A02!$A$3:$K$13,11,FALSE),\"\")","v":""},{"$f":"IF(I1348<>0,VLOOKUP(J1348,A01A02!A:J,10,0),\"\")","v":""}]
[null,0,"","","","",{"$f":"IF(B1349<>0,VLOOKUP(C1349,A01A02!$A$3:$K$13,11,FALSE),\"\")","v":""},null,0,"","","","",{"$f":"IF(I1349<>0,VLOOKUP(J1349,A01A02!$A$3:$K$13,11,FALSE),\"\")","v":""},{"$f":"IF(I1349<>0,VLOOKUP(J1349,A01A02!A:J,10,0),\"\")","v":""}]
[null,0,"","","","",{"$f":"IF(B1350<>0,VLOOKUP(C1350,A01A02!$A$3:$K$13,11,FALSE),\"\")","v":""},null,0,"","","","",{"$f":"IF(I1350<>0,VLOOKUP(J1350,A01A02!$A$3:$K$13,11,FALSE),\"\")","v":""},{"$f":"IF(I1350<>0,VLOOKUP(J1350,A01A02!A:J,10,0),\"\")","v":""}]
[null,0,"","","","",{"$f":"IF(B1351<>0,VLOOKUP(C1351,A01A02!$A$3:$K$13,11,FALSE),\"\")","v":""},null,0,"","","","",{"$f":"IF(I1351<>0,VLOOKUP(J1351,A01A02!$A$3:$K$13,11,FALSE),\"\")","v":""},{"$f":"IF(I1351<>0,VLOOKUP(J1351,A01A02!A:J,10,0),\"\")","v":""}]
[null,0,"","","","",{"$f":"IF(B1352<>0,VLOOKUP(C1352,A01A02!$A$3:$K$13,11,FALSE),\"\")","v":""},null,0,"","","","",{"$f":"IF(I1352<>0,VLOOKUP(J1352,A01A02!$A$3:$K$13,11,FALSE),\"\")","v":""},{"$f":"IF(I1352<>0,VLOOKUP(J1352,A01A02!A:J,10,0),\"\")","v":""}]
[null,0,"","","","",{"$f":"IF(B1353<>0,VLOOKUP(C1353,A01A02!$A$3:$K$13,11,FALSE),\"\")","v":""},null,0,"","","","",{"$f":"IF(I1353<>0,VLOOKUP(J1353,A01A02!$A$3:$K$13,11,FALSE),\"\")","v":""},{"$f":"IF(I1353<>0,VLOOKUP(J1353,A01A02!A:J,10,0),\"\")","v":""}]
[null,0,"","","","",{"$f":"IF(B1354<>0,VLOOKUP(C1354,A01A02!$A$3:$K$13,11,FALSE),\"\")","v":""},null,0,"","","","",{"$f":"IF(I1354<>0,VLOOKUP(J1354,A01A02!$A$3:$K$13,11,FALSE),\"\")","v":""},{"$f":"IF(I1354<>0,VLOOKUP(J1354,A01A02!A:J,10,0),\"\")","v":""}]
[null,0,"","","","",{"$f":"IF(B1355<>0,VLOOKUP(C1355,A01A02!$A$3:$K$13,11,FALSE),\"\")","v":""},null,0,"","","","",{"$f":"IF(I1355<>0,VLOOKUP(J1355,A01A02!$A$3:$K$13,11,FALSE),\"\")","v":""},{"$f":"IF(I1355<>0,VLOOKUP(J1355,A01A02!A:J,10,0),\"\")","v":""}]
[null,0,"","","","",{"$f":"IF(B1356<>0,VLOOKUP(C1356,A01A02!$A$3:$K$13,11,FALSE),\"\")","v":""},null,0,"","","","",{"$f":"IF(I1356<>0,VLOOKUP(J1356,A01A02!$A$3:$K$13,11,FALSE),\"\")","v":""},{"$f":"IF(I1356<>0,VLOOKUP(J1356,A01A02!A:J,10,0),\"\")","v":""}]
[null,0,"","","","",{"$f":"IF(B1357<>0,VLOOKUP(C1357,A01A02!$A$3:$K$13,11,FALSE),\"\")","v":""},null,0,"","","","",{"$f":"IF(I1357<>0,VLOOKUP(J1357,A01A02!$A$3:$K$13,11,FALSE),\"\")","v":""},{"$f":"IF(I1357<>0,VLOOKUP(J1357,A01A02!A:J,10,0),\"\")","v":""}]
[null,0,"","","","",{"$f":"IF(B1358<>0,VLOOKUP(C1358,A01A02!$A$3:$K$13,11,FALSE),\"\")","v":""},null,0,"","","","",{"$f":"IF(I1358<>0,VLOOKUP(J1358,A01A02!$A$3:$K$13,11,FALSE),\"\")","v":""},{"$f":"IF(I1358<>0,VLOOKUP(J1358,A01A02!A:J,10,0),\"\")","v":""}]
[null,0,"","","","",{"$f":"IF(B1359<>0,VLOOKUP(C1359,A01A02!$A$3:$K$13,11,FALSE),\"\")","v":""},null,0,"","","","",{"$f":"IF(I1359<>0,VLOOKUP(J1359,A01A02!$A$3:$K$13,11,FALSE),\"\")","v":""},{"$f":"IF(I1359<>0,VLOOKUP(J1359,A01A02!A:J,10,0),\"\")","v":""}]
[null,0,"","","","",{"$f":"IF(B1360<>0,VLOOKUP(C1360,A01A02!$A$3:$K$13,11,FALSE),\"\")","v":""},null,0,"","","","",{"$f":"IF(I1360<>0,VLOOKUP(J1360,A01A02!$A$3:$K$13,11,FALSE),\"\")","v":""},{"$f":"IF(I1360<>0,VLOOKUP(J1360,A01A02!A:J,10,0),\"\")","v":""}]
[null,0,"","","","",{"$f":"IF(B1361<>0,VLOOKUP(C1361,A01A02!$A$3:$K$13,11,FALSE),\"\")","v":""},null,0,"","","","",{"$f":"IF(I1361<>0,VLOOKUP(J1361,A01A02!$A$3:$K$13,11,FALSE),\"\")","v":""},{"$f":"IF(I1361<>0,VLOOKUP(J1361,A01A02!A:J,10,0),\"\")","v":""}]
[null,0,"","","","",{"$f":"IF(B1362<>0,VLOOKUP(C1362,A01A02!$A$3:$K$13,11,FALSE),\"\")","v":""},null,0,"","","","",{"$f":"IF(I1362<>0,VLOOKUP(J1362,A01A02!$A$3:$K$13,11,FALSE),\"\")","v":""},{"$f":"IF(I1362<>0,VLOOKUP(J1362,A01A02!A:J,10,0),\"\")","v":""}]
[null,0,"","","","",{"$f":"IF(B1363<>0,VLOOKUP(C1363,A01A02!$A$3:$K$13,11,FALSE),\"\")","v":""},null,0,"","","","",{"$f":"IF(I1363<>0,VLOOKUP(J1363,A01A02!$A$3:$K$13,11,FALSE),\"\")","v":""},{"$f":"IF(I1363<>0,VLOOKUP(J1363,A01A02!A:J,10,0),\"\")","v":""}]
[null,0,"","","","",{"$f":"IF(B1364<>0,VLOOKUP(C1364,A01A02!$A$3:$K$13,11,FALSE),\"\")","v":""},null,0,"","","","",{"$f":"IF(I1364<>0,VLOOKUP(J1364,A01A02!$A$3:$K$13,11,FALSE),\"\")","v":""},{"$f":"IF(I1364<>0,VLOOKUP(J1364,A01A02!A:J,10,0),\"\")","v":""}]
[null,0,"","","","",{"$f":"IF(B1365<>0,VLOOKUP(C1365,A01A02!$A$3:$K$13,11,FALSE),\"\")","v":""},null,0,"","","","",{"$f":"IF(I1365<>0,VLOOKUP(J1365,A01A02!$A$3:$K$13,11,FALSE),\"\")","v":""},{"$f":"IF(I1365<>0,VLOOKUP(J1365,A01A02!A:J,10,0),\"\")","v":""}]
[null,0,"","","","",{"$f":"IF(B1366<>0,VLOOKUP(C1366,A01A02!$A$3:$K$13,11,FALSE),\"\")","v":""},null,0,"","","","",{"$f":"IF(I1366<>0,VLOOKUP(J1366,A01A02!$A$3:$K$13,11,FALSE),\"\")","v":""},{"$f":"IF(I1366<>0,VLOOKUP(J1366,A01A02!A:J,10,0),\"\")","v":""}]
[null,0,"","","","",{"$f":"IF(B1367<>0,VLOOKUP(C1367,A01A02!$A$3:$K$13,11,FALSE),\"\")","v":""},null,0,"","","","",{"$f":"IF(I1367<>0,VLOOKUP(J1367,A01A02!$A$3:$K$13,11,FALSE),\"\")","v":""},{"$f":"IF(I1367<>0,VLOOKUP(J1367,A01A02!A:J,10,0),\"\")","v":""}]
[null,0,"","","","",{"$f":"IF(B1368<>0,VLOOKUP(C1368,A01A02!$A$3:$K$13,11,FALSE),\"\")","v":""},null,0,"","","","",{"$f":"IF(I1368<>0,VLOOKUP(J1368,A01A02!$A$3:$K$13,11,FALSE),\"\")","v":""},{"$f":"IF(I1368<>0,VLOOKUP(J1368,A01A02!A:J,10,0),\"\")","v":""}]
[null,0,"","","","",{"$f":"IF(B1369<>0,VLOOKUP(C1369,A01A02!$A$3:$K$13,11,FALSE),\"\")","v":""},null,0,"","","","",{"$f":"IF(I1369<>0,VLOOKUP(J1369,A01A02!$A$3:$K$13,11,FALSE),\"\")","v":""},{"$f":"IF(I1369<>0,VLOOKUP(J1369,A01A02!A:J,10,0),\"\")","v":""}]
[null,0,"","","","",{"$f":"IF(B1370<>0,VLOOKUP(C1370,A01A02!$A$3:$K$13,11,FALSE),\"\")","v":""},null,0,"","","","",{"$f":"IF(I1370<>0,VLOOKUP(J1370,A01A02!$A$3:$K$13,11,FALSE),\"\")","v":""},{"$f":"IF(I1370<>0,VLOOKUP(J1370,A01A02!A:J,10,0),\"\")","v":""}]
[null,0,"","","","",{"$f":"IF(B1371<>0,VLOOKUP(C1371,A01A02!$A$3:$K$13,11,FALSE),\"\")","v":""},null,0,"","","","",{"$f":"IF(I1371<>0,VLOOKUP(J1371,A01A02!$A$3:$K$13,11,FALSE),\"\")","v":""},{"$f":"IF(I1371<>0,VLOOKUP(J1371,A01A02!A:J,10,0),\"\")","v":""}]
[null,0,"","","","",{"$f":"IF(B1372<>0,VLOOKUP(C1372,A01A02!$A$3:$K$13,11,FALSE),\"\")","v":""},null,0,"","","","",{"$f":"IF(I1372<>0,VLOOKUP(J1372,A01A02!$A$3:$K$13,11,FALSE),\"\")","v":""},{"$f":"IF(I1372<>0,VLOOKUP(J1372,A01A02!A:J,10,0),\"\")","v":""}]
[null,0,"","","","",{"$f":"IF(B1373<>0,VLOOKUP(C1373,A01A02!$A$3:$K$13,11,FALSE),\"\")","v":""},null,0,"","","","",{"$f":"IF(I1373<>0,VLOOKUP(J1373,A01A02!$A$3:$K$13,11,FALSE),\"\")","v":""},{"$f":"IF(I1373<>0,VLOOKUP(J1373,A01A02!A:J,10,0),\"\")","v":""}]
[null,0,"","","","",{"$f":"IF(B1374<>0,VLOOKUP(C1374,A01A02!$A$3:$K$13,11,FALSE),\"\")","v":""},null,0,"","","","",{"$f":"IF(I1374<>0,VLOOKUP(J1374,A01A02!$A$3:$K$13,11,FALSE),\"\")","v":""},{"$f":"IF(I1374<>0,VLOOKUP(J1374,A01A02!A:J,10,0),\"\")","v":""}]
[null,0,"","","","",{"$f":"IF(B1375<>0,VLOOKUP(C1375,A01A02!$A$3:$K$13,11,FALSE),\"\")","v":""},null,0,"","","","",{"$f":"IF(I1375<>0,VLOOKUP(J1375,A01A02!$A$3:$K$13,11,FALSE),\"\")","v":""},{"$f":"IF(I1375<>0,VLOOKUP(J1375,A01A02!A:J,10,0),\"\")","v":""}]
[null,0,"","","","",{"$f":"IF(B1376<>0,VLOOKUP(C1376,A01A02!$A$3:$K$13,11,FALSE),\"\")","v":""},null,0,"","","","",{"$f":"IF(I1376<>0,VLOOKUP(J1376,A01A02!$A$3:$K$13,11,FALSE),\"\")","v":""},{"$f":"IF(I1376<>0,VLOOKUP(J1376,A01A02!A:J,10,0),\"\")","v":""}]
[null,0,"","","","",{"$f":"IF(B1377<>0,VLOOKUP(C1377,A01A02!$A$3:$K$13,11,FALSE),\"\")","v":""},null,0,"","","","",{"$f":"IF(I1377<>0,VLOOKUP(J1377,A01A02!$A$3:$K$13,11,FALSE),\"\")","v":""},{"$f":"IF(I1377<>0,VLOOKUP(J1377,A01A02!A:J,10,0),\"\")","v":""}]
[null,0,"","","","",{"$f":"IF(B1378<>0,VLOOKUP(C1378,A01A02!$A$3:$K$13,11,FALSE),\"\")","v":""},null,0,"","","","",{"$f":"IF(I1378<>0,VLOOKUP(J1378,A01A02!$A$3:$K$13,11,FALSE),\"\")","v":""},{"$f":"IF(I1378<>0,VLOOKUP(J1378,A01A02!A:J,10,0),\"\")","v":""}]
[null,0,"","","","",{"$f":"IF(B1379<>0,VLOOKUP(C1379,A01A02!$A$3:$K$13,11,FALSE),\"\")","v":""},null,0,"","","","",{"$f":"IF(I1379<>0,VLOOKUP(J1379,A01A02!$A$3:$K$13,11,FALSE),\"\")","v":""},{"$f":"IF(I1379<>0,VLOOKUP(J1379,A01A02!A:J,10,0),\"\")","v":""}]
[null,0,"","","","",{"$f":"IF(B1380<>0,VLOOKUP(C1380,A01A02!$A$3:$K$13,11,FALSE),\"\")","v":""},null,0,"","","","",{"$f":"IF(I1380<>0,VLOOKUP(J1380,A01A02!$A$3:$K$13,11,FALSE),\"\")","v":""},{"$f":"IF(I1380<>0,VLOOKUP(J1380,A01A02!A:J,10,0),\"\")","v":""}]
[null,0,"","","","",{"$f":"IF(B1381<>0,VLOOKUP(C1381,A01A02!$A$3:$K$13,11,FALSE),\"\")","v":""},null,0,"","","","",{"$f":"IF(I1381<>0,VLOOKUP(J1381,A01A02!$A$3:$K$13,11,FALSE),\"\")","v":""},{"$f":"IF(I1381<>0,VLOOKUP(J1381,A01A02!A:J,10,0),\"\")","v":""}]
[null,0,"","","","",{"$f":"IF(B1382<>0,VLOOKUP(C1382,A01A02!$A$3:$K$13,11,FALSE),\"\")","v":""},null,0,"","","","",{"$f":"IF(I1382<>0,VLOOKUP(J1382,A01A02!$A$3:$K$13,11,FALSE),\"\")","v":""},{"$f":"IF(I1382<>0,VLOOKUP(J1382,A01A02!A:J,10,0),\"\")","v":""}]
[null,0,"","","","",{"$f":"IF(B1383<>0,VLOOKUP(C1383,A01A02!$A$3:$K$13,11,FALSE),\"\")","v":""},null,0,"","","","",{"$f":"IF(I1383<>0,VLOOKUP(J1383,A01A02!$A$3:$K$13,11,FALSE),\"\")","v":""},{"$f":"IF(I1383<>0,VLOOKUP(J1383,A01A02!A:J,10,0),\"\")","v":""}]
[null,0,"","","","",{"$f":"IF(B1384<>0,VLOOKUP(C1384,A01A02!$A$3:$K$13,11,FALSE),\"\")","v":""},null,0,"","","","",{"$f":"IF(I1384<>0,VLOOKUP(J1384,A01A02!$A$3:$K$13,11,FALSE),\"\")","v":""},{"$f":"IF(I1384<>0,VLOOKUP(J1384,A01A02!A:J,10,0),\"\")","v":""}]
[null,0,"","","","",{"$f":"IF(B1385<>0,VLOOKUP(C1385,A01A02!$A$3:$K$13,11,FALSE),\"\")","v":""},null,0,"","","","",{"$f":"IF(I1385<>0,VLOOKUP(J1385,A01A02!$A$3:$K$13,11,FALSE),\"\")","v":""},{"$f":"IF(I1385<>0,VLOOKUP(J1385,A01A02!A:J,10,0),\"\")","v":""}]
[null,0,"","","","",{"$f":"IF(B1386<>0,VLOOKUP(C1386,A01A02!$A$3:$K$13,11,FALSE),\"\")","v":""},null,0,"","","","",{"$f":"IF(I1386<>0,VLOOKUP(J1386,A01A02!$A$3:$K$13,11,FALSE),\"\")","v":""},{"$f":"IF(I1386<>0,VLOOKUP(J1386,A01A02!A:J,10,0),\"\")","v":""}]
[null,0,{"$f":"IF(B1387<>0,znoget(B1387),\"\")","v":""},{"$f":"IF(B1387<>0,znaget(B1387),\"\")","v":""},{"$f":"IF(B1387<>0,xget(B1387),\"\")","v":""},{"$f":"IF(B1387<>0,yget(B1387),\"\")","v":""},{"$f":"IF(B1387<>0,VLOOKUP(C1387,A01A02!$A$3:$K$13,11,FALSE),\"\")","v":""},null,{"$f":"IF(H1387<>\"\",xycall(H1387),0)","v":0},{"$f":"IF(I1387<>0,znoget(I1387),\"\")","v":""},{"$f":"IF(I1387<>0,znaget(I1387),\"\")","v":""},{"$f":"IF(I1387<>0,xget(I1387),\"\")","v":""},{"$f":"IF(I1387<>0,yget(I1387),\"\")","v":""},{"$f":"IF(I1387<>0,VLOOKUP(J1387,A01A02!$A$3:$K$13,11,FALSE),\"\")","v":""},{"$f":"IF(I1387<>0,VLOOKUP(J1387,A01A02!A:J,10,0),\"\")","v":""}]
[null,0,"","","","",{"$f":"IF(B1388<>0,VLOOKUP(C1388,A01A02!$A$3:$K$13,11,FALSE),\"\")","v":""},null,0,"","","","",{"$f":"IF(I1388<>0,VLOOKUP(J1388,A01A02!$A$3:$K$13,11,FALSE),\"\")","v":""},{"$f":"IF(I1388<>0,VLOOKUP(J1388,A01A02!A:J,10,0),\"\")","v":""}]
[null,0,"","","","",{"$f":"IF(B1389<>0,VLOOKUP(C1389,A01A02!$A$3:$K$13,11,FALSE),\"\")","v":""},null,0,"","","","",{"$f":"IF(I1389<>0,VLOOKUP(J1389,A01A02!$A$3:$K$13,11,FALSE),\"\")","v":""},{"$f":"IF(I1389<>0,VLOOKUP(J1389,A01A02!A:J,10,0),\"\")","v":""}]
[null,0,"","","","",{"$f":"IF(B1390<>0,VLOOKUP(C1390,A01A02!$A$3:$K$13,11,FALSE),\"\")","v":""},null,0,"","","","",{"$f":"IF(I1390<>0,VLOOKUP(J1390,A01A02!$A$3:$K$13,11,FALSE),\"\")","v":""},{"$f":"IF(I1390<>0,VLOOKUP(J1390,A01A02!A:J,10,0),\"\")","v":""}]
[null,0,"","","","",{"$f":"IF(B1391<>0,VLOOKUP(C1391,A01A02!$A$3:$K$13,11,FALSE),\"\")","v":""},null,0,"","","","",{"$f":"IF(I1391<>0,VLOOKUP(J1391,A01A02!$A$3:$K$13,11,FALSE),\"\")","v":""},{"$f":"IF(I1391<>0,VLOOKUP(J1391,A01A02!A:J,10,0),\"\")","v":""}]
[null,0,"","","","",{"$f":"IF(B1392<>0,VLOOKUP(C1392,A01A02!$A$3:$K$13,11,FALSE),\"\")","v":""},null,0,"","","","",{"$f":"IF(I1392<>0,VLOOKUP(J1392,A01A02!$A$3:$K$13,11,FALSE),\"\")","v":""},{"$f":"IF(I1392<>0,VLOOKUP(J1392,A01A02!A:J,10,0),\"\")","v":""}]
[null,0,"","","","",{"$f":"IF(B1393<>0,VLOOKUP(C1393,A01A02!$A$3:$K$13,11,FALSE),\"\")","v":""},null,0,"","","","",{"$f":"IF(I1393<>0,VLOOKUP(J1393,A01A02!$A$3:$K$13,11,FALSE),\"\")","v":""},{"$f":"IF(I1393<>0,VLOOKUP(J1393,A01A02!A:J,10,0),\"\")","v":""}]
[null,0,"","","","",{"$f":"IF(B1394<>0,VLOOKUP(C1394,A01A02!$A$3:$K$13,11,FALSE),\"\")","v":""},null,0,"","","","",{"$f":"IF(I1394<>0,VLOOKUP(J1394,A01A02!$A$3:$K$13,11,FALSE),\"\")","v":""},{"$f":"IF(I1394<>0,VLOOKUP(J1394,A01A02!A:J,10,0),\"\")","v":""}]
[null,0,"","","","",{"$f":"IF(B1395<>0,VLOOKUP(C1395,A01A02!$A$3:$K$13,11,FALSE),\"\")","v":""},null,0,"","","","",{"$f":"IF(I1395<>0,VLOOKUP(J1395,A01A02!$A$3:$K$13,11,FALSE),\"\")","v":""},{"$f":"IF(I1395<>0,VLOOKUP(J1395,A01A02!A:J,10,0),\"\")","v":""}]
[null,0,"","","","",{"$f":"IF(B1396<>0,VLOOKUP(C1396,A01A02!$A$3:$K$13,11,FALSE),\"\")","v":""},null,0,"","","","",{"$f":"IF(I1396<>0,VLOOKUP(J1396,A01A02!$A$3:$K$13,11,FALSE),\"\")","v":""},{"$f":"IF(I1396<>0,VLOOKUP(J1396,A01A02!A:J,10,0),\"\")","v":""}]
[null,0,"","","","",{"$f":"IF(B1397<>0,VLOOKUP(C1397,A01A02!$A$3:$K$13,11,FALSE),\"\")","v":""},null,0,"","","","",{"$f":"IF(I1397<>0,VLOOKUP(J1397,A01A02!$A$3:$K$13,11,FALSE),\"\")","v":""},{"$f":"IF(I1397<>0,VLOOKUP(J1397,A01A02!A:J,10,0),\"\")","v":""}]
[null,0,"","","","",{"$f":"IF(B1398<>0,VLOOKUP(C1398,A01A02!$A$3:$K$13,11,FALSE),\"\")","v":""},null,0,"","","","",{"$f":"IF(I1398<>0,VLOOKUP(J1398,A01A02!$A$3:$K$13,11,FALSE),\"\")","v":""},{"$f":"IF(I1398<>0,VLOOKUP(J1398,A01A02!A:J,10,0),\"\")","v":""}]
[null,0,"","","","",{"$f":"IF(B1399<>0,VLOOKUP(C1399,A01A02!$A$3:$K$13,11,FALSE),\"\")","v":""},null,0,"","","","",{"$f":"IF(I1399<>0,VLOOKUP(J1399,A01A02!$A$3:$K$13,11,FALSE),\"\")","v":""},{"$f":"IF(I1399<>0,VLOOKUP(J1399,A01A02!A:J,10,0),\"\")","v":""}]
[null,0,"","","","",{"$f":"IF(B1400<>0,VLOOKUP(C1400,A01A02!$A$3:$K$13,11,FALSE),\"\")","v":""},null,0,"","","","",{"$f":"IF(I1400<>0,VLOOKUP(J1400,A01A02!$A$3:$K$13,11,FALSE),\"\")","v":""},{"$f":"IF(I1400<>0,VLOOKUP(J1400,A01A02!A:J,10,0),\"\")","v":""}]
[null,0,"","","","",{"$f":"IF(B1401<>0,VLOOKUP(C1401,A01A02!$A$3:$K$13,11,FALSE),\"\")","v":""},null,0,"","","","",{"$f":"IF(I1401<>0,VLOOKUP(J1401,A01A02!$A$3:$K$13,11,FALSE),\"\")","v":""},{"$f":"IF(I1401<>0,VLOOKUP(J1401,A01A02!A:J,10,0),\"\")","v":""}]
[null,0,"","","","",{"$f":"IF(B1402<>0,VLOOKUP(C1402,A01A02!$A$3:$K$13,11,FALSE),\"\")","v":""},null,0,"","","","",{"$f":"IF(I1402<>0,VLOOKUP(J1402,A01A02!$A$3:$K$13,11,FALSE),\"\")","v":""},{"$f":"IF(I1402<>0,VLOOKUP(J1402,A01A02!A:J,10,0),\"\")","v":""}]
[null,0,"","","","",{"$f":"IF(B1403<>0,VLOOKUP(C1403,A01A02!$A$3:$K$13,11,FALSE),\"\")","v":""},null,0,"","","","",{"$f":"IF(I1403<>0,VLOOKUP(J1403,A01A02!$A$3:$K$13,11,FALSE),\"\")","v":""},{"$f":"IF(I1403<>0,VLOOKUP(J1403,A01A02!A:J,10,0),\"\")","v":""}]
[null,0,"","","","",{"$f":"IF(B1404<>0,VLOOKUP(C1404,A01A02!$A$3:$K$13,11,FALSE),\"\")","v":""},null,0,"","","","",{"$f":"IF(I1404<>0,VLOOKUP(J1404,A01A02!$A$3:$K$13,11,FALSE),\"\")","v":""},{"$f":"IF(I1404<>0,VLOOKUP(J1404,A01A02!A:J,10,0),\"\")","v":""}]
[null,0,"","","","",{"$f":"IF(B1405<>0,VLOOKUP(C1405,A01A02!$A$3:$K$13,11,FALSE),\"\")","v":""},null,0,"","","","",{"$f":"IF(I1405<>0,VLOOKUP(J1405,A01A02!$A$3:$K$13,11,FALSE),\"\")","v":""},{"$f":"IF(I1405<>0,VLOOKUP(J1405,A01A02!A:J,10,0),\"\")","v":""}]
[null,0,"","","","",{"$f":"IF(B1406<>0,VLOOKUP(C1406,A01A02!$A$3:$K$13,11,FALSE),\"\")","v":""},null,0,"","","","",{"$f":"IF(I1406<>0,VLOOKUP(J1406,A01A02!$A$3:$K$13,11,FALSE),\"\")","v":""},{"$f":"IF(I1406<>0,VLOOKUP(J1406,A01A02!A:J,10,0),\"\")","v":""}]
[null,0,"","","","",{"$f":"IF(B1407<>0,VLOOKUP(C1407,A01A02!$A$3:$K$13,11,FALSE),\"\")","v":""},null,0,"","","","",{"$f":"IF(I1407<>0,VLOOKUP(J1407,A01A02!$A$3:$K$13,11,FALSE),\"\")","v":""},{"$f":"IF(I1407<>0,VLOOKUP(J1407,A01A02!A:J,10,0),\"\")","v":""}]
[null,0,"","","","",{"$f":"IF(B1408<>0,VLOOKUP(C1408,A01A02!$A$3:$K$13,11,FALSE),\"\")","v":""},null,0,"","","","",{"$f":"IF(I1408<>0,VLOOKUP(J1408,A01A02!$A$3:$K$13,11,FALSE),\"\")","v":""},{"$f":"IF(I1408<>0,VLOOKUP(J1408,A01A02!A:J,10,0),\"\")","v":""}]
[null,0,"","","","",{"$f":"IF(B1409<>0,VLOOKUP(C1409,A01A02!$A$3:$K$13,11,FALSE),\"\")","v":""},null,0,"","","","",{"$f":"IF(I1409<>0,VLOOKUP(J1409,A01A02!$A$3:$K$13,11,FALSE),\"\")","v":""},{"$f":"IF(I1409<>0,VLOOKUP(J1409,A01A02!A:J,10,0),\"\")","v":""}]
[null,0,"","","","",{"$f":"IF(B1410<>0,VLOOKUP(C1410,A01A02!$A$3:$K$13,11,FALSE),\"\")","v":""},null,0,"","","","",{"$f":"IF(I1410<>0,VLOOKUP(J1410,A01A02!$A$3:$K$13,11,FALSE),\"\")","v":""},{"$f":"IF(I1410<>0,VLOOKUP(J1410,A01A02!A:J,10,0),\"\")","v":""}]
[null,{"$f":"IF(A1411<>\"\",xycall(A1411),0)","v":0},"","","","",{"$f":"IF(B1411<>0,VLOOKUP(C1411,A01A02!$A$3:$K$13,11,FALSE),\"\")","v":""},null,0,"","","","",{"$f":"IF(I1411<>0,VLOOKUP(J1411,A01A02!$A$3:$K$13,11,FALSE),\"\")","v":""},{"$f":"IF(I1411<>0,VLOOKUP(J1411,A01A02!A:J,10,0),\"\")","v":""}]
[null,0,"","","","",{"$f":"IF(B1412<>0,VLOOKUP(C1412,A01A02!$A$3:$K$13,11,FALSE),\"\")","v":""},null,0,"","","","",{"$f":"IF(I1412<>0,VLOOKUP(J1412,A01A02!$A$3:$K$13,11,FALSE),\"\")","v":""},{"$f":"IF(I1412<>0,VLOOKUP(J1412,A01A02!A:J,10,0),\"\")","v":""}]
[null,0,"","","","",{"$f":"IF(B1413<>0,VLOOKUP(C1413,A01A02!$A$3:$K$13,11,FALSE),\"\")","v":""},null,0,"","","","",{"$f":"IF(I1413<>0,VLOOKUP(J1413,A01A02!$A$3:$K$13,11,FALSE),\"\")","v":""},{"$f":"IF(I1413<>0,VLOOKUP(J1413,A01A02!A:J,10,0),\"\")","v":""}]
[null,0,"","","","",{"$f":"IF(B1414<>0,VLOOKUP(C1414,A01A02!$A$3:$K$13,11,FALSE),\"\")","v":""},null,0,"","","","",{"$f":"IF(I1414<>0,VLOOKUP(J1414,A01A02!$A$3:$K$13,11,FALSE),\"\")","v":""},{"$f":"IF(I1414<>0,VLOOKUP(J1414,A01A02!A:J,10,0),\"\")","v":""}]
[null,0,"","","","",{"$f":"IF(B1415<>0,VLOOKUP(C1415,A01A02!$A$3:$K$13,11,FALSE),\"\")","v":""},null,0,"","","","",{"$f":"IF(I1415<>0,VLOOKUP(J1415,A01A02!$A$3:$K$13,11,FALSE),\"\")","v":""},{"$f":"IF(I1415<>0,VLOOKUP(J1415,A01A02!A:J,10,0),\"\")","v":""}]
[null,0,"","","","",{"$f":"IF(B1416<>0,VLOOKUP(C1416,A01A02!$A$3:$K$13,11,FALSE),\"\")","v":""},null,0,"","","","",{"$f":"IF(I1416<>0,VLOOKUP(J1416,A01A02!$A$3:$K$13,11,FALSE),\"\")","v":""},{"$f":"IF(I1416<>0,VLOOKUP(J1416,A01A02!A:J,10,0),\"\")","v":""}]
[null,0,"","","","",{"$f":"IF(B1417<>0,VLOOKUP(C1417,A01A02!$A$3:$K$13,11,FALSE),\"\")","v":""},null,0,"","","","",{"$f":"IF(I1417<>0,VLOOKUP(J1417,A01A02!$A$3:$K$13,11,FALSE),\"\")","v":""},{"$f":"IF(I1417<>0,VLOOKUP(J1417,A01A02!A:J,10,0),\"\")","v":""}]
[null,0,"","","","",{"$f":"IF(B1418<>0,VLOOKUP(C1418,A01A02!$A$3:$K$13,11,FALSE),\"\")","v":""},null,0,"","","","",{"$f":"IF(I1418<>0,VLOOKUP(J1418,A01A02!$A$3:$K$13,11,FALSE),\"\")","v":""},{"$f":"IF(I1418<>0,VLOOKUP(J1418,A01A02!A:J,10,0),\"\")","v":""}]
[null,0,"","","","",{"$f":"IF(B1419<>0,VLOOKUP(C1419,A01A02!$A$3:$K$13,11,FALSE),\"\")","v":""},null,0,"","","","",{"$f":"IF(I1419<>0,VLOOKUP(J1419,A01A02!$A$3:$K$13,11,FALSE),\"\")","v":""},{"$f":"IF(I1419<>0,VLOOKUP(J1419,A01A02!A:J,10,0),\"\")","v":""}]
[null,0,"","","","",{"$f":"IF(B1420<>0,VLOOKUP(C1420,A01A02!$A$3:$K$13,11,FALSE),\"\")","v":""},null,0,"","","","",{"$f":"IF(I1420<>0,VLOOKUP(J1420,A01A02!$A$3:$K$13,11,FALSE),\"\")","v":""},{"$f":"IF(I1420<>0,VLOOKUP(J1420,A01A02!A:J,10,0),\"\")","v":""}]
[null,0,"","","","",{"$f":"IF(B1421<>0,VLOOKUP(C1421,A01A02!$A$3:$K$13,11,FALSE),\"\")","v":""},null,0,"","","","",{"$f":"IF(I1421<>0,VLOOKUP(J1421,A01A02!$A$3:$K$13,11,FALSE),\"\")","v":""},{"$f":"IF(I1421<>0,VLOOKUP(J1421,A01A02!A:J,10,0),\"\")","v":""}]
[null,0,"","","","",{"$f":"IF(B1422<>0,VLOOKUP(C1422,A01A02!$A$3:$K$13,11,FALSE),\"\")","v":""},null,0,"","","","",{"$f":"IF(I1422<>0,VLOOKUP(J1422,A01A02!$A$3:$K$13,11,FALSE),\"\")","v":""},{"$f":"IF(I1422<>0,VLOOKUP(J1422,A01A02!A:J,10,0),\"\")","v":""}]
[null,0,"","","","",{"$f":"IF(B1423<>0,VLOOKUP(C1423,A01A02!$A$3:$K$13,11,FALSE),\"\")","v":""},null,0,"","","","",{"$f":"IF(I1423<>0,VLOOKUP(J1423,A01A02!$A$3:$K$13,11,FALSE),\"\")","v":""},{"$f":"IF(I1423<>0,VLOOKUP(J1423,A01A02!A:J,10,0),\"\")","v":""}]
[null,0,"","","","",{"$f":"IF(B1424<>0,VLOOKUP(C1424,A01A02!$A$3:$K$13,11,FALSE),\"\")","v":""},null,0,"","","","",{"$f":"IF(I1424<>0,VLOOKUP(J1424,A01A02!$A$3:$K$13,11,FALSE),\"\")","v":""},{"$f":"IF(I1424<>0,VLOOKUP(J1424,A01A02!A:J,10,0),\"\")","v":""}]
[null,0,"","","","",{"$f":"IF(B1425<>0,VLOOKUP(C1425,A01A02!$A$3:$K$13,11,FALSE),\"\")","v":""},null,0,"","","","",{"$f":"IF(I1425<>0,VLOOKUP(J1425,A01A02!$A$3:$K$13,11,FALSE),\"\")","v":""},{"$f":"IF(I1425<>0,VLOOKUP(J1425,A01A02!A:J,10,0),\"\")","v":""}]
[null,0,"","","","",{"$f":"IF(B1426<>0,VLOOKUP(C1426,A01A02!$A$3:$K$13,11,FALSE),\"\")","v":""},null,0,"","","","",{"$f":"IF(I1426<>0,VLOOKUP(J1426,A01A02!$A$3:$K$13,11,FALSE),\"\")","v":""},{"$f":"IF(I1426<>0,VLOOKUP(J1426,A01A02!A:J,10,0),\"\")","v":""}]
[null,0,"","","","",{"$f":"IF(B1427<>0,VLOOKUP(C1427,A01A02!$A$3:$K$13,11,FALSE),\"\")","v":""},null,0,"","","","",{"$f":"IF(I1427<>0,VLOOKUP(J1427,A01A02!$A$3:$K$13,11,FALSE),\"\")","v":""},{"$f":"IF(I1427<>0,VLOOKUP(J1427,A01A02!A:J,10,0),\"\")","v":""}]
[null,0,"","","","",{"$f":"IF(B1428<>0,VLOOKUP(C1428,A01A02!$A$3:$K$13,11,FALSE),\"\")","v":""},null,0,"","","","",{"$f":"IF(I1428<>0,VLOOKUP(J1428,A01A02!$A$3:$K$13,11,FALSE),\"\")","v":""},{"$f":"IF(I1428<>0,VLOOKUP(J1428,A01A02!A:J,10,0),\"\")","v":""}]
[null,0,"","","","",{"$f":"IF(B1429<>0,VLOOKUP(C1429,A01A02!$A$3:$K$13,11,FALSE),\"\")","v":""},null,0,"","","","",{"$f":"IF(I1429<>0,VLOOKUP(J1429,A01A02!$A$3:$K$13,11,FALSE),\"\")","v":""},{"$f":"IF(I1429<>0,VLOOKUP(J1429,A01A02!A:J,10,0),\"\")","v":""}]
[null,0,"","","","",{"$f":"IF(B1430<>0,VLOOKUP(C1430,A01A02!$A$3:$K$13,11,FALSE),\"\")","v":""},null,0,"","","","",{"$f":"IF(I1430<>0,VLOOKUP(J1430,A01A02!$A$3:$K$13,11,FALSE),\"\")","v":""},{"$f":"IF(I1430<>0,VLOOKUP(J1430,A01A02!A:J,10,0),\"\")","v":""}]
[null,0,"","","","",{"$f":"IF(B1431<>0,VLOOKUP(C1431,A01A02!$A$3:$K$13,11,FALSE),\"\")","v":""},null,0,"","","","",{"$f":"IF(I1431<>0,VLOOKUP(J1431,A01A02!$A$3:$K$13,11,FALSE),\"\")","v":""},{"$f":"IF(I1431<>0,VLOOKUP(J1431,A01A02!A:J,10,0),\"\")","v":""}]
[null,0,"","","","",{"$f":"IF(B1432<>0,VLOOKUP(C1432,A01A02!$A$3:$K$13,11,FALSE),\"\")","v":""},null,0,"","","","",{"$f":"IF(I1432<>0,VLOOKUP(J1432,A01A02!$A$3:$K$13,11,FALSE),\"\")","v":""},{"$f":"IF(I1432<>0,VLOOKUP(J1432,A01A02!A:J,10,0),\"\")","v":""}]
[null,0,"","","","",{"$f":"IF(B1433<>0,VLOOKUP(C1433,A01A02!$A$3:$K$13,11,FALSE),\"\")","v":""},null,0,"","","","",{"$f":"IF(I1433<>0,VLOOKUP(J1433,A01A02!$A$3:$K$13,11,FALSE),\"\")","v":""},{"$f":"IF(I1433<>0,VLOOKUP(J1433,A01A02!A:J,10,0),\"\")","v":""}]
[null,0,"","","","",{"$f":"IF(B1434<>0,VLOOKUP(C1434,A01A02!$A$3:$K$13,11,FALSE),\"\")","v":""},null,0,"","","","",{"$f":"IF(I1434<>0,VLOOKUP(J1434,A01A02!$A$3:$K$13,11,FALSE),\"\")","v":""},{"$f":"IF(I1434<>0,VLOOKUP(J1434,A01A02!A:J,10,0),\"\")","v":""}]
[null,0,"","","","",{"$f":"IF(B1435<>0,VLOOKUP(C1435,A01A02!$A$3:$K$13,11,FALSE),\"\")","v":""},null,0,"","","","",{"$f":"IF(I1435<>0,VLOOKUP(J1435,A01A02!$A$3:$K$13,11,FALSE),\"\")","v":""},{"$f":"IF(I1435<>0,VLOOKUP(J1435,A01A02!A:J,10,0),\"\")","v":""}]
[null,0,"","","","",{"$f":"IF(B1436<>0,VLOOKUP(C1436,A01A02!$A$3:$K$13,11,FALSE),\"\")","v":""},null,0,"","","","",{"$f":"IF(I1436<>0,VLOOKUP(J1436,A01A02!$A$3:$K$13,11,FALSE),\"\")","v":""},{"$f":"IF(I1436<>0,VLOOKUP(J1436,A01A02!A:J,10,0),\"\")","v":""}]
[null,0,"","","","",{"$f":"IF(B1437<>0,VLOOKUP(C1437,A01A02!$A$3:$K$13,11,FALSE),\"\")","v":""},null,0,"","","","",{"$f":"IF(I1437<>0,VLOOKUP(J1437,A01A02!$A$3:$K$13,11,FALSE),\"\")","v":""},{"$f":"IF(I1437<>0,VLOOKUP(J1437,A01A02!A:J,10,0),\"\")","v":""}]
[null,0,"","","","",{"$f":"IF(B1438<>0,VLOOKUP(C1438,A01A02!$A$3:$K$13,11,FALSE),\"\")","v":""},null,0,"","","","",{"$f":"IF(I1438<>0,VLOOKUP(J1438,A01A02!$A$3:$K$13,11,FALSE),\"\")","v":""},{"$f":"IF(I1438<>0,VLOOKUP(J1438,A01A02!A:J,10,0),\"\")","v":""}]
[null,0,"","","","",{"$f":"IF(B1439<>0,VLOOKUP(C1439,A01A02!$A$3:$K$13,11,FALSE),\"\")","v":""},null,0,"","","","",{"$f":"IF(I1439<>0,VLOOKUP(J1439,A01A02!$A$3:$K$13,11,FALSE),\"\")","v":""},{"$f":"IF(I1439<>0,VLOOKUP(J1439,A01A02!A:J,10,0),\"\")","v":""}]
[null,0,"","","","",{"$f":"IF(B1440<>0,VLOOKUP(C1440,A01A02!$A$3:$K$13,11,FALSE),\"\")","v":""},null,0,"","","","",{"$f":"IF(I1440<>0,VLOOKUP(J1440,A01A02!$A$3:$K$13,11,FALSE),\"\")","v":""},{"$f":"IF(I1440<>0,VLOOKUP(J1440,A01A02!A:J,10,0),\"\")","v":""}]
[null,0,"","","","",{"$f":"IF(B1441<>0,VLOOKUP(C1441,A01A02!$A$3:$K$13,11,FALSE),\"\")","v":""},null,0,"","","","",{"$f":"IF(I1441<>0,VLOOKUP(J1441,A01A02!$A$3:$K$13,11,FALSE),\"\")","v":""},{"$f":"IF(I1441<>0,VLOOKUP(J1441,A01A02!A:J,10,0),\"\")","v":""}]
[null,0,"","","","",{"$f":"IF(B1442<>0,VLOOKUP(C1442,A01A02!$A$3:$K$13,11,FALSE),\"\")","v":""},null,0,"","","","",{"$f":"IF(I1442<>0,VLOOKUP(J1442,A01A02!$A$3:$K$13,11,FALSE),\"\")","v":""},{"$f":"IF(I1442<>0,VLOOKUP(J1442,A01A02!A:J,10,0),\"\")","v":""}]
[null,0,"","","","",{"$f":"IF(B1443<>0,VLOOKUP(C1443,A01A02!$A$3:$K$13,11,FALSE),\"\")","v":""},null,0,"","","","",{"$f":"IF(I1443<>0,VLOOKUP(J1443,A01A02!$A$3:$K$13,11,FALSE),\"\")","v":""},{"$f":"IF(I1443<>0,VLOOKUP(J1443,A01A02!A:J,10,0),\"\")","v":""}]
[null,0,"","","","",{"$f":"IF(B1444<>0,VLOOKUP(C1444,A01A02!$A$3:$K$13,11,FALSE),\"\")","v":""},null,0,"","","","",{"$f":"IF(I1444<>0,VLOOKUP(J1444,A01A02!$A$3:$K$13,11,FALSE),\"\")","v":""},{"$f":"IF(I1444<>0,VLOOKUP(J1444,A01A02!A:J,10,0),\"\")","v":""}]
[null,0,"","","","",{"$f":"IF(B1445<>0,VLOOKUP(C1445,A01A02!$A$3:$K$13,11,FALSE),\"\")","v":""},null,0,"","","","",{"$f":"IF(I1445<>0,VLOOKUP(J1445,A01A02!$A$3:$K$13,11,FALSE),\"\")","v":""},{"$f":"IF(I1445<>0,VLOOKUP(J1445,A01A02!A:J,10,0),\"\")","v":""}]
[null,0,"","","","",{"$f":"IF(B1446<>0,VLOOKUP(C1446,A01A02!$A$3:$K$13,11,FALSE),\"\")","v":""},null,0,"","","","",{"$f":"IF(I1446<>0,VLOOKUP(J1446,A01A02!$A$3:$K$13,11,FALSE),\"\")","v":""},{"$f":"IF(I1446<>0,VLOOKUP(J1446,A01A02!A:J,10,0),\"\")","v":""}]
[null,0,"","","","",{"$f":"IF(B1447<>0,VLOOKUP(C1447,A01A02!$A$3:$K$13,11,FALSE),\"\")","v":""},null,0,"","","","",{"$f":"IF(I1447<>0,VLOOKUP(J1447,A01A02!$A$3:$K$13,11,FALSE),\"\")","v":""},{"$f":"IF(I1447<>0,VLOOKUP(J1447,A01A02!A:J,10,0),\"\")","v":""}]
[null,0,"","","","",{"$f":"IF(B1448<>0,VLOOKUP(C1448,A01A02!$A$3:$K$13,11,FALSE),\"\")","v":""},null,0,"","","","",{"$f":"IF(I1448<>0,VLOOKUP(J1448,A01A02!$A$3:$K$13,11,FALSE),\"\")","v":""},{"$f":"IF(I1448<>0,VLOOKUP(J1448,A01A02!A:J,10,0),\"\")","v":""}]
[null,0,"","","","",{"$f":"IF(B1449<>0,VLOOKUP(C1449,A01A02!$A$3:$K$13,11,FALSE),\"\")","v":""},null,0,"","","","",{"$f":"IF(I1449<>0,VLOOKUP(J1449,A01A02!$A$3:$K$13,11,FALSE),\"\")","v":""},{"$f":"IF(I1449<>0,VLOOKUP(J1449,A01A02!A:J,10,0),\"\")","v":""}]
[null,0,"","","","",{"$f":"IF(B1450<>0,VLOOKUP(C1450,A01A02!$A$3:$K$13,11,FALSE),\"\")","v":""},null,0,"","","","",{"$f":"IF(I1450<>0,VLOOKUP(J1450,A01A02!$A$3:$K$13,11,FALSE),\"\")","v":""},{"$f":"IF(I1450<>0,VLOOKUP(J1450,A01A02!A:J,10,0),\"\")","v":""}]
[null,0,{"$f":"IF(B1451<>0,znoget(B1451),\"\")","v":""},{"$f":"IF(B1451<>0,znaget(B1451),\"\")","v":""},{"$f":"IF(B1451<>0,xget(B1451),\"\")","v":""},{"$f":"IF(B1451<>0,yget(B1451),\"\")","v":""},{"$f":"IF(B1451<>0,VLOOKUP(C1451,A01A02!$A$3:$K$13,11,FALSE),\"\")","v":""},null,{"$f":"IF(H1451<>\"\",xycall(H1451),0)","v":0},{"$f":"IF(I1451<>0,znoget(I1451),\"\")","v":""},{"$f":"IF(I1451<>0,znaget(I1451),\"\")","v":""},{"$f":"IF(I1451<>0,xget(I1451),\"\")","v":""},{"$f":"IF(I1451<>0,yget(I1451),\"\")","v":""},{"$f":"IF(I1451<>0,VLOOKUP(J1451,A01A02!$A$3:$K$13,11,FALSE),\"\")","v":""},{"$f":"IF(I1451<>0,VLOOKUP(J1451,A01A02!A:J,10,0),\"\")","v":""}]
[null,0,"","","","",{"$f":"IF(B1452<>0,VLOOKUP(C1452,A01A02!$A$3:$K$13,11,FALSE),\"\")","v":""},null,0,"","","","",{"$f":"IF(I1452<>0,VLOOKUP(J1452,A01A02!$A$3:$K$13,11,FALSE),\"\")","v":""},{"$f":"IF(I1452<>0,VLOOKUP(J1452,A01A02!A:J,10,0),\"\")","v":""}]
[null,0,"","","","",{"$f":"IF(B1453<>0,VLOOKUP(C1453,A01A02!$A$3:$K$13,11,FALSE),\"\")","v":""},null,0,"","","","",{"$f":"IF(I1453<>0,VLOOKUP(J1453,A01A02!$A$3:$K$13,11,FALSE),\"\")","v":""},{"$f":"IF(I1453<>0,VLOOKUP(J1453,A01A02!A:J,10,0),\"\")","v":""}]
[null,0,"","","","",{"$f":"IF(B1454<>0,VLOOKUP(C1454,A01A02!$A$3:$K$13,11,FALSE),\"\")","v":""},null,0,"","","","",{"$f":"IF(I1454<>0,VLOOKUP(J1454,A01A02!$A$3:$K$13,11,FALSE),\"\")","v":""},{"$f":"IF(I1454<>0,VLOOKUP(J1454,A01A02!A:J,10,0),\"\")","v":""}]
[null,0,"","","","",{"$f":"IF(B1455<>0,VLOOKUP(C1455,A01A02!$A$3:$K$13,11,FALSE),\"\")","v":""},null,0,"","","","",{"$f":"IF(I1455<>0,VLOOKUP(J1455,A01A02!$A$3:$K$13,11,FALSE),\"\")","v":""},{"$f":"IF(I1455<>0,VLOOKUP(J1455,A01A02!A:J,10,0),\"\")","v":""}]
[null,0,"","","","",{"$f":"IF(B1456<>0,VLOOKUP(C1456,A01A02!$A$3:$K$13,11,FALSE),\"\")","v":""},null,0,"","","","",{"$f":"IF(I1456<>0,VLOOKUP(J1456,A01A02!$A$3:$K$13,11,FALSE),\"\")","v":""},{"$f":"IF(I1456<>0,VLOOKUP(J1456,A01A02!A:J,10,0),\"\")","v":""}]
[null,0,"","","","",{"$f":"IF(B1457<>0,VLOOKUP(C1457,A01A02!$A$3:$K$13,11,FALSE),\"\")","v":""},null,0,"","","","",{"$f":"IF(I1457<>0,VLOOKUP(J1457,A01A02!$A$3:$K$13,11,FALSE),\"\")","v":""},{"$f":"IF(I1457<>0,VLOOKUP(J1457,A01A02!A:J,10,0),\"\")","v":""}]
[null,0,"","","","",{"$f":"IF(B1458<>0,VLOOKUP(C1458,A01A02!$A$3:$K$13,11,FALSE),\"\")","v":""},null,0,"","","","",{"$f":"IF(I1458<>0,VLOOKUP(J1458,A01A02!$A$3:$K$13,11,FALSE),\"\")","v":""},{"$f":"IF(I1458<>0,VLOOKUP(J1458,A01A02!A:J,10,0),\"\")","v":""}]
[null,0,"","","","",{"$f":"IF(B1459<>0,VLOOKUP(C1459,A01A02!$A$3:$K$13,11,FALSE),\"\")","v":""},null,0,"","","","",{"$f":"IF(I1459<>0,VLOOKUP(J1459,A01A02!$A$3:$K$13,11,FALSE),\"\")","v":""},{"$f":"IF(I1459<>0,VLOOKUP(J1459,A01A02!A:J,10,0),\"\")","v":""}]
[null,0,"","","","",{"$f":"IF(B1460<>0,VLOOKUP(C1460,A01A02!$A$3:$K$13,11,FALSE),\"\")","v":""},null,0,"","","","",{"$f":"IF(I1460<>0,VLOOKUP(J1460,A01A02!$A$3:$K$13,11,FALSE),\"\")","v":""},{"$f":"IF(I1460<>0,VLOOKUP(J1460,A01A02!A:J,10,0),\"\")","v":""}]
[null,0,"","","","",{"$f":"IF(B1461<>0,VLOOKUP(C1461,A01A02!$A$3:$K$13,11,FALSE),\"\")","v":""},null,0,"","","","",{"$f":"IF(I1461<>0,VLOOKUP(J1461,A01A02!$A$3:$K$13,11,FALSE),\"\")","v":""},{"$f":"IF(I1461<>0,VLOOKUP(J1461,A01A02!A:J,10,0),\"\")","v":""}]
[null,0,"","","","",{"$f":"IF(B1462<>0,VLOOKUP(C1462,A01A02!$A$3:$K$13,11,FALSE),\"\")","v":""},null,0,"","","","",{"$f":"IF(I1462<>0,VLOOKUP(J1462,A01A02!$A$3:$K$13,11,FALSE),\"\")","v":""},{"$f":"IF(I1462<>0,VLOOKUP(J1462,A01A02!A:J,10,0),\"\")","v":""}]
[null,0,"","","","",{"$f":"IF(B1463<>0,VLOOKUP(C1463,A01A02!$A$3:$K$13,11,FALSE),\"\")","v":""},null,0,"","","","",{"$f":"IF(I1463<>0,VLOOKUP(J1463,A01A02!$A$3:$K$13,11,FALSE),\"\")","v":""},{"$f":"IF(I1463<>0,VLOOKUP(J1463,A01A02!A:J,10,0),\"\")","v":""}]
[null,0,"","","","",{"$f":"IF(B1464<>0,VLOOKUP(C1464,A01A02!$A$3:$K$13,11,FALSE),\"\")","v":""},null,0,"","","","",{"$f":"IF(I1464<>0,VLOOKUP(J1464,A01A02!$A$3:$K$13,11,FALSE),\"\")","v":""},{"$f":"IF(I1464<>0,VLOOKUP(J1464,A01A02!A:J,10,0),\"\")","v":""}]
[null,0,"","","","",{"$f":"IF(B1465<>0,VLOOKUP(C1465,A01A02!$A$3:$K$13,11,FALSE),\"\")","v":""},null,0,"","","","",{"$f":"IF(I1465<>0,VLOOKUP(J1465,A01A02!$A$3:$K$13,11,FALSE),\"\")","v":""},{"$f":"IF(I1465<>0,VLOOKUP(J1465,A01A02!A:J,10,0),\"\")","v":""}]
[null,0,"","","","",{"$f":"IF(B1466<>0,VLOOKUP(C1466,A01A02!$A$3:$K$13,11,FALSE),\"\")","v":""},null,0,"","","","",{"$f":"IF(I1466<>0,VLOOKUP(J1466,A01A02!$A$3:$K$13,11,FALSE),\"\")","v":""},{"$f":"IF(I1466<>0,VLOOKUP(J1466,A01A02!A:J,10,0),\"\")","v":""}]
[null,0,"","","","",{"$f":"IF(B1467<>0,VLOOKUP(C1467,A01A02!$A$3:$K$13,11,FALSE),\"\")","v":""},null,0,"","","","",{"$f":"IF(I1467<>0,VLOOKUP(J1467,A01A02!$A$3:$K$13,11,FALSE),\"\")","v":""},{"$f":"IF(I1467<>0,VLOOKUP(J1467,A01A02!A:J,10,0),\"\")","v":""}]
[null,0,"","","","",{"$f":"IF(B1468<>0,VLOOKUP(C1468,A01A02!$A$3:$K$13,11,FALSE),\"\")","v":""},null,0,"","","","",{"$f":"IF(I1468<>0,VLOOKUP(J1468,A01A02!$A$3:$K$13,11,FALSE),\"\")","v":""},{"$f":"IF(I1468<>0,VLOOKUP(J1468,A01A02!A:J,10,0),\"\")","v":""}]
[null,0,"","","","",{"$f":"IF(B1469<>0,VLOOKUP(C1469,A01A02!$A$3:$K$13,11,FALSE),\"\")","v":""},null,0,"","","","",{"$f":"IF(I1469<>0,VLOOKUP(J1469,A01A02!$A$3:$K$13,11,FALSE),\"\")","v":""},{"$f":"IF(I1469<>0,VLOOKUP(J1469,A01A02!A:J,10,0),\"\")","v":""}]
[null,0,"","","","",{"$f":"IF(B1470<>0,VLOOKUP(C1470,A01A02!$A$3:$K$13,11,FALSE),\"\")","v":""},null,0,"","","","",{"$f":"IF(I1470<>0,VLOOKUP(J1470,A01A02!$A$3:$K$13,11,FALSE),\"\")","v":""},{"$f":"IF(I1470<>0,VLOOKUP(J1470,A01A02!A:J,10,0),\"\")","v":""}]
[null,0,"","","","",{"$f":"IF(B1471<>0,VLOOKUP(C1471,A01A02!$A$3:$K$13,11,FALSE),\"\")","v":""},null,0,"","","","",{"$f":"IF(I1471<>0,VLOOKUP(J1471,A01A02!$A$3:$K$13,11,FALSE),\"\")","v":""},{"$f":"IF(I1471<>0,VLOOKUP(J1471,A01A02!A:J,10,0),\"\")","v":""}]
[null,0,"","","","",{"$f":"IF(B1472<>0,VLOOKUP(C1472,A01A02!$A$3:$K$13,11,FALSE),\"\")","v":""},null,0,"","","","",{"$f":"IF(I1472<>0,VLOOKUP(J1472,A01A02!$A$3:$K$13,11,FALSE),\"\")","v":""},{"$f":"IF(I1472<>0,VLOOKUP(J1472,A01A02!A:J,10,0),\"\")","v":""}]
[null,0,"","","","",{"$f":"IF(B1473<>0,VLOOKUP(C1473,A01A02!$A$3:$K$13,11,FALSE),\"\")","v":""},null,0,"","","","",{"$f":"IF(I1473<>0,VLOOKUP(J1473,A01A02!$A$3:$K$13,11,FALSE),\"\")","v":""},{"$f":"IF(I1473<>0,VLOOKUP(J1473,A01A02!A:J,10,0),\"\")","v":""}]
[null,0,"","","","",{"$f":"IF(B1474<>0,VLOOKUP(C1474,A01A02!$A$3:$K$13,11,FALSE),\"\")","v":""},null,0,"","","","",{"$f":"IF(I1474<>0,VLOOKUP(J1474,A01A02!$A$3:$K$13,11,FALSE),\"\")","v":""},{"$f":"IF(I1474<>0,VLOOKUP(J1474,A01A02!A:J,10,0),\"\")","v":""}]
[null,{"$f":"IF(A1475<>\"\",xycall(A1475),0)","v":0},"","","","",{"$f":"IF(B1475<>0,VLOOKUP(C1475,A01A02!$A$3:$K$13,11,FALSE),\"\")","v":""},null,0,"","","","",{"$f":"IF(I1475<>0,VLOOKUP(J1475,A01A02!$A$3:$K$13,11,FALSE),\"\")","v":""},{"$f":"IF(I1475<>0,VLOOKUP(J1475,A01A02!A:J,10,0),\"\")","v":""}]
[null,0,"","","","",{"$f":"IF(B1476<>0,VLOOKUP(C1476,A01A02!$A$3:$K$13,11,FALSE),\"\")","v":""},null,0,"","","","",{"$f":"IF(I1476<>0,VLOOKUP(J1476,A01A02!$A$3:$K$13,11,FALSE),\"\")","v":""},{"$f":"IF(I1476<>0,VLOOKUP(J1476,A01A02!A:J,10,0),\"\")","v":""}]
[null,0,"","","","",{"$f":"IF(B1477<>0,VLOOKUP(C1477,A01A02!$A$3:$K$13,11,FALSE),\"\")","v":""},null,0,"","","","",{"$f":"IF(I1477<>0,VLOOKUP(J1477,A01A02!$A$3:$K$13,11,FALSE),\"\")","v":""},{"$f":"IF(I1477<>0,VLOOKUP(J1477,A01A02!A:J,10,0),\"\")","v":""}]
[null,0,"","","","",{"$f":"IF(B1478<>0,VLOOKUP(C1478,A01A02!$A$3:$K$13,11,FALSE),\"\")","v":""},null,0,"","","","",{"$f":"IF(I1478<>0,VLOOKUP(J1478,A01A02!$A$3:$K$13,11,FALSE),\"\")","v":""},{"$f":"IF(I1478<>0,VLOOKUP(J1478,A01A02!A:J,10,0),\"\")","v":""}]
[null,0,"","","","",{"$f":"IF(B1479<>0,VLOOKUP(C1479,A01A02!$A$3:$K$13,11,FALSE),\"\")","v":""},null,0,"","","","",{"$f":"IF(I1479<>0,VLOOKUP(J1479,A01A02!$A$3:$K$13,11,FALSE),\"\")","v":""},{"$f":"IF(I1479<>0,VLOOKUP(J1479,A01A02!A:J,10,0),\"\")","v":""}]
[null,0,"","","","",{"$f":"IF(B1480<>0,VLOOKUP(C1480,A01A02!$A$3:$K$13,11,FALSE),\"\")","v":""},null,0,"","","","",{"$f":"IF(I1480<>0,VLOOKUP(J1480,A01A02!$A$3:$K$13,11,FALSE),\"\")","v":""},{"$f":"IF(I1480<>0,VLOOKUP(J1480,A01A02!A:J,10,0),\"\")","v":""}]
[null,0,"","","","",{"$f":"IF(B1481<>0,VLOOKUP(C1481,A01A02!$A$3:$K$13,11,FALSE),\"\")","v":""},null,0,"","","","",{"$f":"IF(I1481<>0,VLOOKUP(J1481,A01A02!$A$3:$K$13,11,FALSE),\"\")","v":""},{"$f":"IF(I1481<>0,VLOOKUP(J1481,A01A02!A:J,10,0),\"\")","v":""}]
[null,0,"","","","",{"$f":"IF(B1482<>0,VLOOKUP(C1482,A01A02!$A$3:$K$13,11,FALSE),\"\")","v":""},null,0,"","","","",{"$f":"IF(I1482<>0,VLOOKUP(J1482,A01A02!$A$3:$K$13,11,FALSE),\"\")","v":""},{"$f":"IF(I1482<>0,VLOOKUP(J1482,A01A02!A:J,10,0),\"\")","v":""}]
[null,0,"","","","",{"$f":"IF(B1483<>0,VLOOKUP(C1483,A01A02!$A$3:$K$13,11,FALSE),\"\")","v":""},null,0,"","","","",{"$f":"IF(I1483<>0,VLOOKUP(J1483,A01A02!$A$3:$K$13,11,FALSE),\"\")","v":""},{"$f":"IF(I1483<>0,VLOOKUP(J1483,A01A02!A:J,10,0),\"\")","v":""}]
[null,0,"","","","",{"$f":"IF(B1484<>0,VLOOKUP(C1484,A01A02!$A$3:$K$13,11,FALSE),\"\")","v":""},null,0,"","","","",{"$f":"IF(I1484<>0,VLOOKUP(J1484,A01A02!$A$3:$K$13,11,FALSE),\"\")","v":""},{"$f":"IF(I1484<>0,VLOOKUP(J1484,A01A02!A:J,10,0),\"\")","v":""}]
[null,0,"","","","",{"$f":"IF(B1485<>0,VLOOKUP(C1485,A01A02!$A$3:$K$13,11,FALSE),\"\")","v":""},null,0,"","","","",{"$f":"IF(I1485<>0,VLOOKUP(J1485,A01A02!$A$3:$K$13,11,FALSE),\"\")","v":""},{"$f":"IF(I1485<>0,VLOOKUP(J1485,A01A02!A:J,10,0),\"\")","v":""}]
[null,0,"","","","",{"$f":"IF(B1486<>0,VLOOKUP(C1486,A01A02!$A$3:$K$13,11,FALSE),\"\")","v":""},null,0,"","","","",{"$f":"IF(I1486<>0,VLOOKUP(J1486,A01A02!$A$3:$K$13,11,FALSE),\"\")","v":""},{"$f":"IF(I1486<>0,VLOOKUP(J1486,A01A02!A:J,10,0),\"\")","v":""}]
[null,0,"","","","",{"$f":"IF(B1487<>0,VLOOKUP(C1487,A01A02!$A$3:$K$13,11,FALSE),\"\")","v":""},null,0,"","","","",{"$f":"IF(I1487<>0,VLOOKUP(J1487,A01A02!$A$3:$K$13,11,FALSE),\"\")","v":""},{"$f":"IF(I1487<>0,VLOOKUP(J1487,A01A02!A:J,10,0),\"\")","v":""}]
[null,0,"","","","",{"$f":"IF(B1488<>0,VLOOKUP(C1488,A01A02!$A$3:$K$13,11,FALSE),\"\")","v":""},null,0,"","","","",{"$f":"IF(I1488<>0,VLOOKUP(J1488,A01A02!$A$3:$K$13,11,FALSE),\"\")","v":""},{"$f":"IF(I1488<>0,VLOOKUP(J1488,A01A02!A:J,10,0),\"\")","v":""}]
[null,0,"","","","",{"$f":"IF(B1489<>0,VLOOKUP(C1489,A01A02!$A$3:$K$13,11,FALSE),\"\")","v":""},null,0,"","","","",{"$f":"IF(I1489<>0,VLOOKUP(J1489,A01A02!$A$3:$K$13,11,FALSE),\"\")","v":""},{"$f":"IF(I1489<>0,VLOOKUP(J1489,A01A02!A:J,10,0),\"\")","v":""}]
[null,0,"","","","",{"$f":"IF(B1490<>0,VLOOKUP(C1490,A01A02!$A$3:$K$13,11,FALSE),\"\")","v":""},null,0,"","","","",{"$f":"IF(I1490<>0,VLOOKUP(J1490,A01A02!$A$3:$K$13,11,FALSE),\"\")","v":""},{"$f":"IF(I1490<>0,VLOOKUP(J1490,A01A02!A:J,10,0),\"\")","v":""}]
[null,0,"","","","",{"$f":"IF(B1491<>0,VLOOKUP(C1491,A01A02!$A$3:$K$13,11,FALSE),\"\")","v":""},null,0,"","","","",{"$f":"IF(I1491<>0,VLOOKUP(J1491,A01A02!$A$3:$K$13,11,FALSE),\"\")","v":""},{"$f":"IF(I1491<>0,VLOOKUP(J1491,A01A02!A:J,10,0),\"\")","v":""}]
[null,0,"","","","",{"$f":"IF(B1492<>0,VLOOKUP(C1492,A01A02!$A$3:$K$13,11,FALSE),\"\")","v":""},null,0,"","","","",{"$f":"IF(I1492<>0,VLOOKUP(J1492,A01A02!$A$3:$K$13,11,FALSE),\"\")","v":""},{"$f":"IF(I1492<>0,VLOOKUP(J1492,A01A02!A:J,10,0),\"\")","v":""}]
[null,0,"","","","",{"$f":"IF(B1493<>0,VLOOKUP(C1493,A01A02!$A$3:$K$13,11,FALSE),\"\")","v":""},null,0,"","","","",{"$f":"IF(I1493<>0,VLOOKUP(J1493,A01A02!$A$3:$K$13,11,FALSE),\"\")","v":""},{"$f":"IF(I1493<>0,VLOOKUP(J1493,A01A02!A:J,10,0),\"\")","v":""}]
[null,0,"","","","",{"$f":"IF(B1494<>0,VLOOKUP(C1494,A01A02!$A$3:$K$13,11,FALSE),\"\")","v":""},null,0,"","","","",{"$f":"IF(I1494<>0,VLOOKUP(J1494,A01A02!$A$3:$K$13,11,FALSE),\"\")","v":""},{"$f":"IF(I1494<>0,VLOOKUP(J1494,A01A02!A:J,10,0),\"\")","v":""}]
[null,0,"","","","",{"$f":"IF(B1495<>0,VLOOKUP(C1495,A01A02!$A$3:$K$13,11,FALSE),\"\")","v":""},null,0,"","","","",{"$f":"IF(I1495<>0,VLOOKUP(J1495,A01A02!$A$3:$K$13,11,FALSE),\"\")","v":""},{"$f":"IF(I1495<>0,VLOOKUP(J1495,A01A02!A:J,10,0),\"\")","v":""}]
[null,0,"","","","",{"$f":"IF(B1496<>0,VLOOKUP(C1496,A01A02!$A$3:$K$13,11,FALSE),\"\")","v":""},null,0,"","","","",{"$f":"IF(I1496<>0,VLOOKUP(J1496,A01A02!$A$3:$K$13,11,FALSE),\"\")","v":""},{"$f":"IF(I1496<>0,VLOOKUP(J1496,A01A02!A:J,10,0),\"\")","v":""}]
[null,0,"","","","",{"$f":"IF(B1497<>0,VLOOKUP(C1497,A01A02!$A$3:$K$13,11,FALSE),\"\")","v":""},null,0,"","","","",{"$f":"IF(I1497<>0,VLOOKUP(J1497,A01A02!$A$3:$K$13,11,FALSE),\"\")","v":""},{"$f":"IF(I1497<>0,VLOOKUP(J1497,A01A02!A:J,10,0),\"\")","v":""}]
[null,0,"","","","",{"$f":"IF(B1498<>0,VLOOKUP(C1498,A01A02!$A$3:$K$13,11,FALSE),\"\")","v":""},null,0,"","","","",{"$f":"IF(I1498<>0,VLOOKUP(J1498,A01A02!$A$3:$K$13,11,FALSE),\"\")","v":""},{"$f":"IF(I1498<>0,VLOOKUP(J1498,A01A02!A:J,10,0),\"\")","v":""}]
[null,0,"","","","",{"$f":"IF(B1499<>0,VLOOKUP(C1499,A01A02!$A$3:$K$13,11,FALSE),\"\")","v":""},null,0,"","","","",{"$f":"IF(I1499<>0,VLOOKUP(J1499,A01A02!$A$3:$K$13,11,FALSE),\"\")","v":""},{"$f":"IF(I1499<>0,VLOOKUP(J1499,A01A02!A:J,10,0),\"\")","v":""}]
[null,0,"","","","",{"$f":"IF(B1500<>0,VLOOKUP(C1500,A01A02!$A$3:$K$13,11,FALSE),\"\")","v":""},null,0,"","","","",{"$f":"IF(I1500<>0,VLOOKUP(J1500,A01A02!$A$3:$K$13,11,FALSE),\"\")","v":""},{"$f":"IF(I1500<>0,VLOOKUP(J1500,A01A02!A:J,10,0),\"\")","v":""}]
[null,0,"","","","",{"$f":"IF(B1501<>0,VLOOKUP(C1501,A01A02!$A$3:$K$13,11,FALSE),\"\")","v":""},null,0,"","","","",{"$f":"IF(I1501<>0,VLOOKUP(J1501,A01A02!$A$3:$K$13,11,FALSE),\"\")","v":""},{"$f":"IF(I1501<>0,VLOOKUP(J1501,A01A02!A:J,10,0),\"\")","v":""}]
[null,0,"","","","",{"$f":"IF(B1502<>0,VLOOKUP(C1502,A01A02!$A$3:$K$13,11,FALSE),\"\")","v":""},null,0,"","","","",{"$f":"IF(I1502<>0,VLOOKUP(J1502,A01A02!$A$3:$K$13,11,FALSE),\"\")","v":""},{"$f":"IF(I1502<>0,VLOOKUP(J1502,A01A02!A:J,10,0),\"\")","v":""}]
[null,0,"","","","",{"$f":"IF(B1503<>0,VLOOKUP(C1503,A01A02!$A$3:$K$13,11,FALSE),\"\")","v":""},null,0,"","","","",{"$f":"IF(I1503<>0,VLOOKUP(J1503,A01A02!$A$3:$K$13,11,FALSE),\"\")","v":""},{"$f":"IF(I1503<>0,VLOOKUP(J1503,A01A02!A:J,10,0),\"\")","v":""}]
[null,0,"","","","",{"$f":"IF(B1504<>0,VLOOKUP(C1504,A01A02!$A$3:$K$13,11,FALSE),\"\")","v":""},null,0,"","","","",{"$f":"IF(I1504<>0,VLOOKUP(J1504,A01A02!$A$3:$K$13,11,FALSE),\"\")","v":""},{"$f":"IF(I1504<>0,VLOOKUP(J1504,A01A02!A:J,10,0),\"\")","v":""}]
[null,0,"","","","",{"$f":"IF(B1505<>0,VLOOKUP(C1505,A01A02!$A$3:$K$13,11,FALSE),\"\")","v":""},null,0,"","","","",{"$f":"IF(I1505<>0,VLOOKUP(J1505,A01A02!$A$3:$K$13,11,FALSE),\"\")","v":""},{"$f":"IF(I1505<>0,VLOOKUP(J1505,A01A02!A:J,10,0),\"\")","v":""}]
[null,0,"","","","",{"$f":"IF(B1506<>0,VLOOKUP(C1506,A01A02!$A$3:$K$13,11,FALSE),\"\")","v":""},null,0,"","","","",{"$f":"IF(I1506<>0,VLOOKUP(J1506,A01A02!$A$3:$K$13,11,FALSE),\"\")","v":""},{"$f":"IF(I1506<>0,VLOOKUP(J1506,A01A02!A:J,10,0),\"\")","v":""}]
[null,0,"","","","",{"$f":"IF(B1507<>0,VLOOKUP(C1507,A01A02!$A$3:$K$13,11,FALSE),\"\")","v":""},null,0,"","","","",{"$f":"IF(I1507<>0,VLOOKUP(J1507,A01A02!$A$3:$K$13,11,FALSE),\"\")","v":""},{"$f":"IF(I1507<>0,VLOOKUP(J1507,A01A02!A:J,10,0),\"\")","v":""}]
[null,0,"","","","",{"$f":"IF(B1508<>0,VLOOKUP(C1508,A01A02!$A$3:$K$13,11,FALSE),\"\")","v":""},null,0,"","","","",{"$f":"IF(I1508<>0,VLOOKUP(J1508,A01A02!$A$3:$K$13,11,FALSE),\"\")","v":""},{"$f":"IF(I1508<>0,VLOOKUP(J1508,A01A02!A:J,10,0),\"\")","v":""}]
[null,0,"","","","",{"$f":"IF(B1509<>0,VLOOKUP(C1509,A01A02!$A$3:$K$13,11,FALSE),\"\")","v":""},null,0,"","","","",{"$f":"IF(I1509<>0,VLOOKUP(J1509,A01A02!$A$3:$K$13,11,FALSE),\"\")","v":""},{"$f":"IF(I1509<>0,VLOOKUP(J1509,A01A02!A:J,10,0),\"\")","v":""}]
[null,0,"","","","",{"$f":"IF(B1510<>0,VLOOKUP(C1510,A01A02!$A$3:$K$13,11,FALSE),\"\")","v":""},null,0,"","","","",{"$f":"IF(I1510<>0,VLOOKUP(J1510,A01A02!$A$3:$K$13,11,FALSE),\"\")","v":""},{"$f":"IF(I1510<>0,VLOOKUP(J1510,A01A02!A:J,10,0),\"\")","v":""}]
[null,0,"","","","",{"$f":"IF(B1511<>0,VLOOKUP(C1511,A01A02!$A$3:$K$13,11,FALSE),\"\")","v":""},null,0,"","","","",{"$f":"IF(I1511<>0,VLOOKUP(J1511,A01A02!$A$3:$K$13,11,FALSE),\"\")","v":""},{"$f":"IF(I1511<>0,VLOOKUP(J1511,A01A02!A:J,10,0),\"\")","v":""}]
[null,0,"","","","",{"$f":"IF(B1512<>0,VLOOKUP(C1512,A01A02!$A$3:$K$13,11,FALSE),\"\")","v":""},null,0,"","","","",{"$f":"IF(I1512<>0,VLOOKUP(J1512,A01A02!$A$3:$K$13,11,FALSE),\"\")","v":""},{"$f":"IF(I1512<>0,VLOOKUP(J1512,A01A02!A:J,10,0),\"\")","v":""}]
[null,0,"","","","",{"$f":"IF(B1513<>0,VLOOKUP(C1513,A01A02!$A$3:$K$13,11,FALSE),\"\")","v":""},null,0,"","","","",{"$f":"IF(I1513<>0,VLOOKUP(J1513,A01A02!$A$3:$K$13,11,FALSE),\"\")","v":""},{"$f":"IF(I1513<>0,VLOOKUP(J1513,A01A02!A:J,10,0),\"\")","v":""}]
[null,0,"","","","",{"$f":"IF(B1514<>0,VLOOKUP(C1514,A01A02!$A$3:$K$13,11,FALSE),\"\")","v":""},null,0,"","","","",{"$f":"IF(I1514<>0,VLOOKUP(J1514,A01A02!$A$3:$K$13,11,FALSE),\"\")","v":""},{"$f":"IF(I1514<>0,VLOOKUP(J1514,A01A02!A:J,10,0),\"\")","v":""}]
[null,0,{"$f":"IF(B1515<>0,znoget(B1515),\"\")","v":""},{"$f":"IF(B1515<>0,znaget(B1515),\"\")","v":""},{"$f":"IF(B1515<>0,xget(B1515),\"\")","v":""},{"$f":"IF(B1515<>0,yget(B1515),\"\")","v":""},{"$f":"IF(B1515<>0,VLOOKUP(C1515,A01A02!$A$3:$K$13,11,FALSE),\"\")","v":""},null,{"$f":"IF(H1515<>\"\",xycall(H1515),0)","v":0},{"$f":"IF(I1515<>0,znoget(I1515),\"\")","v":""},{"$f":"IF(I1515<>0,znaget(I1515),\"\")","v":""},{"$f":"IF(I1515<>0,xget(I1515),\"\")","v":""},{"$f":"IF(I1515<>0,yget(I1515),\"\")","v":""},{"$f":"IF(I1515<>0,VLOOKUP(J1515,A01A02!$A$3:$K$13,11,FALSE),\"\")","v":""},{"$f":"IF(I1515<>0,VLOOKUP(J1515,A01A02!A:J,10,0),\"\")","v":""}]
[null,0,"","","","",{"$f":"IF(B1516<>0,VLOOKUP(C1516,A01A02!$A$3:$K$13,11,FALSE),\"\")","v":""},null,0,"","","","",{"$f":"IF(I1516<>0,VLOOKUP(J1516,A01A02!$A$3:$K$13,11,FALSE),\"\")","v":""},{"$f":"IF(I1516<>0,VLOOKUP(J1516,A01A02!A:J,10,0),\"\")","v":""}]
[null,0,"","","","",{"$f":"IF(B1517<>0,VLOOKUP(C1517,A01A02!$A$3:$K$13,11,FALSE),\"\")","v":""},null,0,"","","","",{"$f":"IF(I1517<>0,VLOOKUP(J1517,A01A02!$A$3:$K$13,11,FALSE),\"\")","v":""},{"$f":"IF(I1517<>0,VLOOKUP(J1517,A01A02!A:J,10,0),\"\")","v":""}]
[null,0,"","","","",{"$f":"IF(B1518<>0,VLOOKUP(C1518,A01A02!$A$3:$K$13,11,FALSE),\"\")","v":""},null,0,"","","","",{"$f":"IF(I1518<>0,VLOOKUP(J1518,A01A02!$A$3:$K$13,11,FALSE),\"\")","v":""},{"$f":"IF(I1518<>0,VLOOKUP(J1518,A01A02!A:J,10,0),\"\")","v":""}]
[null,0,"","","","",{"$f":"IF(B1519<>0,VLOOKUP(C1519,A01A02!$A$3:$K$13,11,FALSE),\"\")","v":""},null,0,"","","","",{"$f":"IF(I1519<>0,VLOOKUP(J1519,A01A02!$A$3:$K$13,11,FALSE),\"\")","v":""},{"$f":"IF(I1519<>0,VLOOKUP(J1519,A01A02!A:J,10,0),\"\")","v":""}]
[null,0,"","","","",{"$f":"IF(B1520<>0,VLOOKUP(C1520,A01A02!$A$3:$K$13,11,FALSE),\"\")","v":""},null,0,"","","","",{"$f":"IF(I1520<>0,VLOOKUP(J1520,A01A02!$A$3:$K$13,11,FALSE),\"\")","v":""},{"$f":"IF(I1520<>0,VLOOKUP(J1520,A01A02!A:J,10,0),\"\")","v":""}]
[null,0,"","","","",{"$f":"IF(B1521<>0,VLOOKUP(C1521,A01A02!$A$3:$K$13,11,FALSE),\"\")","v":""},null,0,"","","","",{"$f":"IF(I1521<>0,VLOOKUP(J1521,A01A02!$A$3:$K$13,11,FALSE),\"\")","v":""},{"$f":"IF(I1521<>0,VLOOKUP(J1521,A01A02!A:J,10,0),\"\")","v":""}]
[null,0,"","","","",{"$f":"IF(B1522<>0,VLOOKUP(C1522,A01A02!$A$3:$K$13,11,FALSE),\"\")","v":""},null,0,"","","","",{"$f":"IF(I1522<>0,VLOOKUP(J1522,A01A02!$A$3:$K$13,11,FALSE),\"\")","v":""},{"$f":"IF(I1522<>0,VLOOKUP(J1522,A01A02!A:J,10,0),\"\")","v":""}]
[null,0,"","","","",{"$f":"IF(B1523<>0,VLOOKUP(C1523,A01A02!$A$3:$K$13,11,FALSE),\"\")","v":""},null,0,"","","","",{"$f":"IF(I1523<>0,VLOOKUP(J1523,A01A02!$A$3:$K$13,11,FALSE),\"\")","v":""},{"$f":"IF(I1523<>0,VLOOKUP(J1523,A01A02!A:J,10,0),\"\")","v":""}]
[null,0,"","","","",{"$f":"IF(B1524<>0,VLOOKUP(C1524,A01A02!$A$3:$K$13,11,FALSE),\"\")","v":""},null,0,"","","","",{"$f":"IF(I1524<>0,VLOOKUP(J1524,A01A02!$A$3:$K$13,11,FALSE),\"\")","v":""},{"$f":"IF(I1524<>0,VLOOKUP(J1524,A01A02!A:J,10,0),\"\")","v":""}]
[null,0,"","","","",{"$f":"IF(B1525<>0,VLOOKUP(C1525,A01A02!$A$3:$K$13,11,FALSE),\"\")","v":""},null,0,"","","","",{"$f":"IF(I1525<>0,VLOOKUP(J1525,A01A02!$A$3:$K$13,11,FALSE),\"\")","v":""},{"$f":"IF(I1525<>0,VLOOKUP(J1525,A01A02!A:J,10,0),\"\")","v":""}]
[null,0,"","","","",{"$f":"IF(B1526<>0,VLOOKUP(C1526,A01A02!$A$3:$K$13,11,FALSE),\"\")","v":""},null,0,"","","","",{"$f":"IF(I1526<>0,VLOOKUP(J1526,A01A02!$A$3:$K$13,11,FALSE),\"\")","v":""},{"$f":"IF(I1526<>0,VLOOKUP(J1526,A01A02!A:J,10,0),\"\")","v":""}]
[null,0,"","","","",{"$f":"IF(B1527<>0,VLOOKUP(C1527,A01A02!$A$3:$K$13,11,FALSE),\"\")","v":""},null,0,"","","","",{"$f":"IF(I1527<>0,VLOOKUP(J1527,A01A02!$A$3:$K$13,11,FALSE),\"\")","v":""},{"$f":"IF(I1527<>0,VLOOKUP(J1527,A01A02!A:J,10,0),\"\")","v":""}]
[null,0,"","","","",{"$f":"IF(B1528<>0,VLOOKUP(C1528,A01A02!$A$3:$K$13,11,FALSE),\"\")","v":""},null,0,"","","","",{"$f":"IF(I1528<>0,VLOOKUP(J1528,A01A02!$A$3:$K$13,11,FALSE),\"\")","v":""},{"$f":"IF(I1528<>0,VLOOKUP(J1528,A01A02!A:J,10,0),\"\")","v":""}]
[null,0,"","","","",{"$f":"IF(B1529<>0,VLOOKUP(C1529,A01A02!$A$3:$K$13,11,FALSE),\"\")","v":""},null,0,"","","","",{"$f":"IF(I1529<>0,VLOOKUP(J1529,A01A02!$A$3:$K$13,11,FALSE),\"\")","v":""},{"$f":"IF(I1529<>0,VLOOKUP(J1529,A01A02!A:J,10,0),\"\")","v":""}]
[null,0,"","","","",{"$f":"IF(B1530<>0,VLOOKUP(C1530,A01A02!$A$3:$K$13,11,FALSE),\"\")","v":""},null,0,"","","","",{"$f":"IF(I1530<>0,VLOOKUP(J1530,A01A02!$A$3:$K$13,11,FALSE),\"\")","v":""},{"$f":"IF(I1530<>0,VLOOKUP(J1530,A01A02!A:J,10,0),\"\")","v":""}]
[null,0,"","","","",{"$f":"IF(B1531<>0,VLOOKUP(C1531,A01A02!$A$3:$K$13,11,FALSE),\"\")","v":""},null,0,"","","","",{"$f":"IF(I1531<>0,VLOOKUP(J1531,A01A02!$A$3:$K$13,11,FALSE),\"\")","v":""},{"$f":"IF(I1531<>0,VLOOKUP(J1531,A01A02!A:J,10,0),\"\")","v":""}]
[null,0,"","","","",{"$f":"IF(B1532<>0,VLOOKUP(C1532,A01A02!$A$3:$K$13,11,FALSE),\"\")","v":""},null,0,"","","","",{"$f":"IF(I1532<>0,VLOOKUP(J1532,A01A02!$A$3:$K$13,11,FALSE),\"\")","v":""},{"$f":"IF(I1532<>0,VLOOKUP(J1532,A01A02!A:J,10,0),\"\")","v":""}]
[null,0,"","","","",{"$f":"IF(B1533<>0,VLOOKUP(C1533,A01A02!$A$3:$K$13,11,FALSE),\"\")","v":""},null,0,"","","","",{"$f":"IF(I1533<>0,VLOOKUP(J1533,A01A02!$A$3:$K$13,11,FALSE),\"\")","v":""},{"$f":"IF(I1533<>0,VLOOKUP(J1533,A01A02!A:J,10,0),\"\")","v":""}]
[null,0,"","","","",{"$f":"IF(B1534<>0,VLOOKUP(C1534,A01A02!$A$3:$K$13,11,FALSE),\"\")","v":""},null,0,"","","","",{"$f":"IF(I1534<>0,VLOOKUP(J1534,A01A02!$A$3:$K$13,11,FALSE),\"\")","v":""},{"$f":"IF(I1534<>0,VLOOKUP(J1534,A01A02!A:J,10,0),\"\")","v":""}]
[null,0,"","","","",{"$f":"IF(B1535<>0,VLOOKUP(C1535,A01A02!$A$3:$K$13,11,FALSE),\"\")","v":""},null,0,"","","","",{"$f":"IF(I1535<>0,VLOOKUP(J1535,A01A02!$A$3:$K$13,11,FALSE),\"\")","v":""},{"$f":"IF(I1535<>0,VLOOKUP(J1535,A01A02!A:J,10,0),\"\")","v":""}]
[null,0,"","","","",{"$f":"IF(B1536<>0,VLOOKUP(C1536,A01A02!$A$3:$K$13,11,FALSE),\"\")","v":""},null,0,"","","","",{"$f":"IF(I1536<>0,VLOOKUP(J1536,A01A02!$A$3:$K$13,11,FALSE),\"\")","v":""},{"$f":"IF(I1536<>0,VLOOKUP(J1536,A01A02!A:J,10,0),\"\")","v":""}]
[null,0,"","","","",{"$f":"IF(B1537<>0,VLOOKUP(C1537,A01A02!$A$3:$K$13,11,FALSE),\"\")","v":""},null,0,"","","","",{"$f":"IF(I1537<>0,VLOOKUP(J1537,A01A02!$A$3:$K$13,11,FALSE),\"\")","v":""},{"$f":"IF(I1537<>0,VLOOKUP(J1537,A01A02!A:J,10,0),\"\")","v":""}]
[null,0,"","","","",{"$f":"IF(B1538<>0,VLOOKUP(C1538,A01A02!$A$3:$K$13,11,FALSE),\"\")","v":""},null,0,"","","","",{"$f":"IF(I1538<>0,VLOOKUP(J1538,A01A02!$A$3:$K$13,11,FALSE),\"\")","v":""},{"$f":"IF(I1538<>0,VLOOKUP(J1538,A01A02!A:J,10,0),\"\")","v":""}]
[null,{"$f":"IF(A1539<>\"\",xycall(A1539),0)","v":0},"","","","",{"$f":"IF(B1539<>0,VLOOKUP(C1539,A01A02!$A$3:$K$13,11,FALSE),\"\")","v":""},null,0,"","","","",{"$f":"IF(I1539<>0,VLOOKUP(J1539,A01A02!$A$3:$K$13,11,FALSE),\"\")","v":""},{"$f":"IF(I1539<>0,VLOOKUP(J1539,A01A02!A:J,10,0),\"\")","v":""}]
[null,0,"","","","",{"$f":"IF(B1540<>0,VLOOKUP(C1540,A01A02!$A$3:$K$13,11,FALSE),\"\")","v":""},null,0,"","","","",{"$f":"IF(I1540<>0,VLOOKUP(J1540,A01A02!$A$3:$K$13,11,FALSE),\"\")","v":""},{"$f":"IF(I1540<>0,VLOOKUP(J1540,A01A02!A:J,10,0),\"\")","v":""}]
[null,0,"","","","",{"$f":"IF(B1541<>0,VLOOKUP(C1541,A01A02!$A$3:$K$13,11,FALSE),\"\")","v":""},null,0,"","","","",{"$f":"IF(I1541<>0,VLOOKUP(J1541,A01A02!$A$3:$K$13,11,FALSE),\"\")","v":""},{"$f":"IF(I1541<>0,VLOOKUP(J1541,A01A02!A:J,10,0),\"\")","v":""}]
[null,0,"","","","",{"$f":"IF(B1542<>0,VLOOKUP(C1542,A01A02!$A$3:$K$13,11,FALSE),\"\")","v":""},null,0,"","","","",{"$f":"IF(I1542<>0,VLOOKUP(J1542,A01A02!$A$3:$K$13,11,FALSE),\"\")","v":""},{"$f":"IF(I1542<>0,VLOOKUP(J1542,A01A02!A:J,10,0),\"\")","v":""}]
[null,0,"","","","",{"$f":"IF(B1543<>0,VLOOKUP(C1543,A01A02!$A$3:$K$13,11,FALSE),\"\")","v":""},null,0,"","","","",{"$f":"IF(I1543<>0,VLOOKUP(J1543,A01A02!$A$3:$K$13,11,FALSE),\"\")","v":""},{"$f":"IF(I1543<>0,VLOOKUP(J1543,A01A02!A:J,10,0),\"\")","v":""}]
[null,0,"","","","",{"$f":"IF(B1544<>0,VLOOKUP(C1544,A01A02!$A$3:$K$13,11,FALSE),\"\")","v":""},null,0,"","","","",{"$f":"IF(I1544<>0,VLOOKUP(J1544,A01A02!$A$3:$K$13,11,FALSE),\"\")","v":""},{"$f":"IF(I1544<>0,VLOOKUP(J1544,A01A02!A:J,10,0),\"\")","v":""}]
[null,0,"","","","",{"$f":"IF(B1545<>0,VLOOKUP(C1545,A01A02!$A$3:$K$13,11,FALSE),\"\")","v":""},null,0,"","","","",{"$f":"IF(I1545<>0,VLOOKUP(J1545,A01A02!$A$3:$K$13,11,FALSE),\"\")","v":""},{"$f":"IF(I1545<>0,VLOOKUP(J1545,A01A02!A:J,10,0),\"\")","v":""}]
[null,0,"","","","",{"$f":"IF(B1546<>0,VLOOKUP(C1546,A01A02!$A$3:$K$13,11,FALSE),\"\")","v":""},null,0,"","","","",{"$f":"IF(I1546<>0,VLOOKUP(J1546,A01A02!$A$3:$K$13,11,FALSE),\"\")","v":""},{"$f":"IF(I1546<>0,VLOOKUP(J1546,A01A02!A:J,10,0),\"\")","v":""}]
[null,0,"","","","",{"$f":"IF(B1547<>0,VLOOKUP(C1547,A01A02!$A$3:$K$13,11,FALSE),\"\")","v":""},null,0,"","","","",{"$f":"IF(I1547<>0,VLOOKUP(J1547,A01A02!$A$3:$K$13,11,FALSE),\"\")","v":""},{"$f":"IF(I1547<>0,VLOOKUP(J1547,A01A02!A:J,10,0),\"\")","v":""}]
[null,0,"","","","",{"$f":"IF(B1548<>0,VLOOKUP(C1548,A01A02!$A$3:$K$13,11,FALSE),\"\")","v":""},null,0,"","","","",{"$f":"IF(I1548<>0,VLOOKUP(J1548,A01A02!$A$3:$K$13,11,FALSE),\"\")","v":""},{"$f":"IF(I1548<>0,VLOOKUP(J1548,A01A02!A:J,10,0),\"\")","v":""}]
[null,0,"","","","",{"$f":"IF(B1549<>0,VLOOKUP(C1549,A01A02!$A$3:$K$13,11,FALSE),\"\")","v":""},null,0,"","","","",{"$f":"IF(I1549<>0,VLOOKUP(J1549,A01A02!$A$3:$K$13,11,FALSE),\"\")","v":""},{"$f":"IF(I1549<>0,VLOOKUP(J1549,A01A02!A:J,10,0),\"\")","v":""}]
[null,0,"","","","",{"$f":"IF(B1550<>0,VLOOKUP(C1550,A01A02!$A$3:$K$13,11,FALSE),\"\")","v":""},null,0,"","","","",{"$f":"IF(I1550<>0,VLOOKUP(J1550,A01A02!$A$3:$K$13,11,FALSE),\"\")","v":""},{"$f":"IF(I1550<>0,VLOOKUP(J1550,A01A02!A:J,10,0),\"\")","v":""}]
[null,0,"","","","",{"$f":"IF(B1551<>0,VLOOKUP(C1551,A01A02!$A$3:$K$13,11,FALSE),\"\")","v":""},null,0,"","","","",{"$f":"IF(I1551<>0,VLOOKUP(J1551,A01A02!$A$3:$K$13,11,FALSE),\"\")","v":""},{"$f":"IF(I1551<>0,VLOOKUP(J1551,A01A02!A:J,10,0),\"\")","v":""}]
[null,0,"","","","",{"$f":"IF(B1552<>0,VLOOKUP(C1552,A01A02!$A$3:$K$13,11,FALSE),\"\")","v":""},null,0,"","","","",{"$f":"IF(I1552<>0,VLOOKUP(J1552,A01A02!$A$3:$K$13,11,FALSE),\"\")","v":""},{"$f":"IF(I1552<>0,VLOOKUP(J1552,A01A02!A:J,10,0),\"\")","v":""}]
[null,0,"","","","",{"$f":"IF(B1553<>0,VLOOKUP(C1553,A01A02!$A$3:$K$13,11,FALSE),\"\")","v":""},null,0,"","","","",{"$f":"IF(I1553<>0,VLOOKUP(J1553,A01A02!$A$3:$K$13,11,FALSE),\"\")","v":""},{"$f":"IF(I1553<>0,VLOOKUP(J1553,A01A02!A:J,10,0),\"\")","v":""}]
[null,0,"","","","",{"$f":"IF(B1554<>0,VLOOKUP(C1554,A01A02!$A$3:$K$13,11,FALSE),\"\")","v":""},null,0,"","","","",{"$f":"IF(I1554<>0,VLOOKUP(J1554,A01A02!$A$3:$K$13,11,FALSE),\"\")","v":""},{"$f":"IF(I1554<>0,VLOOKUP(J1554,A01A02!A:J,10,0),\"\")","v":""}]
[null,0,"","","","",{"$f":"IF(B1555<>0,VLOOKUP(C1555,A01A02!$A$3:$K$13,11,FALSE),\"\")","v":""},null,0,"","","","",{"$f":"IF(I1555<>0,VLOOKUP(J1555,A01A02!$A$3:$K$13,11,FALSE),\"\")","v":""},{"$f":"IF(I1555<>0,VLOOKUP(J1555,A01A02!A:J,10,0),\"\")","v":""}]
[null,0,"","","","",{"$f":"IF(B1556<>0,VLOOKUP(C1556,A01A02!$A$3:$K$13,11,FALSE),\"\")","v":""},null,0,"","","","",{"$f":"IF(I1556<>0,VLOOKUP(J1556,A01A02!$A$3:$K$13,11,FALSE),\"\")","v":""},{"$f":"IF(I1556<>0,VLOOKUP(J1556,A01A02!A:J,10,0),\"\")","v":""}]
[null,0,"","","","",{"$f":"IF(B1557<>0,VLOOKUP(C1557,A01A02!$A$3:$K$13,11,FALSE),\"\")","v":""},null,0,"","","","",{"$f":"IF(I1557<>0,VLOOKUP(J1557,A01A02!$A$3:$K$13,11,FALSE),\"\")","v":""},{"$f":"IF(I1557<>0,VLOOKUP(J1557,A01A02!A:J,10,0),\"\")","v":""}]
[null,0,"","","","",{"$f":"IF(B1558<>0,VLOOKUP(C1558,A01A02!$A$3:$K$13,11,FALSE),\"\")","v":""},null,0,"","","","",{"$f":"IF(I1558<>0,VLOOKUP(J1558,A01A02!$A$3:$K$13,11,FALSE),\"\")","v":""},{"$f":"IF(I1558<>0,VLOOKUP(J1558,A01A02!A:J,10,0),\"\")","v":""}]
[null,0,"","","","",{"$f":"IF(B1559<>0,VLOOKUP(C1559,A01A02!$A$3:$K$13,11,FALSE),\"\")","v":""},null,0,"","","","",{"$f":"IF(I1559<>0,VLOOKUP(J1559,A01A02!$A$3:$K$13,11,FALSE),\"\")","v":""},{"$f":"IF(I1559<>0,VLOOKUP(J1559,A01A02!A:J,10,0),\"\")","v":""}]
[null,0,"","","","",{"$f":"IF(B1560<>0,VLOOKUP(C1560,A01A02!$A$3:$K$13,11,FALSE),\"\")","v":""},null,0,"","","","",{"$f":"IF(I1560<>0,VLOOKUP(J1560,A01A02!$A$3:$K$13,11,FALSE),\"\")","v":""},{"$f":"IF(I1560<>0,VLOOKUP(J1560,A01A02!A:J,10,0),\"\")","v":""}]
[null,0,"","","","",{"$f":"IF(B1561<>0,VLOOKUP(C1561,A01A02!$A$3:$K$13,11,FALSE),\"\")","v":""},null,0,"","","","",{"$f":"IF(I1561<>0,VLOOKUP(J1561,A01A02!$A$3:$K$13,11,FALSE),\"\")","v":""},{"$f":"IF(I1561<>0,VLOOKUP(J1561,A01A02!A:J,10,0),\"\")","v":""}]
[null,0,"","","","",{"$f":"IF(B1562<>0,VLOOKUP(C1562,A01A02!$A$3:$K$13,11,FALSE),\"\")","v":""},null,0,"","","","",{"$f":"IF(I1562<>0,VLOOKUP(J1562,A01A02!$A$3:$K$13,11,FALSE),\"\")","v":""},{"$f":"IF(I1562<>0,VLOOKUP(J1562,A01A02!A:J,10,0),\"\")","v":""}]
[null,0,"","","","",{"$f":"IF(B1563<>0,VLOOKUP(C1563,A01A02!$A$3:$K$13,11,FALSE),\"\")","v":""},null,0,"","","","",{"$f":"IF(I1563<>0,VLOOKUP(J1563,A01A02!$A$3:$K$13,11,FALSE),\"\")","v":""},{"$f":"IF(I1563<>0,VLOOKUP(J1563,A01A02!A:J,10,0),\"\")","v":""}]
[null,0,"","","","",{"$f":"IF(B1564<>0,VLOOKUP(C1564,A01A02!$A$3:$K$13,11,FALSE),\"\")","v":""},null,0,"","","","",{"$f":"IF(I1564<>0,VLOOKUP(J1564,A01A02!$A$3:$K$13,11,FALSE),\"\")","v":""},{"$f":"IF(I1564<>0,VLOOKUP(J1564,A01A02!A:J,10,0),\"\")","v":""}]
[null,0,"","","","",{"$f":"IF(B1565<>0,VLOOKUP(C1565,A01A02!$A$3:$K$13,11,FALSE),\"\")","v":""},null,0,"","","","",{"$f":"IF(I1565<>0,VLOOKUP(J1565,A01A02!$A$3:$K$13,11,FALSE),\"\")","v":""},{"$f":"IF(I1565<>0,VLOOKUP(J1565,A01A02!A:J,10,0),\"\")","v":""}]
[null,0,"","","","",{"$f":"IF(B1566<>0,VLOOKUP(C1566,A01A02!$A$3:$K$13,11,FALSE),\"\")","v":""},null,0,"","","","",{"$f":"IF(I1566<>0,VLOOKUP(J1566,A01A02!$A$3:$K$13,11,FALSE),\"\")","v":""},{"$f":"IF(I1566<>0,VLOOKUP(J1566,A01A02!A:J,10,0),\"\")","v":""}]
[null,0,"","","","",{"$f":"IF(B1567<>0,VLOOKUP(C1567,A01A02!$A$3:$K$13,11,FALSE),\"\")","v":""},null,0,"","","","",{"$f":"IF(I1567<>0,VLOOKUP(J1567,A01A02!$A$3:$K$13,11,FALSE),\"\")","v":""},{"$f":"IF(I1567<>0,VLOOKUP(J1567,A01A02!A:J,10,0),\"\")","v":""}]
[null,0,"","","","",{"$f":"IF(B1568<>0,VLOOKUP(C1568,A01A02!$A$3:$K$13,11,FALSE),\"\")","v":""},null,0,"","","","",{"$f":"IF(I1568<>0,VLOOKUP(J1568,A01A02!$A$3:$K$13,11,FALSE),\"\")","v":""},{"$f":"IF(I1568<>0,VLOOKUP(J1568,A01A02!A:J,10,0),\"\")","v":""}]
[null,0,"","","","",{"$f":"IF(B1569<>0,VLOOKUP(C1569,A01A02!$A$3:$K$13,11,FALSE),\"\")","v":""},null,0,"","","","",{"$f":"IF(I1569<>0,VLOOKUP(J1569,A01A02!$A$3:$K$13,11,FALSE),\"\")","v":""},{"$f":"IF(I1569<>0,VLOOKUP(J1569,A01A02!A:J,10,0),\"\")","v":""}]
[null,0,"","","","",{"$f":"IF(B1570<>0,VLOOKUP(C1570,A01A02!$A$3:$K$13,11,FALSE),\"\")","v":""},null,0,"","","","",{"$f":"IF(I1570<>0,VLOOKUP(J1570,A01A02!$A$3:$K$13,11,FALSE),\"\")","v":""},{"$f":"IF(I1570<>0,VLOOKUP(J1570,A01A02!A:J,10,0),\"\")","v":""}]
[null,0,"","","","",{"$f":"IF(B1571<>0,VLOOKUP(C1571,A01A02!$A$3:$K$13,11,FALSE),\"\")","v":""},null,0,"","","","",{"$f":"IF(I1571<>0,VLOOKUP(J1571,A01A02!$A$3:$K$13,11,FALSE),\"\")","v":""},{"$f":"IF(I1571<>0,VLOOKUP(J1571,A01A02!A:J,10,0),\"\")","v":""}]
[null,0,"","","","",{"$f":"IF(B1572<>0,VLOOKUP(C1572,A01A02!$A$3:$K$13,11,FALSE),\"\")","v":""},null,0,"","","","",{"$f":"IF(I1572<>0,VLOOKUP(J1572,A01A02!$A$3:$K$13,11,FALSE),\"\")","v":""},{"$f":"IF(I1572<>0,VLOOKUP(J1572,A01A02!A:J,10,0),\"\")","v":""}]
[null,0,"","","","",{"$f":"IF(B1573<>0,VLOOKUP(C1573,A01A02!$A$3:$K$13,11,FALSE),\"\")","v":""},null,0,"","","","",{"$f":"IF(I1573<>0,VLOOKUP(J1573,A01A02!$A$3:$K$13,11,FALSE),\"\")","v":""},{"$f":"IF(I1573<>0,VLOOKUP(J1573,A01A02!A:J,10,0),\"\")","v":""}]
[null,0,"","","","",{"$f":"IF(B1574<>0,VLOOKUP(C1574,A01A02!$A$3:$K$13,11,FALSE),\"\")","v":""},null,0,"","","","",{"$f":"IF(I1574<>0,VLOOKUP(J1574,A01A02!$A$3:$K$13,11,FALSE),\"\")","v":""},{"$f":"IF(I1574<>0,VLOOKUP(J1574,A01A02!A:J,10,0),\"\")","v":""}]
[null,0,"","","","",{"$f":"IF(B1575<>0,VLOOKUP(C1575,A01A02!$A$3:$K$13,11,FALSE),\"\")","v":""},null,0,"","","","",{"$f":"IF(I1575<>0,VLOOKUP(J1575,A01A02!$A$3:$K$13,11,FALSE),\"\")","v":""},{"$f":"IF(I1575<>0,VLOOKUP(J1575,A01A02!A:J,10,0),\"\")","v":""}]
[null,0,"","","","",{"$f":"IF(B1576<>0,VLOOKUP(C1576,A01A02!$A$3:$K$13,11,FALSE),\"\")","v":""},null,0,"","","","",{"$f":"IF(I1576<>0,VLOOKUP(J1576,A01A02!$A$3:$K$13,11,FALSE),\"\")","v":""},{"$f":"IF(I1576<>0,VLOOKUP(J1576,A01A02!A:J,10,0),\"\")","v":""}]
[null,0,"","","","",{"$f":"IF(B1577<>0,VLOOKUP(C1577,A01A02!$A$3:$K$13,11,FALSE),\"\")","v":""},null,0,"","","","",{"$f":"IF(I1577<>0,VLOOKUP(J1577,A01A02!$A$3:$K$13,11,FALSE),\"\")","v":""},{"$f":"IF(I1577<>0,VLOOKUP(J1577,A01A02!A:J,10,0),\"\")","v":""}]
[null,0,"","","","",{"$f":"IF(B1578<>0,VLOOKUP(C1578,A01A02!$A$3:$K$13,11,FALSE),\"\")","v":""},null,0,"","","","",{"$f":"IF(I1578<>0,VLOOKUP(J1578,A01A02!$A$3:$K$13,11,FALSE),\"\")","v":""},{"$f":"IF(I1578<>0,VLOOKUP(J1578,A01A02!A:J,10,0),\"\")","v":""}]
[null,0,{"$f":"IF(B1579<>0,znoget(B1579),\"\")","v":""},{"$f":"IF(B1579<>0,znaget(B1579),\"\")","v":""},{"$f":"IF(B1579<>0,xget(B1579),\"\")","v":""},{"$f":"IF(B1579<>0,yget(B1579),\"\")","v":""},{"$f":"IF(B1579<>0,VLOOKUP(C1579,A01A02!$A$3:$K$13,11,FALSE),\"\")","v":""},null,{"$f":"IF(H1579<>\"\",xycall(H1579),0)","v":0},{"$f":"IF(I1579<>0,znoget(I1579),\"\")","v":""},{"$f":"IF(I1579<>0,znaget(I1579),\"\")","v":""},{"$f":"IF(I1579<>0,xget(I1579),\"\")","v":""},{"$f":"IF(I1579<>0,yget(I1579),\"\")","v":""},{"$f":"IF(I1579<>0,VLOOKUP(J1579,A01A02!$A$3:$K$13,11,FALSE),\"\")","v":""},{"$f":"IF(I1579<>0,VLOOKUP(J1579,A01A02!A:J,10,0),\"\")","v":""}]
[null,0,"","","","",{"$f":"IF(B1580<>0,VLOOKUP(C1580,A01A02!$A$3:$K$13,11,FALSE),\"\")","v":""},null,0,"","","","",{"$f":"IF(I1580<>0,VLOOKUP(J1580,A01A02!$A$3:$K$13,11,FALSE),\"\")","v":""},{"$f":"IF(I1580<>0,VLOOKUP(J1580,A01A02!A:J,10,0),\"\")","v":""}]
[null,0,"","","","",{"$f":"IF(B1581<>0,VLOOKUP(C1581,A01A02!$A$3:$K$13,11,FALSE),\"\")","v":""},null,0,"","","","",{"$f":"IF(I1581<>0,VLOOKUP(J1581,A01A02!$A$3:$K$13,11,FALSE),\"\")","v":""},{"$f":"IF(I1581<>0,VLOOKUP(J1581,A01A02!A:J,10,0),\"\")","v":""}]
[null,0,"","","","",{"$f":"IF(B1582<>0,VLOOKUP(C1582,A01A02!$A$3:$K$13,11,FALSE),\"\")","v":""},null,0,"","","","",{"$f":"IF(I1582<>0,VLOOKUP(J1582,A01A02!$A$3:$K$13,11,FALSE),\"\")","v":""},{"$f":"IF(I1582<>0,VLOOKUP(J1582,A01A02!A:J,10,0),\"\")","v":""}]
[null,0,"","","","",{"$f":"IF(B1583<>0,VLOOKUP(C1583,A01A02!$A$3:$K$13,11,FALSE),\"\")","v":""},null,0,"","","","",{"$f":"IF(I1583<>0,VLOOKUP(J1583,A01A02!$A$3:$K$13,11,FALSE),\"\")","v":""},{"$f":"IF(I1583<>0,VLOOKUP(J1583,A01A02!A:J,10,0),\"\")","v":""}]
[null,0,"","","","",{"$f":"IF(B1584<>0,VLOOKUP(C1584,A01A02!$A$3:$K$13,11,FALSE),\"\")","v":""},null,0,"","","","",{"$f":"IF(I1584<>0,VLOOKUP(J1584,A01A02!$A$3:$K$13,11,FALSE),\"\")","v":""},{"$f":"IF(I1584<>0,VLOOKUP(J1584,A01A02!A:J,10,0),\"\")","v":""}]
[null,0,"","","","",{"$f":"IF(B1585<>0,VLOOKUP(C1585,A01A02!$A$3:$K$13,11,FALSE),\"\")","v":""},null,0,"","","","",{"$f":"IF(I1585<>0,VLOOKUP(J1585,A01A02!$A$3:$K$13,11,FALSE),\"\")","v":""},{"$f":"IF(I1585<>0,VLOOKUP(J1585,A01A02!A:J,10,0),\"\")","v":""}]
[null,0,"","","","",{"$f":"IF(B1586<>0,VLOOKUP(C1586,A01A02!$A$3:$K$13,11,FALSE),\"\")","v":""},null,0,"","","","",{"$f":"IF(I1586<>0,VLOOKUP(J1586,A01A02!$A$3:$K$13,11,FALSE),\"\")","v":""},{"$f":"IF(I1586<>0,VLOOKUP(J1586,A01A02!A:J,10,0),\"\")","v":""}]
[null,0,"","","","",{"$f":"IF(B1587<>0,VLOOKUP(C1587,A01A02!$A$3:$K$13,11,FALSE),\"\")","v":""},null,0,"","","","",{"$f":"IF(I1587<>0,VLOOKUP(J1587,A01A02!$A$3:$K$13,11,FALSE),\"\")","v":""},{"$f":"IF(I1587<>0,VLOOKUP(J1587,A01A02!A:J,10,0),\"\")","v":""}]
[null,0,"","","","",{"$f":"IF(B1588<>0,VLOOKUP(C1588,A01A02!$A$3:$K$13,11,FALSE),\"\")","v":""},null,0,"","","","",{"$f":"IF(I1588<>0,VLOOKUP(J1588,A01A02!$A$3:$K$13,11,FALSE),\"\")","v":""},{"$f":"IF(I1588<>0,VLOOKUP(J1588,A01A02!A:J,10,0),\"\")","v":""}]
[null,0,"","","","",{"$f":"IF(B1589<>0,VLOOKUP(C1589,A01A02!$A$3:$K$13,11,FALSE),\"\")","v":""},null,0,"","","","",{"$f":"IF(I1589<>0,VLOOKUP(J1589,A01A02!$A$3:$K$13,11,FALSE),\"\")","v":""},{"$f":"IF(I1589<>0,VLOOKUP(J1589,A01A02!A:J,10,0),\"\")","v":""}]
[null,0,"","","","",{"$f":"IF(B1590<>0,VLOOKUP(C1590,A01A02!$A$3:$K$13,11,FALSE),\"\")","v":""},null,0,"","","","",{"$f":"IF(I1590<>0,VLOOKUP(J1590,A01A02!$A$3:$K$13,11,FALSE),\"\")","v":""},{"$f":"IF(I1590<>0,VLOOKUP(J1590,A01A02!A:J,10,0),\"\")","v":""}]
[null,0,"","","","",{"$f":"IF(B1591<>0,VLOOKUP(C1591,A01A02!$A$3:$K$13,11,FALSE),\"\")","v":""},null,0,"","","","",{"$f":"IF(I1591<>0,VLOOKUP(J1591,A01A02!$A$3:$K$13,11,FALSE),\"\")","v":""},{"$f":"IF(I1591<>0,VLOOKUP(J1591,A01A02!A:J,10,0),\"\")","v":""}]
[null,0,"","","","",{"$f":"IF(B1592<>0,VLOOKUP(C1592,A01A02!$A$3:$K$13,11,FALSE),\"\")","v":""},null,0,"","","","",{"$f":"IF(I1592<>0,VLOOKUP(J1592,A01A02!$A$3:$K$13,11,FALSE),\"\")","v":""},{"$f":"IF(I1592<>0,VLOOKUP(J1592,A01A02!A:J,10,0),\"\")","v":""}]
[null,0,"","","","",{"$f":"IF(B1593<>0,VLOOKUP(C1593,A01A02!$A$3:$K$13,11,FALSE),\"\")","v":""},null,0,"","","","",{"$f":"IF(I1593<>0,VLOOKUP(J1593,A01A02!$A$3:$K$13,11,FALSE),\"\")","v":""},{"$f":"IF(I1593<>0,VLOOKUP(J1593,A01A02!A:J,10,0),\"\")","v":""}]
[null,0,"","","","",{"$f":"IF(B1594<>0,VLOOKUP(C1594,A01A02!$A$3:$K$13,11,FALSE),\"\")","v":""},null,0,"","","","",{"$f":"IF(I1594<>0,VLOOKUP(J1594,A01A02!$A$3:$K$13,11,FALSE),\"\")","v":""},{"$f":"IF(I1594<>0,VLOOKUP(J1594,A01A02!A:J,10,0),\"\")","v":""}]
[null,0,"","","","",{"$f":"IF(B1595<>0,VLOOKUP(C1595,A01A02!$A$3:$K$13,11,FALSE),\"\")","v":""},null,0,"","","","",{"$f":"IF(I1595<>0,VLOOKUP(J1595,A01A02!$A$3:$K$13,11,FALSE),\"\")","v":""},{"$f":"IF(I1595<>0,VLOOKUP(J1595,A01A02!A:J,10,0),\"\")","v":""}]
[null,0,"","","","",{"$f":"IF(B1596<>0,VLOOKUP(C1596,A01A02!$A$3:$K$13,11,FALSE),\"\")","v":""},null,0,"","","","",{"$f":"IF(I1596<>0,VLOOKUP(J1596,A01A02!$A$3:$K$13,11,FALSE),\"\")","v":""},{"$f":"IF(I1596<>0,VLOOKUP(J1596,A01A02!A:J,10,0),\"\")","v":""}]
[null,0,"","","","",{"$f":"IF(B1597<>0,VLOOKUP(C1597,A01A02!$A$3:$K$13,11,FALSE),\"\")","v":""},null,0,"","","","",{"$f":"IF(I1597<>0,VLOOKUP(J1597,A01A02!$A$3:$K$13,11,FALSE),\"\")","v":""},{"$f":"IF(I1597<>0,VLOOKUP(J1597,A01A02!A:J,10,0),\"\")","v":""}]
[null,0,"","","","",{"$f":"IF(B1598<>0,VLOOKUP(C1598,A01A02!$A$3:$K$13,11,FALSE),\"\")","v":""},null,0,"","","","",{"$f":"IF(I1598<>0,VLOOKUP(J1598,A01A02!$A$3:$K$13,11,FALSE),\"\")","v":""},{"$f":"IF(I1598<>0,VLOOKUP(J1598,A01A02!A:J,10,0),\"\")","v":""}]
[null,0,"","","","",{"$f":"IF(B1599<>0,VLOOKUP(C1599,A01A02!$A$3:$K$13,11,FALSE),\"\")","v":""},null,0,"","","","",{"$f":"IF(I1599<>0,VLOOKUP(J1599,A01A02!$A$3:$K$13,11,FALSE),\"\")","v":""},{"$f":"IF(I1599<>0,VLOOKUP(J1599,A01A02!A:J,10,0),\"\")","v":""}]
[null,0,"","","","",{"$f":"IF(B1600<>0,VLOOKUP(C1600,A01A02!$A$3:$K$13,11,FALSE),\"\")","v":""},null,0,"","","","",{"$f":"IF(I1600<>0,VLOOKUP(J1600,A01A02!$A$3:$K$13,11,FALSE),\"\")","v":""},{"$f":"IF(I1600<>0,VLOOKUP(J1600,A01A02!A:J,10,0),\"\")","v":""}]
[null,0,"","","","",{"$f":"IF(B1601<>0,VLOOKUP(C1601,A01A02!$A$3:$K$13,11,FALSE),\"\")","v":""},null,0,"","","","",{"$f":"IF(I1601<>0,VLOOKUP(J1601,A01A02!$A$3:$K$13,11,FALSE),\"\")","v":""},{"$f":"IF(I1601<>0,VLOOKUP(J1601,A01A02!A:J,10,0),\"\")","v":""}]
[null,0,"","","","",{"$f":"IF(B1602<>0,VLOOKUP(C1602,A01A02!$A$3:$K$13,11,FALSE),\"\")","v":""},null,0,"","","","",{"$f":"IF(I1602<>0,VLOOKUP(J1602,A01A02!$A$3:$K$13,11,FALSE),\"\")","v":""},{"$f":"IF(I1602<>0,VLOOKUP(J1602,A01A02!A:J,10,0),\"\")","v":""}]
[null,{"$f":"IF(A1603<>\"\",xycall(A1603),0)","v":0},"","","","",{"$f":"IF(B1603<>0,VLOOKUP(C1603,A01A02!$A$3:$K$13,11,FALSE),\"\")","v":""},null,0,"","","","",{"$f":"IF(I1603<>0,VLOOKUP(J1603,A01A02!$A$3:$K$13,11,FALSE),\"\")","v":""},{"$f":"IF(I1603<>0,VLOOKUP(J1603,A01A02!A:J,10,0),\"\")","v":""}]
[null,0,"","","","",{"$f":"IF(B1604<>0,VLOOKUP(C1604,A01A02!$A$3:$K$13,11,FALSE),\"\")","v":""},null,0,"","","","",{"$f":"IF(I1604<>0,VLOOKUP(J1604,A01A02!$A$3:$K$13,11,FALSE),\"\")","v":""},{"$f":"IF(I1604<>0,VLOOKUP(J1604,A01A02!A:J,10,0),\"\")","v":""}]
[null,0,"","","","",{"$f":"IF(B1605<>0,VLOOKUP(C1605,A01A02!$A$3:$K$13,11,FALSE),\"\")","v":""},null,0,"","","","",{"$f":"IF(I1605<>0,VLOOKUP(J1605,A01A02!$A$3:$K$13,11,FALSE),\"\")","v":""},{"$f":"IF(I1605<>0,VLOOKUP(J1605,A01A02!A:J,10,0),\"\")","v":""}]
[null,0,"","","","",{"$f":"IF(B1606<>0,VLOOKUP(C1606,A01A02!$A$3:$K$13,11,FALSE),\"\")","v":""},null,0,"","","","",{"$f":"IF(I1606<>0,VLOOKUP(J1606,A01A02!$A$3:$K$13,11,FALSE),\"\")","v":""},{"$f":"IF(I1606<>0,VLOOKUP(J1606,A01A02!A:J,10,0),\"\")","v":""}]
[null,0,"","","","",{"$f":"IF(B1607<>0,VLOOKUP(C1607,A01A02!$A$3:$K$13,11,FALSE),\"\")","v":""},null,0,"","","","",{"$f":"IF(I1607<>0,VLOOKUP(J1607,A01A02!$A$3:$K$13,11,FALSE),\"\")","v":""},{"$f":"IF(I1607<>0,VLOOKUP(J1607,A01A02!A:J,10,0),\"\")","v":""}]
[null,0,"","","","",{"$f":"IF(B1608<>0,VLOOKUP(C1608,A01A02!$A$3:$K$13,11,FALSE),\"\")","v":""},null,0,"","","","",{"$f":"IF(I1608<>0,VLOOKUP(J1608,A01A02!$A$3:$K$13,11,FALSE),\"\")","v":""},{"$f":"IF(I1608<>0,VLOOKUP(J1608,A01A02!A:J,10,0),\"\")","v":""}]
[null,0,"","","","",{"$f":"IF(B1609<>0,VLOOKUP(C1609,A01A02!$A$3:$K$13,11,FALSE),\"\")","v":""},null,0,"","","","",{"$f":"IF(I1609<>0,VLOOKUP(J1609,A01A02!$A$3:$K$13,11,FALSE),\"\")","v":""},{"$f":"IF(I1609<>0,VLOOKUP(J1609,A01A02!A:J,10,0),\"\")","v":""}]
[null,0,"","","","",{"$f":"IF(B1610<>0,VLOOKUP(C1610,A01A02!$A$3:$K$13,11,FALSE),\"\")","v":""},null,0,"","","","",{"$f":"IF(I1610<>0,VLOOKUP(J1610,A01A02!$A$3:$K$13,11,FALSE),\"\")","v":""},{"$f":"IF(I1610<>0,VLOOKUP(J1610,A01A02!A:J,10,0),\"\")","v":""}]
[null,0,"","","","",{"$f":"IF(B1611<>0,VLOOKUP(C1611,A01A02!$A$3:$K$13,11,FALSE),\"\")","v":""},null,0,"","","","",{"$f":"IF(I1611<>0,VLOOKUP(J1611,A01A02!$A$3:$K$13,11,FALSE),\"\")","v":""},{"$f":"IF(I1611<>0,VLOOKUP(J1611,A01A02!A:J,10,0),\"\")","v":""}]
[null,0,"","","","",{"$f":"IF(B1612<>0,VLOOKUP(C1612,A01A02!$A$3:$K$13,11,FALSE),\"\")","v":""},null,0,"","","","",{"$f":"IF(I1612<>0,VLOOKUP(J1612,A01A02!$A$3:$K$13,11,FALSE),\"\")","v":""},{"$f":"IF(I1612<>0,VLOOKUP(J1612,A01A02!A:J,10,0),\"\")","v":""}]
[null,0,"","","","",{"$f":"IF(B1613<>0,VLOOKUP(C1613,A01A02!$A$3:$K$13,11,FALSE),\"\")","v":""},null,0,"","","","",{"$f":"IF(I1613<>0,VLOOKUP(J1613,A01A02!$A$3:$K$13,11,FALSE),\"\")","v":""},{"$f":"IF(I1613<>0,VLOOKUP(J1613,A01A02!A:J,10,0),\"\")","v":""}]
[null,0,"","","","",{"$f":"IF(B1614<>0,VLOOKUP(C1614,A01A02!$A$3:$K$13,11,FALSE),\"\")","v":""},null,0,"","","","",{"$f":"IF(I1614<>0,VLOOKUP(J1614,A01A02!$A$3:$K$13,11,FALSE),\"\")","v":""},{"$f":"IF(I1614<>0,VLOOKUP(J1614,A01A02!A:J,10,0),\"\")","v":""}]
[null,0,"","","","",{"$f":"IF(B1615<>0,VLOOKUP(C1615,A01A02!$A$3:$K$13,11,FALSE),\"\")","v":""},null,0,"","","","",{"$f":"IF(I1615<>0,VLOOKUP(J1615,A01A02!$A$3:$K$13,11,FALSE),\"\")","v":""},{"$f":"IF(I1615<>0,VLOOKUP(J1615,A01A02!A:J,10,0),\"\")","v":""}]
[null,0,"","","","",{"$f":"IF(B1616<>0,VLOOKUP(C1616,A01A02!$A$3:$K$13,11,FALSE),\"\")","v":""},null,0,"","","","",{"$f":"IF(I1616<>0,VLOOKUP(J1616,A01A02!$A$3:$K$13,11,FALSE),\"\")","v":""},{"$f":"IF(I1616<>0,VLOOKUP(J1616,A01A02!A:J,10,0),\"\")","v":""}]
[null,0,"","","","",{"$f":"IF(B1617<>0,VLOOKUP(C1617,A01A02!$A$3:$K$13,11,FALSE),\"\")","v":""},null,0,"","","","",{"$f":"IF(I1617<>0,VLOOKUP(J1617,A01A02!$A$3:$K$13,11,FALSE),\"\")","v":""},{"$f":"IF(I1617<>0,VLOOKUP(J1617,A01A02!A:J,10,0),\"\")","v":""}]
[null,0,"","","","",{"$f":"IF(B1618<>0,VLOOKUP(C1618,A01A02!$A$3:$K$13,11,FALSE),\"\")","v":""},null,0,"","","","",{"$f":"IF(I1618<>0,VLOOKUP(J1618,A01A02!$A$3:$K$13,11,FALSE),\"\")","v":""},{"$f":"IF(I1618<>0,VLOOKUP(J1618,A01A02!A:J,10,0),\"\")","v":""}]
[null,0,"","","","",{"$f":"IF(B1619<>0,VLOOKUP(C1619,A01A02!$A$3:$K$13,11,FALSE),\"\")","v":""},null,0,"","","","",{"$f":"IF(I1619<>0,VLOOKUP(J1619,A01A02!$A$3:$K$13,11,FALSE),\"\")","v":""},{"$f":"IF(I1619<>0,VLOOKUP(J1619,A01A02!A:J,10,0),\"\")","v":""}]
[null,0,"","","","",{"$f":"IF(B1620<>0,VLOOKUP(C1620,A01A02!$A$3:$K$13,11,FALSE),\"\")","v":""},null,0,"","","","",{"$f":"IF(I1620<>0,VLOOKUP(J1620,A01A02!$A$3:$K$13,11,FALSE),\"\")","v":""},{"$f":"IF(I1620<>0,VLOOKUP(J1620,A01A02!A:J,10,0),\"\")","v":""}]
[null,0,"","","","",{"$f":"IF(B1621<>0,VLOOKUP(C1621,A01A02!$A$3:$K$13,11,FALSE),\"\")","v":""},null,0,"","","","",{"$f":"IF(I1621<>0,VLOOKUP(J1621,A01A02!$A$3:$K$13,11,FALSE),\"\")","v":""},{"$f":"IF(I1621<>0,VLOOKUP(J1621,A01A02!A:J,10,0),\"\")","v":""}]
[null,0,"","","","",{"$f":"IF(B1622<>0,VLOOKUP(C1622,A01A02!$A$3:$K$13,11,FALSE),\"\")","v":""},null,0,"","","","",{"$f":"IF(I1622<>0,VLOOKUP(J1622,A01A02!$A$3:$K$13,11,FALSE),\"\")","v":""},{"$f":"IF(I1622<>0,VLOOKUP(J1622,A01A02!A:J,10,0),\"\")","v":""}]
[null,0,"","","","",{"$f":"IF(B1623<>0,VLOOKUP(C1623,A01A02!$A$3:$K$13,11,FALSE),\"\")","v":""},null,0,"","","","",{"$f":"IF(I1623<>0,VLOOKUP(J1623,A01A02!$A$3:$K$13,11,FALSE),\"\")","v":""},{"$f":"IF(I1623<>0,VLOOKUP(J1623,A01A02!A:J,10,0),\"\")","v":""}]
[null,0,"","","","",{"$f":"IF(B1624<>0,VLOOKUP(C1624,A01A02!$A$3:$K$13,11,FALSE),\"\")","v":""},null,0,"","","","",{"$f":"IF(I1624<>0,VLOOKUP(J1624,A01A02!$A$3:$K$13,11,FALSE),\"\")","v":""},{"$f":"IF(I1624<>0,VLOOKUP(J1624,A01A02!A:J,10,0),\"\")","v":""}]
[null,0,"","","","",{"$f":"IF(B1625<>0,VLOOKUP(C1625,A01A02!$A$3:$K$13,11,FALSE),\"\")","v":""},null,0,"","","","",{"$f":"IF(I1625<>0,VLOOKUP(J1625,A01A02!$A$3:$K$13,11,FALSE),\"\")","v":""},{"$f":"IF(I1625<>0,VLOOKUP(J1625,A01A02!A:J,10,0),\"\")","v":""}]
[null,0,"","","","",{"$f":"IF(B1626<>0,VLOOKUP(C1626,A01A02!$A$3:$K$13,11,FALSE),\"\")","v":""},null,0,"","","","",{"$f":"IF(I1626<>0,VLOOKUP(J1626,A01A02!$A$3:$K$13,11,FALSE),\"\")","v":""},{"$f":"IF(I1626<>0,VLOOKUP(J1626,A01A02!A:J,10,0),\"\")","v":""}]
[null,0,"","","","",{"$f":"IF(B1627<>0,VLOOKUP(C1627,A01A02!$A$3:$K$13,11,FALSE),\"\")","v":""},null,0,"","","","",{"$f":"IF(I1627<>0,VLOOKUP(J1627,A01A02!$A$3:$K$13,11,FALSE),\"\")","v":""},{"$f":"IF(I1627<>0,VLOOKUP(J1627,A01A02!A:J,10,0),\"\")","v":""}]
[null,0,"","","","",{"$f":"IF(B1628<>0,VLOOKUP(C1628,A01A02!$A$3:$K$13,11,FALSE),\"\")","v":""},null,0,"","","","",{"$f":"IF(I1628<>0,VLOOKUP(J1628,A01A02!$A$3:$K$13,11,FALSE),\"\")","v":""},{"$f":"IF(I1628<>0,VLOOKUP(J1628,A01A02!A:J,10,0),\"\")","v":""}]
[null,0,"","","","",{"$f":"IF(B1629<>0,VLOOKUP(C1629,A01A02!$A$3:$K$13,11,FALSE),\"\")","v":""},null,0,"","","","",{"$f":"IF(I1629<>0,VLOOKUP(J1629,A01A02!$A$3:$K$13,11,FALSE),\"\")","v":""},{"$f":"IF(I1629<>0,VLOOKUP(J1629,A01A02!A:J,10,0),\"\")","v":""}]
[null,0,"","","","",{"$f":"IF(B1630<>0,VLOOKUP(C1630,A01A02!$A$3:$K$13,11,FALSE),\"\")","v":""},null,0,"","","","",{"$f":"IF(I1630<>0,VLOOKUP(J1630,A01A02!$A$3:$K$13,11,FALSE),\"\")","v":""},{"$f":"IF(I1630<>0,VLOOKUP(J1630,A01A02!A:J,10,0),\"\")","v":""}]
[null,0,"","","","",{"$f":"IF(B1631<>0,VLOOKUP(C1631,A01A02!$A$3:$K$13,11,FALSE),\"\")","v":""},null,0,"","","","",{"$f":"IF(I1631<>0,VLOOKUP(J1631,A01A02!$A$3:$K$13,11,FALSE),\"\")","v":""},{"$f":"IF(I1631<>0,VLOOKUP(J1631,A01A02!A:J,10,0),\"\")","v":""}]
[null,0,"","","","",{"$f":"IF(B1632<>0,VLOOKUP(C1632,A01A02!$A$3:$K$13,11,FALSE),\"\")","v":""},null,0,"","","","",{"$f":"IF(I1632<>0,VLOOKUP(J1632,A01A02!$A$3:$K$13,11,FALSE),\"\")","v":""},{"$f":"IF(I1632<>0,VLOOKUP(J1632,A01A02!A:J,10,0),\"\")","v":""}]
[null,0,"","","","",{"$f":"IF(B1633<>0,VLOOKUP(C1633,A01A02!$A$3:$K$13,11,FALSE),\"\")","v":""},null,0,"","","","",{"$f":"IF(I1633<>0,VLOOKUP(J1633,A01A02!$A$3:$K$13,11,FALSE),\"\")","v":""},{"$f":"IF(I1633<>0,VLOOKUP(J1633,A01A02!A:J,10,0),\"\")","v":""}]
[null,0,"","","","",{"$f":"IF(B1634<>0,VLOOKUP(C1634,A01A02!$A$3:$K$13,11,FALSE),\"\")","v":""},null,0,"","","","",{"$f":"IF(I1634<>0,VLOOKUP(J1634,A01A02!$A$3:$K$13,11,FALSE),\"\")","v":""},{"$f":"IF(I1634<>0,VLOOKUP(J1634,A01A02!A:J,10,0),\"\")","v":""}]
[null,0,"","","","",{"$f":"IF(B1635<>0,VLOOKUP(C1635,A01A02!$A$3:$K$13,11,FALSE),\"\")","v":""},null,0,"","","","",{"$f":"IF(I1635<>0,VLOOKUP(J1635,A01A02!$A$3:$K$13,11,FALSE),\"\")","v":""},{"$f":"IF(I1635<>0,VLOOKUP(J1635,A01A02!A:J,10,0),\"\")","v":""}]
[null,0,"","","","",{"$f":"IF(B1636<>0,VLOOKUP(C1636,A01A02!$A$3:$K$13,11,FALSE),\"\")","v":""},null,0,"","","","",{"$f":"IF(I1636<>0,VLOOKUP(J1636,A01A02!$A$3:$K$13,11,FALSE),\"\")","v":""},{"$f":"IF(I1636<>0,VLOOKUP(J1636,A01A02!A:J,10,0),\"\")","v":""}]
[null,0,"","","","",{"$f":"IF(B1637<>0,VLOOKUP(C1637,A01A02!$A$3:$K$13,11,FALSE),\"\")","v":""},null,0,"","","","",{"$f":"IF(I1637<>0,VLOOKUP(J1637,A01A02!$A$3:$K$13,11,FALSE),\"\")","v":""},{"$f":"IF(I1637<>0,VLOOKUP(J1637,A01A02!A:J,10,0),\"\")","v":""}]
[null,0,"","","","",{"$f":"IF(B1638<>0,VLOOKUP(C1638,A01A02!$A$3:$K$13,11,FALSE),\"\")","v":""},null,0,"","","","",{"$f":"IF(I1638<>0,VLOOKUP(J1638,A01A02!$A$3:$K$13,11,FALSE),\"\")","v":""},{"$f":"IF(I1638<>0,VLOOKUP(J1638,A01A02!A:J,10,0),\"\")","v":""}]
[null,0,"","","","",{"$f":"IF(B1639<>0,VLOOKUP(C1639,A01A02!$A$3:$K$13,11,FALSE),\"\")","v":""},null,0,"","","","",{"$f":"IF(I1639<>0,VLOOKUP(J1639,A01A02!$A$3:$K$13,11,FALSE),\"\")","v":""},{"$f":"IF(I1639<>0,VLOOKUP(J1639,A01A02!A:J,10,0),\"\")","v":""}]
[null,0,"","","","",{"$f":"IF(B1640<>0,VLOOKUP(C1640,A01A02!$A$3:$K$13,11,FALSE),\"\")","v":""},null,0,"","","","",{"$f":"IF(I1640<>0,VLOOKUP(J1640,A01A02!$A$3:$K$13,11,FALSE),\"\")","v":""},{"$f":"IF(I1640<>0,VLOOKUP(J1640,A01A02!A:J,10,0),\"\")","v":""}]
[null,0,"","","","",{"$f":"IF(B1641<>0,VLOOKUP(C1641,A01A02!$A$3:$K$13,11,FALSE),\"\")","v":""},null,0,"","","","",{"$f":"IF(I1641<>0,VLOOKUP(J1641,A01A02!$A$3:$K$13,11,FALSE),\"\")","v":""},{"$f":"IF(I1641<>0,VLOOKUP(J1641,A01A02!A:J,10,0),\"\")","v":""}]
[null,0,"","","","",{"$f":"IF(B1642<>0,VLOOKUP(C1642,A01A02!$A$3:$K$13,11,FALSE),\"\")","v":""},null,0,"","","","",{"$f":"IF(I1642<>0,VLOOKUP(J1642,A01A02!$A$3:$K$13,11,FALSE),\"\")","v":""},{"$f":"IF(I1642<>0,VLOOKUP(J1642,A01A02!A:J,10,0),\"\")","v":""}]
[null,0,{"$f":"IF(B1643<>0,znoget(B1643),\"\")","v":""},{"$f":"IF(B1643<>0,znaget(B1643),\"\")","v":""},{"$f":"IF(B1643<>0,xget(B1643),\"\")","v":""},{"$f":"IF(B1643<>0,yget(B1643),\"\")","v":""},{"$f":"IF(B1643<>0,VLOOKUP(C1643,A01A02!$A$3:$K$13,11,FALSE),\"\")","v":""},null,{"$f":"IF(H1643<>\"\",xycall(H1643),0)","v":0},{"$f":"IF(I1643<>0,znoget(I1643),\"\")","v":""},{"$f":"IF(I1643<>0,znaget(I1643),\"\")","v":""},{"$f":"IF(I1643<>0,xget(I1643),\"\")","v":""},{"$f":"IF(I1643<>0,yget(I1643),\"\")","v":""},{"$f":"IF(I1643<>0,VLOOKUP(J1643,A01A02!$A$3:$K$13,11,FALSE),\"\")","v":""},{"$f":"IF(I1643<>0,VLOOKUP(J1643,A01A02!A:J,10,0),\"\")","v":""}]
[null,0,"","","","",{"$f":"IF(B1644<>0,VLOOKUP(C1644,A01A02!$A$3:$K$13,11,FALSE),\"\")","v":""},null,0,"","","","",{"$f":"IF(I1644<>0,VLOOKUP(J1644,A01A02!$A$3:$K$13,11,FALSE),\"\")","v":""},{"$f":"IF(I1644<>0,VLOOKUP(J1644,A01A02!A:J,10,0),\"\")","v":""}]
[null,0,"","","","",{"$f":"IF(B1645<>0,VLOOKUP(C1645,A01A02!$A$3:$K$13,11,FALSE),\"\")","v":""},null,0,"","","","",{"$f":"IF(I1645<>0,VLOOKUP(J1645,A01A02!$A$3:$K$13,11,FALSE),\"\")","v":""},{"$f":"IF(I1645<>0,VLOOKUP(J1645,A01A02!A:J,10,0),\"\")","v":""}]
[null,0,"","","","",{"$f":"IF(B1646<>0,VLOOKUP(C1646,A01A02!$A$3:$K$13,11,FALSE),\"\")","v":""},null,0,"","","","",{"$f":"IF(I1646<>0,VLOOKUP(J1646,A01A02!$A$3:$K$13,11,FALSE),\"\")","v":""},{"$f":"IF(I1646<>0,VLOOKUP(J1646,A01A02!A:J,10,0),\"\")","v":""}]
[null,0,"","","","",{"$f":"IF(B1647<>0,VLOOKUP(C1647,A01A02!$A$3:$K$13,11,FALSE),\"\")","v":""},null,0,"","","","",{"$f":"IF(I1647<>0,VLOOKUP(J1647,A01A02!$A$3:$K$13,11,FALSE),\"\")","v":""},{"$f":"IF(I1647<>0,VLOOKUP(J1647,A01A02!A:J,10,0),\"\")","v":""}]
[null,0,"","","","",{"$f":"IF(B1648<>0,VLOOKUP(C1648,A01A02!$A$3:$K$13,11,FALSE),\"\")","v":""},null,0,"","","","",{"$f":"IF(I1648<>0,VLOOKUP(J1648,A01A02!$A$3:$K$13,11,FALSE),\"\")","v":""},{"$f":"IF(I1648<>0,VLOOKUP(J1648,A01A02!A:J,10,0),\"\")","v":""}]
[null,0,"","","","",{"$f":"IF(B1649<>0,VLOOKUP(C1649,A01A02!$A$3:$K$13,11,FALSE),\"\")","v":""},null,0,"","","","",{"$f":"IF(I1649<>0,VLOOKUP(J1649,A01A02!$A$3:$K$13,11,FALSE),\"\")","v":""},{"$f":"IF(I1649<>0,VLOOKUP(J1649,A01A02!A:J,10,0),\"\")","v":""}]
[null,0,"","","","",{"$f":"IF(B1650<>0,VLOOKUP(C1650,A01A02!$A$3:$K$13,11,FALSE),\"\")","v":""},null,0,"","","","",{"$f":"IF(I1650<>0,VLOOKUP(J1650,A01A02!$A$3:$K$13,11,FALSE),\"\")","v":""},{"$f":"IF(I1650<>0,VLOOKUP(J1650,A01A02!A:J,10,0),\"\")","v":""}]
[null,0,"","","","",{"$f":"IF(B1651<>0,VLOOKUP(C1651,A01A02!$A$3:$K$13,11,FALSE),\"\")","v":""},null,0,"","","","",{"$f":"IF(I1651<>0,VLOOKUP(J1651,A01A02!$A$3:$K$13,11,FALSE),\"\")","v":""},{"$f":"IF(I1651<>0,VLOOKUP(J1651,A01A02!A:J,10,0),\"\")","v":""}]
[null,0,"","","","",{"$f":"IF(B1652<>0,VLOOKUP(C1652,A01A02!$A$3:$K$13,11,FALSE),\"\")","v":""},null,0,"","","","",{"$f":"IF(I1652<>0,VLOOKUP(J1652,A01A02!$A$3:$K$13,11,FALSE),\"\")","v":""},{"$f":"IF(I1652<>0,VLOOKUP(J1652,A01A02!A:J,10,0),\"\")","v":""}]
[null,0,"","","","",{"$f":"IF(B1653<>0,VLOOKUP(C1653,A01A02!$A$3:$K$13,11,FALSE),\"\")","v":""},null,0,"","","","",{"$f":"IF(I1653<>0,VLOOKUP(J1653,A01A02!$A$3:$K$13,11,FALSE),\"\")","v":""},{"$f":"IF(I1653<>0,VLOOKUP(J1653,A01A02!A:J,10,0),\"\")","v":""}]
[null,0,"","","","",{"$f":"IF(B1654<>0,VLOOKUP(C1654,A01A02!$A$3:$K$13,11,FALSE),\"\")","v":""},null,0,"","","","",{"$f":"IF(I1654<>0,VLOOKUP(J1654,A01A02!$A$3:$K$13,11,FALSE),\"\")","v":""},{"$f":"IF(I1654<>0,VLOOKUP(J1654,A01A02!A:J,10,0),\"\")","v":""}]
[null,0,"","","","",{"$f":"IF(B1655<>0,VLOOKUP(C1655,A01A02!$A$3:$K$13,11,FALSE),\"\")","v":""},null,0,"","","","",{"$f":"IF(I1655<>0,VLOOKUP(J1655,A01A02!$A$3:$K$13,11,FALSE),\"\")","v":""},{"$f":"IF(I1655<>0,VLOOKUP(J1655,A01A02!A:J,10,0),\"\")","v":""}]
[null,0,"","","","",{"$f":"IF(B1656<>0,VLOOKUP(C1656,A01A02!$A$3:$K$13,11,FALSE),\"\")","v":""},null,0,"","","","",{"$f":"IF(I1656<>0,VLOOKUP(J1656,A01A02!$A$3:$K$13,11,FALSE),\"\")","v":""},{"$f":"IF(I1656<>0,VLOOKUP(J1656,A01A02!A:J,10,0),\"\")","v":""}]
[null,0,"","","","",{"$f":"IF(B1657<>0,VLOOKUP(C1657,A01A02!$A$3:$K$13,11,FALSE),\"\")","v":""},null,0,"","","","",{"$f":"IF(I1657<>0,VLOOKUP(J1657,A01A02!$A$3:$K$13,11,FALSE),\"\")","v":""},{"$f":"IF(I1657<>0,VLOOKUP(J1657,A01A02!A:J,10,0),\"\")","v":""}]
[null,0,"","","","",{"$f":"IF(B1658<>0,VLOOKUP(C1658,A01A02!$A$3:$K$13,11,FALSE),\"\")","v":""},null,0,"","","","",{"$f":"IF(I1658<>0,VLOOKUP(J1658,A01A02!$A$3:$K$13,11,FALSE),\"\")","v":""},{"$f":"IF(I1658<>0,VLOOKUP(J1658,A01A02!A:J,10,0),\"\")","v":""}]
[null,0,"","","","",{"$f":"IF(B1659<>0,VLOOKUP(C1659,A01A02!$A$3:$K$13,11,FALSE),\"\")","v":""},null,0,"","","","",{"$f":"IF(I1659<>0,VLOOKUP(J1659,A01A02!$A$3:$K$13,11,FALSE),\"\")","v":""},{"$f":"IF(I1659<>0,VLOOKUP(J1659,A01A02!A:J,10,0),\"\")","v":""}]
[null,0,"","","","",{"$f":"IF(B1660<>0,VLOOKUP(C1660,A01A02!$A$3:$K$13,11,FALSE),\"\")","v":""},null,0,"","","","",{"$f":"IF(I1660<>0,VLOOKUP(J1660,A01A02!$A$3:$K$13,11,FALSE),\"\")","v":""},{"$f":"IF(I1660<>0,VLOOKUP(J1660,A01A02!A:J,10,0),\"\")","v":""}]
[null,0,"","","","",{"$f":"IF(B1661<>0,VLOOKUP(C1661,A01A02!$A$3:$K$13,11,FALSE),\"\")","v":""},null,0,"","","","",{"$f":"IF(I1661<>0,VLOOKUP(J1661,A01A02!$A$3:$K$13,11,FALSE),\"\")","v":""},{"$f":"IF(I1661<>0,VLOOKUP(J1661,A01A02!A:J,10,0),\"\")","v":""}]
[null,0,"","","","",{"$f":"IF(B1662<>0,VLOOKUP(C1662,A01A02!$A$3:$K$13,11,FALSE),\"\")","v":""},null,0,"","","","",{"$f":"IF(I1662<>0,VLOOKUP(J1662,A01A02!$A$3:$K$13,11,FALSE),\"\")","v":""},{"$f":"IF(I1662<>0,VLOOKUP(J1662,A01A02!A:J,10,0),\"\")","v":""}]
[null,0,"","","","",{"$f":"IF(B1663<>0,VLOOKUP(C1663,A01A02!$A$3:$K$13,11,FALSE),\"\")","v":""},null,0,"","","","",{"$f":"IF(I1663<>0,VLOOKUP(J1663,A01A02!$A$3:$K$13,11,FALSE),\"\")","v":""},{"$f":"IF(I1663<>0,VLOOKUP(J1663,A01A02!A:J,10,0),\"\")","v":""}]
[null,0,"","","","",{"$f":"IF(B1664<>0,VLOOKUP(C1664,A01A02!$A$3:$K$13,11,FALSE),\"\")","v":""},null,0,"","","","",{"$f":"IF(I1664<>0,VLOOKUP(J1664,A01A02!$A$3:$K$13,11,FALSE),\"\")","v":""},{"$f":"IF(I1664<>0,VLOOKUP(J1664,A01A02!A:J,10,0),\"\")","v":""}]
[null,0,"","","","",{"$f":"IF(B1665<>0,VLOOKUP(C1665,A01A02!$A$3:$K$13,11,FALSE),\"\")","v":""},null,0,"","","","",{"$f":"IF(I1665<>0,VLOOKUP(J1665,A01A02!$A$3:$K$13,11,FALSE),\"\")","v":""},{"$f":"IF(I1665<>0,VLOOKUP(J1665,A01A02!A:J,10,0),\"\")","v":""}]
[null,0,"","","","",{"$f":"IF(B1666<>0,VLOOKUP(C1666,A01A02!$A$3:$K$13,11,FALSE),\"\")","v":""},null,0,"","","","",{"$f":"IF(I1666<>0,VLOOKUP(J1666,A01A02!$A$3:$K$13,11,FALSE),\"\")","v":""},{"$f":"IF(I1666<>0,VLOOKUP(J1666,A01A02!A:J,10,0),\"\")","v":""}]
[null,{"$f":"IF(A1667<>\"\",xycall(A1667),0)","v":0},"","","","",{"$f":"IF(B1667<>0,VLOOKUP(C1667,A01A02!$A$3:$K$13,11,FALSE),\"\")","v":""},null,0,"","","","",{"$f":"IF(I1667<>0,VLOOKUP(J1667,A01A02!$A$3:$K$13,11,FALSE),\"\")","v":""},{"$f":"IF(I1667<>0,VLOOKUP(J1667,A01A02!A:J,10,0),\"\")","v":""}]
[null,0,"","","","",{"$f":"IF(B1668<>0,VLOOKUP(C1668,A01A02!$A$3:$K$13,11,FALSE),\"\")","v":""},null,0,"","","","",{"$f":"IF(I1668<>0,VLOOKUP(J1668,A01A02!$A$3:$K$13,11,FALSE),\"\")","v":""},{"$f":"IF(I1668<>0,VLOOKUP(J1668,A01A02!A:J,10,0),\"\")","v":""}]
[null,0,"","","","",{"$f":"IF(B1669<>0,VLOOKUP(C1669,A01A02!$A$3:$K$13,11,FALSE),\"\")","v":""},null,0,"","","","",{"$f":"IF(I1669<>0,VLOOKUP(J1669,A01A02!$A$3:$K$13,11,FALSE),\"\")","v":""},{"$f":"IF(I1669<>0,VLOOKUP(J1669,A01A02!A:J,10,0),\"\")","v":""}]
[null,0,"","","","",{"$f":"IF(B1670<>0,VLOOKUP(C1670,A01A02!$A$3:$K$13,11,FALSE),\"\")","v":""},null,0,"","","","",{"$f":"IF(I1670<>0,VLOOKUP(J1670,A01A02!$A$3:$K$13,11,FALSE),\"\")","v":""},{"$f":"IF(I1670<>0,VLOOKUP(J1670,A01A02!A:J,10,0),\"\")","v":""}]
[null,0,"","","","",{"$f":"IF(B1671<>0,VLOOKUP(C1671,A01A02!$A$3:$K$13,11,FALSE),\"\")","v":""},null,0,"","","","",{"$f":"IF(I1671<>0,VLOOKUP(J1671,A01A02!$A$3:$K$13,11,FALSE),\"\")","v":""},{"$f":"IF(I1671<>0,VLOOKUP(J1671,A01A02!A:J,10,0),\"\")","v":""}]
[null,0,"","","","",{"$f":"IF(B1672<>0,VLOOKUP(C1672,A01A02!$A$3:$K$13,11,FALSE),\"\")","v":""},null,0,"","","","",{"$f":"IF(I1672<>0,VLOOKUP(J1672,A01A02!$A$3:$K$13,11,FALSE),\"\")","v":""},{"$f":"IF(I1672<>0,VLOOKUP(J1672,A01A02!A:J,10,0),\"\")","v":""}]
[null,0,"","","","",{"$f":"IF(B1673<>0,VLOOKUP(C1673,A01A02!$A$3:$K$13,11,FALSE),\"\")","v":""},null,0,"","","","",{"$f":"IF(I1673<>0,VLOOKUP(J1673,A01A02!$A$3:$K$13,11,FALSE),\"\")","v":""},{"$f":"IF(I1673<>0,VLOOKUP(J1673,A01A02!A:J,10,0),\"\")","v":""}]
[null,0,"","","","",{"$f":"IF(B1674<>0,VLOOKUP(C1674,A01A02!$A$3:$K$13,11,FALSE),\"\")","v":""},null,0,"","","","",{"$f":"IF(I1674<>0,VLOOKUP(J1674,A01A02!$A$3:$K$13,11,FALSE),\"\")","v":""},{"$f":"IF(I1674<>0,VLOOKUP(J1674,A01A02!A:J,10,0),\"\")","v":""}]
[null,0,"","","","",{"$f":"IF(B1675<>0,VLOOKUP(C1675,A01A02!$A$3:$K$13,11,FALSE),\"\")","v":""},null,0,"","","","",{"$f":"IF(I1675<>0,VLOOKUP(J1675,A01A02!$A$3:$K$13,11,FALSE),\"\")","v":""},{"$f":"IF(I1675<>0,VLOOKUP(J1675,A01A02!A:J,10,0),\"\")","v":""}]
[null,0,"","","","",{"$f":"IF(B1676<>0,VLOOKUP(C1676,A01A02!$A$3:$K$13,11,FALSE),\"\")","v":""},null,0,"","","","",{"$f":"IF(I1676<>0,VLOOKUP(J1676,A01A02!$A$3:$K$13,11,FALSE),\"\")","v":""},{"$f":"IF(I1676<>0,VLOOKUP(J1676,A01A02!A:J,10,0),\"\")","v":""}]
[null,0,"","","","",{"$f":"IF(B1677<>0,VLOOKUP(C1677,A01A02!$A$3:$K$13,11,FALSE),\"\")","v":""},null,0,"","","","",{"$f":"IF(I1677<>0,VLOOKUP(J1677,A01A02!$A$3:$K$13,11,FALSE),\"\")","v":""},{"$f":"IF(I1677<>0,VLOOKUP(J1677,A01A02!A:J,10,0),\"\")","v":""}]
[null,0,"","","","",{"$f":"IF(B1678<>0,VLOOKUP(C1678,A01A02!$A$3:$K$13,11,FALSE),\"\")","v":""},null,0,"","","","",{"$f":"IF(I1678<>0,VLOOKUP(J1678,A01A02!$A$3:$K$13,11,FALSE),\"\")","v":""},{"$f":"IF(I1678<>0,VLOOKUP(J1678,A01A02!A:J,10,0),\"\")","v":""}]
[null,0,"","","","",{"$f":"IF(B1679<>0,VLOOKUP(C1679,A01A02!$A$3:$K$13,11,FALSE),\"\")","v":""},null,0,"","","","",{"$f":"IF(I1679<>0,VLOOKUP(J1679,A01A02!$A$3:$K$13,11,FALSE),\"\")","v":""},{"$f":"IF(I1679<>0,VLOOKUP(J1679,A01A02!A:J,10,0),\"\")","v":""}]
[null,0,"","","","",{"$f":"IF(B1680<>0,VLOOKUP(C1680,A01A02!$A$3:$K$13,11,FALSE),\"\")","v":""},null,0,"","","","",{"$f":"IF(I1680<>0,VLOOKUP(J1680,A01A02!$A$3:$K$13,11,FALSE),\"\")","v":""},{"$f":"IF(I1680<>0,VLOOKUP(J1680,A01A02!A:J,10,0),\"\")","v":""}]
[null,0,"","","","",{"$f":"IF(B1681<>0,VLOOKUP(C1681,A01A02!$A$3:$K$13,11,FALSE),\"\")","v":""},null,0,"","","","",{"$f":"IF(I1681<>0,VLOOKUP(J1681,A01A02!$A$3:$K$13,11,FALSE),\"\")","v":""},{"$f":"IF(I1681<>0,VLOOKUP(J1681,A01A02!A:J,10,0),\"\")","v":""}]
[null,0,"","","","",{"$f":"IF(B1682<>0,VLOOKUP(C1682,A01A02!$A$3:$K$13,11,FALSE),\"\")","v":""},null,0,"","","","",{"$f":"IF(I1682<>0,VLOOKUP(J1682,A01A02!$A$3:$K$13,11,FALSE),\"\")","v":""},{"$f":"IF(I1682<>0,VLOOKUP(J1682,A01A02!A:J,10,0),\"\")","v":""}]
[null,0,"","","","",{"$f":"IF(B1683<>0,VLOOKUP(C1683,A01A02!$A$3:$K$13,11,FALSE),\"\")","v":""},null,0,"","","","",{"$f":"IF(I1683<>0,VLOOKUP(J1683,A01A02!$A$3:$K$13,11,FALSE),\"\")","v":""},{"$f":"IF(I1683<>0,VLOOKUP(J1683,A01A02!A:J,10,0),\"\")","v":""}]
[null,0,"","","","",{"$f":"IF(B1684<>0,VLOOKUP(C1684,A01A02!$A$3:$K$13,11,FALSE),\"\")","v":""},null,0,"","","","",{"$f":"IF(I1684<>0,VLOOKUP(J1684,A01A02!$A$3:$K$13,11,FALSE),\"\")","v":""},{"$f":"IF(I1684<>0,VLOOKUP(J1684,A01A02!A:J,10,0),\"\")","v":""}]
[null,0,"","","","",{"$f":"IF(B1685<>0,VLOOKUP(C1685,A01A02!$A$3:$K$13,11,FALSE),\"\")","v":""},null,0,"","","","",{"$f":"IF(I1685<>0,VLOOKUP(J1685,A01A02!$A$3:$K$13,11,FALSE),\"\")","v":""},{"$f":"IF(I1685<>0,VLOOKUP(J1685,A01A02!A:J,10,0),\"\")","v":""}]
[null,0,"","","","",{"$f":"IF(B1686<>0,VLOOKUP(C1686,A01A02!$A$3:$K$13,11,FALSE),\"\")","v":""},null,0,"","","","",{"$f":"IF(I1686<>0,VLOOKUP(J1686,A01A02!$A$3:$K$13,11,FALSE),\"\")","v":""},{"$f":"IF(I1686<>0,VLOOKUP(J1686,A01A02!A:J,10,0),\"\")","v":""}]
[null,0,"","","","",{"$f":"IF(B1687<>0,VLOOKUP(C1687,A01A02!$A$3:$K$13,11,FALSE),\"\")","v":""},null,0,"","","","",{"$f":"IF(I1687<>0,VLOOKUP(J1687,A01A02!$A$3:$K$13,11,FALSE),\"\")","v":""},{"$f":"IF(I1687<>0,VLOOKUP(J1687,A01A02!A:J,10,0),\"\")","v":""}]
[null,0,"","","","",{"$f":"IF(B1688<>0,VLOOKUP(C1688,A01A02!$A$3:$K$13,11,FALSE),\"\")","v":""},null,0,"","","","",{"$f":"IF(I1688<>0,VLOOKUP(J1688,A01A02!$A$3:$K$13,11,FALSE),\"\")","v":""},{"$f":"IF(I1688<>0,VLOOKUP(J1688,A01A02!A:J,10,0),\"\")","v":""}]
[null,0,"","","","",{"$f":"IF(B1689<>0,VLOOKUP(C1689,A01A02!$A$3:$K$13,11,FALSE),\"\")","v":""},null,0,"","","","",{"$f":"IF(I1689<>0,VLOOKUP(J1689,A01A02!$A$3:$K$13,11,FALSE),\"\")","v":""},{"$f":"IF(I1689<>0,VLOOKUP(J1689,A01A02!A:J,10,0),\"\")","v":""}]
[null,0,"","","","",{"$f":"IF(B1690<>0,VLOOKUP(C1690,A01A02!$A$3:$K$13,11,FALSE),\"\")","v":""},null,0,"","","","",{"$f":"IF(I1690<>0,VLOOKUP(J1690,A01A02!$A$3:$K$13,11,FALSE),\"\")","v":""},{"$f":"IF(I1690<>0,VLOOKUP(J1690,A01A02!A:J,10,0),\"\")","v":""}]
[null,0,"","","","",{"$f":"IF(B1691<>0,VLOOKUP(C1691,A01A02!$A$3:$K$13,11,FALSE),\"\")","v":""},null,0,"","","","",{"$f":"IF(I1691<>0,VLOOKUP(J1691,A01A02!$A$3:$K$13,11,FALSE),\"\")","v":""},{"$f":"IF(I1691<>0,VLOOKUP(J1691,A01A02!A:J,10,0),\"\")","v":""}]
[null,0,"","","","",{"$f":"IF(B1692<>0,VLOOKUP(C1692,A01A02!$A$3:$K$13,11,FALSE),\"\")","v":""},null,0,"","","","",{"$f":"IF(I1692<>0,VLOOKUP(J1692,A01A02!$A$3:$K$13,11,FALSE),\"\")","v":""},{"$f":"IF(I1692<>0,VLOOKUP(J1692,A01A02!A:J,10,0),\"\")","v":""}]
[null,0,"","","","",{"$f":"IF(B1693<>0,VLOOKUP(C1693,A01A02!$A$3:$K$13,11,FALSE),\"\")","v":""},null,0,"","","","",{"$f":"IF(I1693<>0,VLOOKUP(J1693,A01A02!$A$3:$K$13,11,FALSE),\"\")","v":""},{"$f":"IF(I1693<>0,VLOOKUP(J1693,A01A02!A:J,10,0),\"\")","v":""}]
[null,0,"","","","",{"$f":"IF(B1694<>0,VLOOKUP(C1694,A01A02!$A$3:$K$13,11,FALSE),\"\")","v":""},null,0,"","","","",{"$f":"IF(I1694<>0,VLOOKUP(J1694,A01A02!$A$3:$K$13,11,FALSE),\"\")","v":""},{"$f":"IF(I1694<>0,VLOOKUP(J1694,A01A02!A:J,10,0),\"\")","v":""}]
[null,0,"","","","",{"$f":"IF(B1695<>0,VLOOKUP(C1695,A01A02!$A$3:$K$13,11,FALSE),\"\")","v":""},null,0,"","","","",{"$f":"IF(I1695<>0,VLOOKUP(J1695,A01A02!$A$3:$K$13,11,FALSE),\"\")","v":""},{"$f":"IF(I1695<>0,VLOOKUP(J1695,A01A02!A:J,10,0),\"\")","v":""}]
[null,0,"","","","",{"$f":"IF(B1696<>0,VLOOKUP(C1696,A01A02!$A$3:$K$13,11,FALSE),\"\")","v":""},null,0,"","","","",{"$f":"IF(I1696<>0,VLOOKUP(J1696,A01A02!$A$3:$K$13,11,FALSE),\"\")","v":""},{"$f":"IF(I1696<>0,VLOOKUP(J1696,A01A02!A:J,10,0),\"\")","v":""}]
[null,0,"","","","",{"$f":"IF(B1697<>0,VLOOKUP(C1697,A01A02!$A$3:$K$13,11,FALSE),\"\")","v":""},null,0,"","","","",{"$f":"IF(I1697<>0,VLOOKUP(J1697,A01A02!$A$3:$K$13,11,FALSE),\"\")","v":""},{"$f":"IF(I1697<>0,VLOOKUP(J1697,A01A02!A:J,10,0),\"\")","v":""}]
[null,0,"","","","",{"$f":"IF(B1698<>0,VLOOKUP(C1698,A01A02!$A$3:$K$13,11,FALSE),\"\")","v":""},null,0,"","","","",{"$f":"IF(I1698<>0,VLOOKUP(J1698,A01A02!$A$3:$K$13,11,FALSE),\"\")","v":""},{"$f":"IF(I1698<>0,VLOOKUP(J1698,A01A02!A:J,10,0),\"\")","v":""}]
[null,0,"","","","",{"$f":"IF(B1699<>0,VLOOKUP(C1699,A01A02!$A$3:$K$13,11,FALSE),\"\")","v":""},null,0,"","","","",{"$f":"IF(I1699<>0,VLOOKUP(J1699,A01A02!$A$3:$K$13,11,FALSE),\"\")","v":""},{"$f":"IF(I1699<>0,VLOOKUP(J1699,A01A02!A:J,10,0),\"\")","v":""}]
[null,0,"","","","",{"$f":"IF(B1700<>0,VLOOKUP(C1700,A01A02!$A$3:$K$13,11,FALSE),\"\")","v":""},null,0,"","","","",{"$f":"IF(I1700<>0,VLOOKUP(J1700,A01A02!$A$3:$K$13,11,FALSE),\"\")","v":""},{"$f":"IF(I1700<>0,VLOOKUP(J1700,A01A02!A:J,10,0),\"\")","v":""}]
[null,0,"","","","",{"$f":"IF(B1701<>0,VLOOKUP(C1701,A01A02!$A$3:$K$13,11,FALSE),\"\")","v":""},null,0,"","","","",{"$f":"IF(I1701<>0,VLOOKUP(J1701,A01A02!$A$3:$K$13,11,FALSE),\"\")","v":""},{"$f":"IF(I1701<>0,VLOOKUP(J1701,A01A02!A:J,10,0),\"\")","v":""}]
[null,0,"","","","",{"$f":"IF(B1702<>0,VLOOKUP(C1702,A01A02!$A$3:$K$13,11,FALSE),\"\")","v":""},null,0,"","","","",{"$f":"IF(I1702<>0,VLOOKUP(J1702,A01A02!$A$3:$K$13,11,FALSE),\"\")","v":""},{"$f":"IF(I1702<>0,VLOOKUP(J1702,A01A02!A:J,10,0),\"\")","v":""}]
[null,0,"","","","",{"$f":"IF(B1703<>0,VLOOKUP(C1703,A01A02!$A$3:$K$13,11,FALSE),\"\")","v":""},null,0,"","","","",{"$f":"IF(I1703<>0,VLOOKUP(J1703,A01A02!$A$3:$K$13,11,FALSE),\"\")","v":""},{"$f":"IF(I1703<>0,VLOOKUP(J1703,A01A02!A:J,10,0),\"\")","v":""}]
[null,0,"","","","",{"$f":"IF(B1704<>0,VLOOKUP(C1704,A01A02!$A$3:$K$13,11,FALSE),\"\")","v":""},null,0,"","","","",{"$f":"IF(I1704<>0,VLOOKUP(J1704,A01A02!$A$3:$K$13,11,FALSE),\"\")","v":""},{"$f":"IF(I1704<>0,VLOOKUP(J1704,A01A02!A:J,10,0),\"\")","v":""}]
[null,0,"","","","",{"$f":"IF(B1705<>0,VLOOKUP(C1705,A01A02!$A$3:$K$13,11,FALSE),\"\")","v":""},null,0,"","","","",{"$f":"IF(I1705<>0,VLOOKUP(J1705,A01A02!$A$3:$K$13,11,FALSE),\"\")","v":""},{"$f":"IF(I1705<>0,VLOOKUP(J1705,A01A02!A:J,10,0),\"\")","v":""}]
[null,0,"","","","",{"$f":"IF(B1706<>0,VLOOKUP(C1706,A01A02!$A$3:$K$13,11,FALSE),\"\")","v":""},null,0,"","","","",{"$f":"IF(I1706<>0,VLOOKUP(J1706,A01A02!$A$3:$K$13,11,FALSE),\"\")","v":""},{"$f":"IF(I1706<>0,VLOOKUP(J1706,A01A02!A:J,10,0),\"\")","v":""}]
[null,0,{"$f":"IF(B1707<>0,znoget(B1707),\"\")","v":""},{"$f":"IF(B1707<>0,znaget(B1707),\"\")","v":""},{"$f":"IF(B1707<>0,xget(B1707),\"\")","v":""},{"$f":"IF(B1707<>0,yget(B1707),\"\")","v":""},{"$f":"IF(B1707<>0,VLOOKUP(C1707,A01A02!$A$3:$K$13,11,FALSE),\"\")","v":""},null,{"$f":"IF(H1707<>\"\",xycall(H1707),0)","v":0},{"$f":"IF(I1707<>0,znoget(I1707),\"\")","v":""},{"$f":"IF(I1707<>0,znaget(I1707),\"\")","v":""},{"$f":"IF(I1707<>0,xget(I1707),\"\")","v":""},{"$f":"IF(I1707<>0,yget(I1707),\"\")","v":""},{"$f":"IF(I1707<>0,VLOOKUP(J1707,A01A02!$A$3:$K$13,11,FALSE),\"\")","v":""},{"$f":"IF(I1707<>0,VLOOKUP(J1707,A01A02!A:J,10,0),\"\")","v":""}]
[null,0,"","","","",{"$f":"IF(B1708<>0,VLOOKUP(C1708,A01A02!$A$3:$K$13,11,FALSE),\"\")","v":""},null,0,"","","","",{"$f":"IF(I1708<>0,VLOOKUP(J1708,A01A02!$A$3:$K$13,11,FALSE),\"\")","v":""},{"$f":"IF(I1708<>0,VLOOKUP(J1708,A01A02!A:J,10,0),\"\")","v":""}]
[null,0,"","","","",{"$f":"IF(B1709<>0,VLOOKUP(C1709,A01A02!$A$3:$K$13,11,FALSE),\"\")","v":""},null,0,"","","","",{"$f":"IF(I1709<>0,VLOOKUP(J1709,A01A02!$A$3:$K$13,11,FALSE),\"\")","v":""},{"$f":"IF(I1709<>0,VLOOKUP(J1709,A01A02!A:J,10,0),\"\")","v":""}]
[null,0,"","","","",{"$f":"IF(B1710<>0,VLOOKUP(C1710,A01A02!$A$3:$K$13,11,FALSE),\"\")","v":""},null,0,"","","","",{"$f":"IF(I1710<>0,VLOOKUP(J1710,A01A02!$A$3:$K$13,11,FALSE),\"\")","v":""},{"$f":"IF(I1710<>0,VLOOKUP(J1710,A01A02!A:J,10,0),\"\")","v":""}]
[null,0,"","","","",{"$f":"IF(B1711<>0,VLOOKUP(C1711,A01A02!$A$3:$K$13,11,FALSE),\"\")","v":""},null,0,"","","","",{"$f":"IF(I1711<>0,VLOOKUP(J1711,A01A02!$A$3:$K$13,11,FALSE),\"\")","v":""},{"$f":"IF(I1711<>0,VLOOKUP(J1711,A01A02!A:J,10,0),\"\")","v":""}]
[null,0,"","","","",{"$f":"IF(B1712<>0,VLOOKUP(C1712,A01A02!$A$3:$K$13,11,FALSE),\"\")","v":""},null,0,"","","","",{"$f":"IF(I1712<>0,VLOOKUP(J1712,A01A02!$A$3:$K$13,11,FALSE),\"\")","v":""},{"$f":"IF(I1712<>0,VLOOKUP(J1712,A01A02!A:J,10,0),\"\")","v":""}]
[null,0,"","","","",{"$f":"IF(B1713<>0,VLOOKUP(C1713,A01A02!$A$3:$K$13,11,FALSE),\"\")","v":""},null,0,"","","","",{"$f":"IF(I1713<>0,VLOOKUP(J1713,A01A02!$A$3:$K$13,11,FALSE),\"\")","v":""},{"$f":"IF(I1713<>0,VLOOKUP(J1713,A01A02!A:J,10,0),\"\")","v":""}]
[null,0,"","","","",{"$f":"IF(B1714<>0,VLOOKUP(C1714,A01A02!$A$3:$K$13,11,FALSE),\"\")","v":""},null,0,"","","","",{"$f":"IF(I1714<>0,VLOOKUP(J1714,A01A02!$A$3:$K$13,11,FALSE),\"\")","v":""},{"$f":"IF(I1714<>0,VLOOKUP(J1714,A01A02!A:J,10,0),\"\")","v":""}]
[null,0,"","","","",{"$f":"IF(B1715<>0,VLOOKUP(C1715,A01A02!$A$3:$K$13,11,FALSE),\"\")","v":""},null,0,"","","","",{"$f":"IF(I1715<>0,VLOOKUP(J1715,A01A02!$A$3:$K$13,11,FALSE),\"\")","v":""},{"$f":"IF(I1715<>0,VLOOKUP(J1715,A01A02!A:J,10,0),\"\")","v":""}]
[null,0,"","","","",{"$f":"IF(B1716<>0,VLOOKUP(C1716,A01A02!$A$3:$K$13,11,FALSE),\"\")","v":""},null,0,"","","","",{"$f":"IF(I1716<>0,VLOOKUP(J1716,A01A02!$A$3:$K$13,11,FALSE),\"\")","v":""},{"$f":"IF(I1716<>0,VLOOKUP(J1716,A01A02!A:J,10,0),\"\")","v":""}]
[null,0,"","","","",{"$f":"IF(B1717<>0,VLOOKUP(C1717,A01A02!$A$3:$K$13,11,FALSE),\"\")","v":""},null,0,"","","","",{"$f":"IF(I1717<>0,VLOOKUP(J1717,A01A02!$A$3:$K$13,11,FALSE),\"\")","v":""},{"$f":"IF(I1717<>0,VLOOKUP(J1717,A01A02!A:J,10,0),\"\")","v":""}]
[null,0,"","","","",{"$f":"IF(B1718<>0,VLOOKUP(C1718,A01A02!$A$3:$K$13,11,FALSE),\"\")","v":""},null,0,"","","","",{"$f":"IF(I1718<>0,VLOOKUP(J1718,A01A02!$A$3:$K$13,11,FALSE),\"\")","v":""},{"$f":"IF(I1718<>0,VLOOKUP(J1718,A01A02!A:J,10,0),\"\")","v":""}]
[null,0,"","","","",{"$f":"IF(B1719<>0,VLOOKUP(C1719,A01A02!$A$3:$K$13,11,FALSE),\"\")","v":""},null,0,"","","","",{"$f":"IF(I1719<>0,VLOOKUP(J1719,A01A02!$A$3:$K$13,11,FALSE),\"\")","v":""},{"$f":"IF(I1719<>0,VLOOKUP(J1719,A01A02!A:J,10,0),\"\")","v":""}]
[null,0,"","","","",{"$f":"IF(B1720<>0,VLOOKUP(C1720,A01A02!$A$3:$K$13,11,FALSE),\"\")","v":""},null,0,"","","","",{"$f":"IF(I1720<>0,VLOOKUP(J1720,A01A02!$A$3:$K$13,11,FALSE),\"\")","v":""},{"$f":"IF(I1720<>0,VLOOKUP(J1720,A01A02!A:J,10,0),\"\")","v":""}]
[null,0,"","","","",{"$f":"IF(B1721<>0,VLOOKUP(C1721,A01A02!$A$3:$K$13,11,FALSE),\"\")","v":""},null,0,"","","","",{"$f":"IF(I1721<>0,VLOOKUP(J1721,A01A02!$A$3:$K$13,11,FALSE),\"\")","v":""},{"$f":"IF(I1721<>0,VLOOKUP(J1721,A01A02!A:J,10,0),\"\")","v":""}]
[null,0,"","","","",{"$f":"IF(B1722<>0,VLOOKUP(C1722,A01A02!$A$3:$K$13,11,FALSE),\"\")","v":""},null,0,"","","","",{"$f":"IF(I1722<>0,VLOOKUP(J1722,A01A02!$A$3:$K$13,11,FALSE),\"\")","v":""},{"$f":"IF(I1722<>0,VLOOKUP(J1722,A01A02!A:J,10,0),\"\")","v":""}]
[null,0,"","","","",{"$f":"IF(B1723<>0,VLOOKUP(C1723,A01A02!$A$3:$K$13,11,FALSE),\"\")","v":""},null,0,"","","","",{"$f":"IF(I1723<>0,VLOOKUP(J1723,A01A02!$A$3:$K$13,11,FALSE),\"\")","v":""},{"$f":"IF(I1723<>0,VLOOKUP(J1723,A01A02!A:J,10,0),\"\")","v":""}]
[null,0,"","","","",{"$f":"IF(B1724<>0,VLOOKUP(C1724,A01A02!$A$3:$K$13,11,FALSE),\"\")","v":""},null,0,"","","","",{"$f":"IF(I1724<>0,VLOOKUP(J1724,A01A02!$A$3:$K$13,11,FALSE),\"\")","v":""},{"$f":"IF(I1724<>0,VLOOKUP(J1724,A01A02!A:J,10,0),\"\")","v":""}]
[null,0,"","","","",{"$f":"IF(B1725<>0,VLOOKUP(C1725,A01A02!$A$3:$K$13,11,FALSE),\"\")","v":""},null,0,"","","","",{"$f":"IF(I1725<>0,VLOOKUP(J1725,A01A02!$A$3:$K$13,11,FALSE),\"\")","v":""},{"$f":"IF(I1725<>0,VLOOKUP(J1725,A01A02!A:J,10,0),\"\")","v":""}]
[null,0,"","","","",{"$f":"IF(B1726<>0,VLOOKUP(C1726,A01A02!$A$3:$K$13,11,FALSE),\"\")","v":""},null,0,"","","","",{"$f":"IF(I1726<>0,VLOOKUP(J1726,A01A02!$A$3:$K$13,11,FALSE),\"\")","v":""},{"$f":"IF(I1726<>0,VLOOKUP(J1726,A01A02!A:J,10,0),\"\")","v":""}]
[null,0,"","","","",{"$f":"IF(B1727<>0,VLOOKUP(C1727,A01A02!$A$3:$K$13,11,FALSE),\"\")","v":""},null,0,"","","","",{"$f":"IF(I1727<>0,VLOOKUP(J1727,A01A02!$A$3:$K$13,11,FALSE),\"\")","v":""},{"$f":"IF(I1727<>0,VLOOKUP(J1727,A01A02!A:J,10,0),\"\")","v":""}]
[null,0,"","","","",{"$f":"IF(B1728<>0,VLOOKUP(C1728,A01A02!$A$3:$K$13,11,FALSE),\"\")","v":""},null,0,"","","","",{"$f":"IF(I1728<>0,VLOOKUP(J1728,A01A02!$A$3:$K$13,11,FALSE),\"\")","v":""},{"$f":"IF(I1728<>0,VLOOKUP(J1728,A01A02!A:J,10,0),\"\")","v":""}]
[null,0,"","","","",{"$f":"IF(B1729<>0,VLOOKUP(C1729,A01A02!$A$3:$K$13,11,FALSE),\"\")","v":""},null,0,"","","","",{"$f":"IF(I1729<>0,VLOOKUP(J1729,A01A02!$A$3:$K$13,11,FALSE),\"\")","v":""},{"$f":"IF(I1729<>0,VLOOKUP(J1729,A01A02!A:J,10,0),\"\")","v":""}]
[null,0,"","","","",{"$f":"IF(B1730<>0,VLOOKUP(C1730,A01A02!$A$3:$K$13,11,FALSE),\"\")","v":""},null,0,"","","","",{"$f":"IF(I1730<>0,VLOOKUP(J1730,A01A02!$A$3:$K$13,11,FALSE),\"\")","v":""},{"$f":"IF(I1730<>0,VLOOKUP(J1730,A01A02!A:J,10,0),\"\")","v":""}]
[null,{"$f":"IF(A1731<>\"\",xycall(A1731),0)","v":0},"","","","",{"$f":"IF(B1731<>0,VLOOKUP(C1731,A01A02!$A$3:$K$13,11,FALSE),\"\")","v":""},null,0,"","","","",{"$f":"IF(I1731<>0,VLOOKUP(J1731,A01A02!$A$3:$K$13,11,FALSE),\"\")","v":""},{"$f":"IF(I1731<>0,VLOOKUP(J1731,A01A02!A:J,10,0),\"\")","v":""}]
[null,0,"","","","",{"$f":"IF(B1732<>0,VLOOKUP(C1732,A01A02!$A$3:$K$13,11,FALSE),\"\")","v":""},null,0,"","","","",{"$f":"IF(I1732<>0,VLOOKUP(J1732,A01A02!$A$3:$K$13,11,FALSE),\"\")","v":""},{"$f":"IF(I1732<>0,VLOOKUP(J1732,A01A02!A:J,10,0),\"\")","v":""}]
[null,0,"","","","",{"$f":"IF(B1733<>0,VLOOKUP(C1733,A01A02!$A$3:$K$13,11,FALSE),\"\")","v":""},null,0,"","","","",{"$f":"IF(I1733<>0,VLOOKUP(J1733,A01A02!$A$3:$K$13,11,FALSE),\"\")","v":""},{"$f":"IF(I1733<>0,VLOOKUP(J1733,A01A02!A:J,10,0),\"\")","v":""}]
[null,0,"","","","",{"$f":"IF(B1734<>0,VLOOKUP(C1734,A01A02!$A$3:$K$13,11,FALSE),\"\")","v":""},null,0,"","","","",{"$f":"IF(I1734<>0,VLOOKUP(J1734,A01A02!$A$3:$K$13,11,FALSE),\"\")","v":""},{"$f":"IF(I1734<>0,VLOOKUP(J1734,A01A02!A:J,10,0),\"\")","v":""}]
[null,0,"","","","",{"$f":"IF(B1735<>0,VLOOKUP(C1735,A01A02!$A$3:$K$13,11,FALSE),\"\")","v":""},null,0,"","","","",{"$f":"IF(I1735<>0,VLOOKUP(J1735,A01A02!$A$3:$K$13,11,FALSE),\"\")","v":""},{"$f":"IF(I1735<>0,VLOOKUP(J1735,A01A02!A:J,10,0),\"\")","v":""}]
[null,0,"","","","",{"$f":"IF(B1736<>0,VLOOKUP(C1736,A01A02!$A$3:$K$13,11,FALSE),\"\")","v":""},null,0,"","","","",{"$f":"IF(I1736<>0,VLOOKUP(J1736,A01A02!$A$3:$K$13,11,FALSE),\"\")","v":""},{"$f":"IF(I1736<>0,VLOOKUP(J1736,A01A02!A:J,10,0),\"\")","v":""}]
[null,0,"","","","",{"$f":"IF(B1737<>0,VLOOKUP(C1737,A01A02!$A$3:$K$13,11,FALSE),\"\")","v":""},null,0,"","","","",{"$f":"IF(I1737<>0,VLOOKUP(J1737,A01A02!$A$3:$K$13,11,FALSE),\"\")","v":""},{"$f":"IF(I1737<>0,VLOOKUP(J1737,A01A02!A:J,10,0),\"\")","v":""}]
[null,0,"","","","",{"$f":"IF(B1738<>0,VLOOKUP(C1738,A01A02!$A$3:$K$13,11,FALSE),\"\")","v":""},null,0,"","","","",{"$f":"IF(I1738<>0,VLOOKUP(J1738,A01A02!$A$3:$K$13,11,FALSE),\"\")","v":""},{"$f":"IF(I1738<>0,VLOOKUP(J1738,A01A02!A:J,10,0),\"\")","v":""}]
[null,0,"","","","",{"$f":"IF(B1739<>0,VLOOKUP(C1739,A01A02!$A$3:$K$13,11,FALSE),\"\")","v":""},null,0,"","","","",{"$f":"IF(I1739<>0,VLOOKUP(J1739,A01A02!$A$3:$K$13,11,FALSE),\"\")","v":""},{"$f":"IF(I1739<>0,VLOOKUP(J1739,A01A02!A:J,10,0),\"\")","v":""}]
[null,0,"","","","",{"$f":"IF(B1740<>0,VLOOKUP(C1740,A01A02!$A$3:$K$13,11,FALSE),\"\")","v":""},null,0,"","","","",{"$f":"IF(I1740<>0,VLOOKUP(J1740,A01A02!$A$3:$K$13,11,FALSE),\"\")","v":""},{"$f":"IF(I1740<>0,VLOOKUP(J1740,A01A02!A:J,10,0),\"\")","v":""}]
[null,0,"","","","",{"$f":"IF(B1741<>0,VLOOKUP(C1741,A01A02!$A$3:$K$13,11,FALSE),\"\")","v":""},null,0,"","","","",{"$f":"IF(I1741<>0,VLOOKUP(J1741,A01A02!$A$3:$K$13,11,FALSE),\"\")","v":""},{"$f":"IF(I1741<>0,VLOOKUP(J1741,A01A02!A:J,10,0),\"\")","v":""}]
[null,0,"","","","",{"$f":"IF(B1742<>0,VLOOKUP(C1742,A01A02!$A$3:$K$13,11,FALSE),\"\")","v":""},null,0,"","","","",{"$f":"IF(I1742<>0,VLOOKUP(J1742,A01A02!$A$3:$K$13,11,FALSE),\"\")","v":""},{"$f":"IF(I1742<>0,VLOOKUP(J1742,A01A02!A:J,10,0),\"\")","v":""}]
[null,0,"","","","",{"$f":"IF(B1743<>0,VLOOKUP(C1743,A01A02!$A$3:$K$13,11,FALSE),\"\")","v":""},null,0,"","","","",{"$f":"IF(I1743<>0,VLOOKUP(J1743,A01A02!$A$3:$K$13,11,FALSE),\"\")","v":""},{"$f":"IF(I1743<>0,VLOOKUP(J1743,A01A02!A:J,10,0),\"\")","v":""}]
[null,0,"","","","",{"$f":"IF(B1744<>0,VLOOKUP(C1744,A01A02!$A$3:$K$13,11,FALSE),\"\")","v":""},null,0,"","","","",{"$f":"IF(I1744<>0,VLOOKUP(J1744,A01A02!$A$3:$K$13,11,FALSE),\"\")","v":""},{"$f":"IF(I1744<>0,VLOOKUP(J1744,A01A02!A:J,10,0),\"\")","v":""}]
[null,0,"","","","",{"$f":"IF(B1745<>0,VLOOKUP(C1745,A01A02!$A$3:$K$13,11,FALSE),\"\")","v":""},null,0,"","","","",{"$f":"IF(I1745<>0,VLOOKUP(J1745,A01A02!$A$3:$K$13,11,FALSE),\"\")","v":""},{"$f":"IF(I1745<>0,VLOOKUP(J1745,A01A02!A:J,10,0),\"\")","v":""}]
[null,0,"","","","",{"$f":"IF(B1746<>0,VLOOKUP(C1746,A01A02!$A$3:$K$13,11,FALSE),\"\")","v":""},null,0,"","","","",{"$f":"IF(I1746<>0,VLOOKUP(J1746,A01A02!$A$3:$K$13,11,FALSE),\"\")","v":""},{"$f":"IF(I1746<>0,VLOOKUP(J1746,A01A02!A:J,10,0),\"\")","v":""}]
[null,0,"","","","",{"$f":"IF(B1747<>0,VLOOKUP(C1747,A01A02!$A$3:$K$13,11,FALSE),\"\")","v":""},null,0,"","","","",{"$f":"IF(I1747<>0,VLOOKUP(J1747,A01A02!$A$3:$K$13,11,FALSE),\"\")","v":""},{"$f":"IF(I1747<>0,VLOOKUP(J1747,A01A02!A:J,10,0),\"\")","v":""}]
[null,0,"","","","",{"$f":"IF(B1748<>0,VLOOKUP(C1748,A01A02!$A$3:$K$13,11,FALSE),\"\")","v":""},null,0,"","","","",{"$f":"IF(I1748<>0,VLOOKUP(J1748,A01A02!$A$3:$K$13,11,FALSE),\"\")","v":""},{"$f":"IF(I1748<>0,VLOOKUP(J1748,A01A02!A:J,10,0),\"\")","v":""}]
[null,0,"","","","",{"$f":"IF(B1749<>0,VLOOKUP(C1749,A01A02!$A$3:$K$13,11,FALSE),\"\")","v":""},null,0,"","","","",{"$f":"IF(I1749<>0,VLOOKUP(J1749,A01A02!$A$3:$K$13,11,FALSE),\"\")","v":""},{"$f":"IF(I1749<>0,VLOOKUP(J1749,A01A02!A:J,10,0),\"\")","v":""}]
[null,0,"","","","",{"$f":"IF(B1750<>0,VLOOKUP(C1750,A01A02!$A$3:$K$13,11,FALSE),\"\")","v":""},null,0,"","","","",{"$f":"IF(I1750<>0,VLOOKUP(J1750,A01A02!$A$3:$K$13,11,FALSE),\"\")","v":""},{"$f":"IF(I1750<>0,VLOOKUP(J1750,A01A02!A:J,10,0),\"\")","v":""}]
[null,0,"","","","",{"$f":"IF(B1751<>0,VLOOKUP(C1751,A01A02!$A$3:$K$13,11,FALSE),\"\")","v":""},null,0,"","","","",{"$f":"IF(I1751<>0,VLOOKUP(J1751,A01A02!$A$3:$K$13,11,FALSE),\"\")","v":""},{"$f":"IF(I1751<>0,VLOOKUP(J1751,A01A02!A:J,10,0),\"\")","v":""}]
[null,0,"","","","",{"$f":"IF(B1752<>0,VLOOKUP(C1752,A01A02!$A$3:$K$13,11,FALSE),\"\")","v":""},null,0,"","","","",{"$f":"IF(I1752<>0,VLOOKUP(J1752,A01A02!$A$3:$K$13,11,FALSE),\"\")","v":""},{"$f":"IF(I1752<>0,VLOOKUP(J1752,A01A02!A:J,10,0),\"\")","v":""}]
[null,0,"","","","",{"$f":"IF(B1753<>0,VLOOKUP(C1753,A01A02!$A$3:$K$13,11,FALSE),\"\")","v":""},null,0,"","","","",{"$f":"IF(I1753<>0,VLOOKUP(J1753,A01A02!$A$3:$K$13,11,FALSE),\"\")","v":""},{"$f":"IF(I1753<>0,VLOOKUP(J1753,A01A02!A:J,10,0),\"\")","v":""}]
[null,0,"","","","",{"$f":"IF(B1754<>0,VLOOKUP(C1754,A01A02!$A$3:$K$13,11,FALSE),\"\")","v":""},null,0,"","","","",{"$f":"IF(I1754<>0,VLOOKUP(J1754,A01A02!$A$3:$K$13,11,FALSE),\"\")","v":""},{"$f":"IF(I1754<>0,VLOOKUP(J1754,A01A02!A:J,10,0),\"\")","v":""}]
[null,0,"","","","",{"$f":"IF(B1755<>0,VLOOKUP(C1755,A01A02!$A$3:$K$13,11,FALSE),\"\")","v":""},null,0,"","","","",{"$f":"IF(I1755<>0,VLOOKUP(J1755,A01A02!$A$3:$K$13,11,FALSE),\"\")","v":""},{"$f":"IF(I1755<>0,VLOOKUP(J1755,A01A02!A:J,10,0),\"\")","v":""}]
[null,0,"","","","",{"$f":"IF(B1756<>0,VLOOKUP(C1756,A01A02!$A$3:$K$13,11,FALSE),\"\")","v":""},null,0,"","","","",{"$f":"IF(I1756<>0,VLOOKUP(J1756,A01A02!$A$3:$K$13,11,FALSE),\"\")","v":""},{"$f":"IF(I1756<>0,VLOOKUP(J1756,A01A02!A:J,10,0),\"\")","v":""}]
[null,0,"","","","",{"$f":"IF(B1757<>0,VLOOKUP(C1757,A01A02!$A$3:$K$13,11,FALSE),\"\")","v":""},null,0,"","","","",{"$f":"IF(I1757<>0,VLOOKUP(J1757,A01A02!$A$3:$K$13,11,FALSE),\"\")","v":""},{"$f":"IF(I1757<>0,VLOOKUP(J1757,A01A02!A:J,10,0),\"\")","v":""}]
[null,0,"","","","",{"$f":"IF(B1758<>0,VLOOKUP(C1758,A01A02!$A$3:$K$13,11,FALSE),\"\")","v":""},null,0,"","","","",{"$f":"IF(I1758<>0,VLOOKUP(J1758,A01A02!$A$3:$K$13,11,FALSE),\"\")","v":""},{"$f":"IF(I1758<>0,VLOOKUP(J1758,A01A02!A:J,10,0),\"\")","v":""}]
[null,0,"","","","",{"$f":"IF(B1759<>0,VLOOKUP(C1759,A01A02!$A$3:$K$13,11,FALSE),\"\")","v":""},null,0,"","","","",{"$f":"IF(I1759<>0,VLOOKUP(J1759,A01A02!$A$3:$K$13,11,FALSE),\"\")","v":""},{"$f":"IF(I1759<>0,VLOOKUP(J1759,A01A02!A:J,10,0),\"\")","v":""}]
[null,0,"","","","",{"$f":"IF(B1760<>0,VLOOKUP(C1760,A01A02!$A$3:$K$13,11,FALSE),\"\")","v":""},null,0,"","","","",{"$f":"IF(I1760<>0,VLOOKUP(J1760,A01A02!$A$3:$K$13,11,FALSE),\"\")","v":""},{"$f":"IF(I1760<>0,VLOOKUP(J1760,A01A02!A:J,10,0),\"\")","v":""}]
[null,0,"","","","",{"$f":"IF(B1761<>0,VLOOKUP(C1761,A01A02!$A$3:$K$13,11,FALSE),\"\")","v":""},null,0,"","","","",{"$f":"IF(I1761<>0,VLOOKUP(J1761,A01A02!$A$3:$K$13,11,FALSE),\"\")","v":""},{"$f":"IF(I1761<>0,VLOOKUP(J1761,A01A02!A:J,10,0),\"\")","v":""}]
[null,0,"","","","",{"$f":"IF(B1762<>0,VLOOKUP(C1762,A01A02!$A$3:$K$13,11,FALSE),\"\")","v":""},null,0,"","","","",{"$f":"IF(I1762<>0,VLOOKUP(J1762,A01A02!$A$3:$K$13,11,FALSE),\"\")","v":""},{"$f":"IF(I1762<>0,VLOOKUP(J1762,A01A02!A:J,10,0),\"\")","v":""}]
[null,0,"","","","",{"$f":"IF(B1763<>0,VLOOKUP(C1763,A01A02!$A$3:$K$13,11,FALSE),\"\")","v":""},null,0,"","","","",{"$f":"IF(I1763<>0,VLOOKUP(J1763,A01A02!$A$3:$K$13,11,FALSE),\"\")","v":""},{"$f":"IF(I1763<>0,VLOOKUP(J1763,A01A02!A:J,10,0),\"\")","v":""}]
[null,0,"","","","",{"$f":"IF(B1764<>0,VLOOKUP(C1764,A01A02!$A$3:$K$13,11,FALSE),\"\")","v":""},null,0,"","","","",{"$f":"IF(I1764<>0,VLOOKUP(J1764,A01A02!$A$3:$K$13,11,FALSE),\"\")","v":""},{"$f":"IF(I1764<>0,VLOOKUP(J1764,A01A02!A:J,10,0),\"\")","v":""}]
[null,0,"","","","",{"$f":"IF(B1765<>0,VLOOKUP(C1765,A01A02!$A$3:$K$13,11,FALSE),\"\")","v":""},null,0,"","","","",{"$f":"IF(I1765<>0,VLOOKUP(J1765,A01A02!$A$3:$K$13,11,FALSE),\"\")","v":""},{"$f":"IF(I1765<>0,VLOOKUP(J1765,A01A02!A:J,10,0),\"\")","v":""}]
[null,0,"","","","",{"$f":"IF(B1766<>0,VLOOKUP(C1766,A01A02!$A$3:$K$13,11,FALSE),\"\")","v":""},null,0,"","","","",{"$f":"IF(I1766<>0,VLOOKUP(J1766,A01A02!$A$3:$K$13,11,FALSE),\"\")","v":""},{"$f":"IF(I1766<>0,VLOOKUP(J1766,A01A02!A:J,10,0),\"\")","v":""}]
[null,0,"","","","",{"$f":"IF(B1767<>0,VLOOKUP(C1767,A01A02!$A$3:$K$13,11,FALSE),\"\")","v":""},null,0,"","","","",{"$f":"IF(I1767<>0,VLOOKUP(J1767,A01A02!$A$3:$K$13,11,FALSE),\"\")","v":""},{"$f":"IF(I1767<>0,VLOOKUP(J1767,A01A02!A:J,10,0),\"\")","v":""}]
[null,0,"","","","",{"$f":"IF(B1768<>0,VLOOKUP(C1768,A01A02!$A$3:$K$13,11,FALSE),\"\")","v":""},null,0,"","","","",{"$f":"IF(I1768<>0,VLOOKUP(J1768,A01A02!$A$3:$K$13,11,FALSE),\"\")","v":""},{"$f":"IF(I1768<>0,VLOOKUP(J1768,A01A02!A:J,10,0),\"\")","v":""}]
[null,0,"","","","",{"$f":"IF(B1769<>0,VLOOKUP(C1769,A01A02!$A$3:$K$13,11,FALSE),\"\")","v":""},null,0,"","","","",{"$f":"IF(I1769<>0,VLOOKUP(J1769,A01A02!$A$3:$K$13,11,FALSE),\"\")","v":""},{"$f":"IF(I1769<>0,VLOOKUP(J1769,A01A02!A:J,10,0),\"\")","v":""}]
[null,0,"","","","",{"$f":"IF(B1770<>0,VLOOKUP(C1770,A01A02!$A$3:$K$13,11,FALSE),\"\")","v":""},null,0,"","","","",{"$f":"IF(I1770<>0,VLOOKUP(J1770,A01A02!$A$3:$K$13,11,FALSE),\"\")","v":""},{"$f":"IF(I1770<>0,VLOOKUP(J1770,A01A02!A:J,10,0),\"\")","v":""}]
[null,0,{"$f":"IF(B1771<>0,znoget(B1771),\"\")","v":""},{"$f":"IF(B1771<>0,znaget(B1771),\"\")","v":""},{"$f":"IF(B1771<>0,xget(B1771),\"\")","v":""},{"$f":"IF(B1771<>0,yget(B1771),\"\")","v":""},{"$f":"IF(B1771<>0,VLOOKUP(C1771,A01A02!$A$3:$K$13,11,FALSE),\"\")","v":""},null,{"$f":"IF(H1771<>\"\",xycall(H1771),0)","v":0},{"$f":"IF(I1771<>0,znoget(I1771),\"\")","v":""},{"$f":"IF(I1771<>0,znaget(I1771),\"\")","v":""},{"$f":"IF(I1771<>0,xget(I1771),\"\")","v":""},{"$f":"IF(I1771<>0,yget(I1771),\"\")","v":""},{"$f":"IF(I1771<>0,VLOOKUP(J1771,A01A02!$A$3:$K$13,11,FALSE),\"\")","v":""},{"$f":"IF(I1771<>0,VLOOKUP(J1771,A01A02!A:J,10,0),\"\")","v":""}]
[null,0,"","","","",{"$f":"IF(B1772<>0,VLOOKUP(C1772,A01A02!$A$3:$K$13,11,FALSE),\"\")","v":""},null,0,"","","","",{"$f":"IF(I1772<>0,VLOOKUP(J1772,A01A02!$A$3:$K$13,11,FALSE),\"\")","v":""},{"$f":"IF(I1772<>0,VLOOKUP(J1772,A01A02!A:J,10,0),\"\")","v":""}]
[null,0,"","","","",{"$f":"IF(B1773<>0,VLOOKUP(C1773,A01A02!$A$3:$K$13,11,FALSE),\"\")","v":""},null,0,"","","","",{"$f":"IF(I1773<>0,VLOOKUP(J1773,A01A02!$A$3:$K$13,11,FALSE),\"\")","v":""},{"$f":"IF(I1773<>0,VLOOKUP(J1773,A01A02!A:J,10,0),\"\")","v":""}]
[null,0,"","","","",{"$f":"IF(B1774<>0,VLOOKUP(C1774,A01A02!$A$3:$K$13,11,FALSE),\"\")","v":""},null,0,"","","","",{"$f":"IF(I1774<>0,VLOOKUP(J1774,A01A02!$A$3:$K$13,11,FALSE),\"\")","v":""},{"$f":"IF(I1774<>0,VLOOKUP(J1774,A01A02!A:J,10,0),\"\")","v":""}]
[null,0,"","","","",{"$f":"IF(B1775<>0,VLOOKUP(C1775,A01A02!$A$3:$K$13,11,FALSE),\"\")","v":""},null,0,"","","","",{"$f":"IF(I1775<>0,VLOOKUP(J1775,A01A02!$A$3:$K$13,11,FALSE),\"\")","v":""},{"$f":"IF(I1775<>0,VLOOKUP(J1775,A01A02!A:J,10,0),\"\")","v":""}]
[null,0,"","","","",{"$f":"IF(B1776<>0,VLOOKUP(C1776,A01A02!$A$3:$K$13,11,FALSE),\"\")","v":""},null,0,"","","","",{"$f":"IF(I1776<>0,VLOOKUP(J1776,A01A02!$A$3:$K$13,11,FALSE),\"\")","v":""},{"$f":"IF(I1776<>0,VLOOKUP(J1776,A01A02!A:J,10,0),\"\")","v":""}]
[null,0,"","","","",{"$f":"IF(B1777<>0,VLOOKUP(C1777,A01A02!$A$3:$K$13,11,FALSE),\"\")","v":""},null,0,"","","","",{"$f":"IF(I1777<>0,VLOOKUP(J1777,A01A02!$A$3:$K$13,11,FALSE),\"\")","v":""},{"$f":"IF(I1777<>0,VLOOKUP(J1777,A01A02!A:J,10,0),\"\")","v":""}]
[null,0,"","","","",{"$f":"IF(B1778<>0,VLOOKUP(C1778,A01A02!$A$3:$K$13,11,FALSE),\"\")","v":""},null,0,"","","","",{"$f":"IF(I1778<>0,VLOOKUP(J1778,A01A02!$A$3:$K$13,11,FALSE),\"\")","v":""},{"$f":"IF(I1778<>0,VLOOKUP(J1778,A01A02!A:J,10,0),\"\")","v":""}]
[null,0,"","","","",{"$f":"IF(B1779<>0,VLOOKUP(C1779,A01A02!$A$3:$K$13,11,FALSE),\"\")","v":""},null,0,"","","","",{"$f":"IF(I1779<>0,VLOOKUP(J1779,A01A02!$A$3:$K$13,11,FALSE),\"\")","v":""},{"$f":"IF(I1779<>0,VLOOKUP(J1779,A01A02!A:J,10,0),\"\")","v":""}]
[null,0,"","","","",{"$f":"IF(B1780<>0,VLOOKUP(C1780,A01A02!$A$3:$K$13,11,FALSE),\"\")","v":""},null,0,"","","","",{"$f":"IF(I1780<>0,VLOOKUP(J1780,A01A02!$A$3:$K$13,11,FALSE),\"\")","v":""},{"$f":"IF(I1780<>0,VLOOKUP(J1780,A01A02!A:J,10,0),\"\")","v":""}]
[null,0,"","","","",{"$f":"IF(B1781<>0,VLOOKUP(C1781,A01A02!$A$3:$K$13,11,FALSE),\"\")","v":""},null,0,"","","","",{"$f":"IF(I1781<>0,VLOOKUP(J1781,A01A02!$A$3:$K$13,11,FALSE),\"\")","v":""},{"$f":"IF(I1781<>0,VLOOKUP(J1781,A01A02!A:J,10,0),\"\")","v":""}]
[null,0,"","","","",{"$f":"IF(B1782<>0,VLOOKUP(C1782,A01A02!$A$3:$K$13,11,FALSE),\"\")","v":""},null,0,"","","","",{"$f":"IF(I1782<>0,VLOOKUP(J1782,A01A02!$A$3:$K$13,11,FALSE),\"\")","v":""},{"$f":"IF(I1782<>0,VLOOKUP(J1782,A01A02!A:J,10,0),\"\")","v":""}]
[null,0,"","","","",{"$f":"IF(B1783<>0,VLOOKUP(C1783,A01A02!$A$3:$K$13,11,FALSE),\"\")","v":""},null,0,"","","","",{"$f":"IF(I1783<>0,VLOOKUP(J1783,A01A02!$A$3:$K$13,11,FALSE),\"\")","v":""},{"$f":"IF(I1783<>0,VLOOKUP(J1783,A01A02!A:J,10,0),\"\")","v":""}]
[null,0,"","","","",{"$f":"IF(B1784<>0,VLOOKUP(C1784,A01A02!$A$3:$K$13,11,FALSE),\"\")","v":""},null,0,"","","","",{"$f":"IF(I1784<>0,VLOOKUP(J1784,A01A02!$A$3:$K$13,11,FALSE),\"\")","v":""},{"$f":"IF(I1784<>0,VLOOKUP(J1784,A01A02!A:J,10,0),\"\")","v":""}]
[null,0,"","","","",{"$f":"IF(B1785<>0,VLOOKUP(C1785,A01A02!$A$3:$K$13,11,FALSE),\"\")","v":""},null,0,"","","","",{"$f":"IF(I1785<>0,VLOOKUP(J1785,A01A02!$A$3:$K$13,11,FALSE),\"\")","v":""},{"$f":"IF(I1785<>0,VLOOKUP(J1785,A01A02!A:J,10,0),\"\")","v":""}]
[null,0,"","","","",{"$f":"IF(B1786<>0,VLOOKUP(C1786,A01A02!$A$3:$K$13,11,FALSE),\"\")","v":""},null,0,"","","","",{"$f":"IF(I1786<>0,VLOOKUP(J1786,A01A02!$A$3:$K$13,11,FALSE),\"\")","v":""},{"$f":"IF(I1786<>0,VLOOKUP(J1786,A01A02!A:J,10,0),\"\")","v":""}]
[null,0,"","","","",{"$f":"IF(B1787<>0,VLOOKUP(C1787,A01A02!$A$3:$K$13,11,FALSE),\"\")","v":""},null,0,"","","","",{"$f":"IF(I1787<>0,VLOOKUP(J1787,A01A02!$A$3:$K$13,11,FALSE),\"\")","v":""},{"$f":"IF(I1787<>0,VLOOKUP(J1787,A01A02!A:J,10,0),\"\")","v":""}]
[null,0,"","","","",{"$f":"IF(B1788<>0,VLOOKUP(C1788,A01A02!$A$3:$K$13,11,FALSE),\"\")","v":""},null,0,"","","","",{"$f":"IF(I1788<>0,VLOOKUP(J1788,A01A02!$A$3:$K$13,11,FALSE),\"\")","v":""},{"$f":"IF(I1788<>0,VLOOKUP(J1788,A01A02!A:J,10,0),\"\")","v":""}]
[null,0,"","","","",{"$f":"IF(B1789<>0,VLOOKUP(C1789,A01A02!$A$3:$K$13,11,FALSE),\"\")","v":""},null,0,"","","","",{"$f":"IF(I1789<>0,VLOOKUP(J1789,A01A02!$A$3:$K$13,11,FALSE),\"\")","v":""},{"$f":"IF(I1789<>0,VLOOKUP(J1789,A01A02!A:J,10,0),\"\")","v":""}]
[null,0,"","","","",{"$f":"IF(B1790<>0,VLOOKUP(C1790,A01A02!$A$3:$K$13,11,FALSE),\"\")","v":""},null,0,"","","","",{"$f":"IF(I1790<>0,VLOOKUP(J1790,A01A02!$A$3:$K$13,11,FALSE),\"\")","v":""},{"$f":"IF(I1790<>0,VLOOKUP(J1790,A01A02!A:J,10,0),\"\")","v":""}]
[null,0,"","","","",{"$f":"IF(B1791<>0,VLOOKUP(C1791,A01A02!$A$3:$K$13,11,FALSE),\"\")","v":""},null,0,"","","","",{"$f":"IF(I1791<>0,VLOOKUP(J1791,A01A02!$A$3:$K$13,11,FALSE),\"\")","v":""},{"$f":"IF(I1791<>0,VLOOKUP(J1791,A01A02!A:J,10,0),\"\")","v":""}]
[null,0,"","","","",{"$f":"IF(B1792<>0,VLOOKUP(C1792,A01A02!$A$3:$K$13,11,FALSE),\"\")","v":""},null,0,"","","","",{"$f":"IF(I1792<>0,VLOOKUP(J1792,A01A02!$A$3:$K$13,11,FALSE),\"\")","v":""},{"$f":"IF(I1792<>0,VLOOKUP(J1792,A01A02!A:J,10,0),\"\")","v":""}]
[null,0,"","","","",{"$f":"IF(B1793<>0,VLOOKUP(C1793,A01A02!$A$3:$K$13,11,FALSE),\"\")","v":""},null,0,"","","","",{"$f":"IF(I1793<>0,VLOOKUP(J1793,A01A02!$A$3:$K$13,11,FALSE),\"\")","v":""},{"$f":"IF(I1793<>0,VLOOKUP(J1793,A01A02!A:J,10,0),\"\")","v":""}]
[null,0,"","","","",{"$f":"IF(B1794<>0,VLOOKUP(C1794,A01A02!$A$3:$K$13,11,FALSE),\"\")","v":""},null,0,"","","","",{"$f":"IF(I1794<>0,VLOOKUP(J1794,A01A02!$A$3:$K$13,11,FALSE),\"\")","v":""},{"$f":"IF(I1794<>0,VLOOKUP(J1794,A01A02!A:J,10,0),\"\")","v":""}]
[null,{"$f":"IF(A1795<>\"\",xycall(A1795),0)","v":0},"","","","",{"$f":"IF(B1795<>0,VLOOKUP(C1795,A01A02!$A$3:$K$13,11,FALSE),\"\")","v":""},null,0,"","","","",{"$f":"IF(I1795<>0,VLOOKUP(J1795,A01A02!$A$3:$K$13,11,FALSE),\"\")","v":""},{"$f":"IF(I1795<>0,VLOOKUP(J1795,A01A02!A:J,10,0),\"\")","v":""}]
[null,0,"","","","",{"$f":"IF(B1796<>0,VLOOKUP(C1796,A01A02!$A$3:$K$13,11,FALSE),\"\")","v":""},null,0,"","","","",{"$f":"IF(I1796<>0,VLOOKUP(J1796,A01A02!$A$3:$K$13,11,FALSE),\"\")","v":""},{"$f":"IF(I1796<>0,VLOOKUP(J1796,A01A02!A:J,10,0),\"\")","v":""}]
[null,0,"","","","",{"$f":"IF(B1797<>0,VLOOKUP(C1797,A01A02!$A$3:$K$13,11,FALSE),\"\")","v":""},null,0,"","","","",{"$f":"IF(I1797<>0,VLOOKUP(J1797,A01A02!$A$3:$K$13,11,FALSE),\"\")","v":""},{"$f":"IF(I1797<>0,VLOOKUP(J1797,A01A02!A:J,10,0),\"\")","v":""}]
[null,0,"","","","",{"$f":"IF(B1798<>0,VLOOKUP(C1798,A01A02!$A$3:$K$13,11,FALSE),\"\")","v":""},null,0,"","","","",{"$f":"IF(I1798<>0,VLOOKUP(J1798,A01A02!$A$3:$K$13,11,FALSE),\"\")","v":""},{"$f":"IF(I1798<>0,VLOOKUP(J1798,A01A02!A:J,10,0),\"\")","v":""}]
[null,0,"","","","",{"$f":"IF(B1799<>0,VLOOKUP(C1799,A01A02!$A$3:$K$13,11,FALSE),\"\")","v":""},null,0,"","","","",{"$f":"IF(I1799<>0,VLOOKUP(J1799,A01A02!$A$3:$K$13,11,FALSE),\"\")","v":""},{"$f":"IF(I1799<>0,VLOOKUP(J1799,A01A02!A:J,10,0),\"\")","v":""}]
[null,0,"","","","",{"$f":"IF(B1800<>0,VLOOKUP(C1800,A01A02!$A$3:$K$13,11,FALSE),\"\")","v":""},null,0,"","","","",{"$f":"IF(I1800<>0,VLOOKUP(J1800,A01A02!$A$3:$K$13,11,FALSE),\"\")","v":""},{"$f":"IF(I1800<>0,VLOOKUP(J1800,A01A02!A:J,10,0),\"\")","v":""}]
[null,0,"","","","",{"$f":"IF(B1801<>0,VLOOKUP(C1801,A01A02!$A$3:$K$13,11,FALSE),\"\")","v":""},null,0,"","","","",{"$f":"IF(I1801<>0,VLOOKUP(J1801,A01A02!$A$3:$K$13,11,FALSE),\"\")","v":""},{"$f":"IF(I1801<>0,VLOOKUP(J1801,A01A02!A:J,10,0),\"\")","v":""}]
[null,0,"","","","",{"$f":"IF(B1802<>0,VLOOKUP(C1802,A01A02!$A$3:$K$13,11,FALSE),\"\")","v":""},null,0,"","","","",{"$f":"IF(I1802<>0,VLOOKUP(J1802,A01A02!$A$3:$K$13,11,FALSE),\"\")","v":""},{"$f":"IF(I1802<>0,VLOOKUP(J1802,A01A02!A:J,10,0),\"\")","v":""}]
[null,0,"","","","",{"$f":"IF(B1803<>0,VLOOKUP(C1803,A01A02!$A$3:$K$13,11,FALSE),\"\")","v":""},null,0,"","","","",{"$f":"IF(I1803<>0,VLOOKUP(J1803,A01A02!$A$3:$K$13,11,FALSE),\"\")","v":""},{"$f":"IF(I1803<>0,VLOOKUP(J1803,A01A02!A:J,10,0),\"\")","v":""}]
[null,0,"","","","",{"$f":"IF(B1804<>0,VLOOKUP(C1804,A01A02!$A$3:$K$13,11,FALSE),\"\")","v":""},null,0,"","","","",{"$f":"IF(I1804<>0,VLOOKUP(J1804,A01A02!$A$3:$K$13,11,FALSE),\"\")","v":""},{"$f":"IF(I1804<>0,VLOOKUP(J1804,A01A02!A:J,10,0),\"\")","v":""}]
[null,0,"","","","",{"$f":"IF(B1805<>0,VLOOKUP(C1805,A01A02!$A$3:$K$13,11,FALSE),\"\")","v":""},null,0,"","","","",{"$f":"IF(I1805<>0,VLOOKUP(J1805,A01A02!$A$3:$K$13,11,FALSE),\"\")","v":""},{"$f":"IF(I1805<>0,VLOOKUP(J1805,A01A02!A:J,10,0),\"\")","v":""}]
[null,0,"","","","",{"$f":"IF(B1806<>0,VLOOKUP(C1806,A01A02!$A$3:$K$13,11,FALSE),\"\")","v":""},null,0,"","","","",{"$f":"IF(I1806<>0,VLOOKUP(J1806,A01A02!$A$3:$K$13,11,FALSE),\"\")","v":""},{"$f":"IF(I1806<>0,VLOOKUP(J1806,A01A02!A:J,10,0),\"\")","v":""}]
[null,0,"","","","",{"$f":"IF(B1807<>0,VLOOKUP(C1807,A01A02!$A$3:$K$13,11,FALSE),\"\")","v":""},null,0,"","","","",{"$f":"IF(I1807<>0,VLOOKUP(J1807,A01A02!$A$3:$K$13,11,FALSE),\"\")","v":""},{"$f":"IF(I1807<>0,VLOOKUP(J1807,A01A02!A:J,10,0),\"\")","v":""}]
[null,0,"","","","",{"$f":"IF(B1808<>0,VLOOKUP(C1808,A01A02!$A$3:$K$13,11,FALSE),\"\")","v":""},null,0,"","","","",{"$f":"IF(I1808<>0,VLOOKUP(J1808,A01A02!$A$3:$K$13,11,FALSE),\"\")","v":""},{"$f":"IF(I1808<>0,VLOOKUP(J1808,A01A02!A:J,10,0),\"\")","v":""}]
[null,0,"","","","",{"$f":"IF(B1809<>0,VLOOKUP(C1809,A01A02!$A$3:$K$13,11,FALSE),\"\")","v":""},null,0,"","","","",{"$f":"IF(I1809<>0,VLOOKUP(J1809,A01A02!$A$3:$K$13,11,FALSE),\"\")","v":""},{"$f":"IF(I1809<>0,VLOOKUP(J1809,A01A02!A:J,10,0),\"\")","v":""}]
[null,0,"","","","",{"$f":"IF(B1810<>0,VLOOKUP(C1810,A01A02!$A$3:$K$13,11,FALSE),\"\")","v":""},null,0,"","","","",{"$f":"IF(I1810<>0,VLOOKUP(J1810,A01A02!$A$3:$K$13,11,FALSE),\"\")","v":""},{"$f":"IF(I1810<>0,VLOOKUP(J1810,A01A02!A:J,10,0),\"\")","v":""}]
[null,0,"","","","",{"$f":"IF(B1811<>0,VLOOKUP(C1811,A01A02!$A$3:$K$13,11,FALSE),\"\")","v":""},null,0,"","","","",{"$f":"IF(I1811<>0,VLOOKUP(J1811,A01A02!$A$3:$K$13,11,FALSE),\"\")","v":""},{"$f":"IF(I1811<>0,VLOOKUP(J1811,A01A02!A:J,10,0),\"\")","v":""}]
[null,0,"","","","",{"$f":"IF(B1812<>0,VLOOKUP(C1812,A01A02!$A$3:$K$13,11,FALSE),\"\")","v":""},null,0,"","","","",{"$f":"IF(I1812<>0,VLOOKUP(J1812,A01A02!$A$3:$K$13,11,FALSE),\"\")","v":""},{"$f":"IF(I1812<>0,VLOOKUP(J1812,A01A02!A:J,10,0),\"\")","v":""}]
[null,0,"","","","",{"$f":"IF(B1813<>0,VLOOKUP(C1813,A01A02!$A$3:$K$13,11,FALSE),\"\")","v":""},null,0,"","","","",{"$f":"IF(I1813<>0,VLOOKUP(J1813,A01A02!$A$3:$K$13,11,FALSE),\"\")","v":""},{"$f":"IF(I1813<>0,VLOOKUP(J1813,A01A02!A:J,10,0),\"\")","v":""}]
[null,0,"","","","",{"$f":"IF(B1814<>0,VLOOKUP(C1814,A01A02!$A$3:$K$13,11,FALSE),\"\")","v":""},null,0,"","","","",{"$f":"IF(I1814<>0,VLOOKUP(J1814,A01A02!$A$3:$K$13,11,FALSE),\"\")","v":""},{"$f":"IF(I1814<>0,VLOOKUP(J1814,A01A02!A:J,10,0),\"\")","v":""}]
[null,0,"","","","",{"$f":"IF(B1815<>0,VLOOKUP(C1815,A01A02!$A$3:$K$13,11,FALSE),\"\")","v":""},null,0,"","","","",{"$f":"IF(I1815<>0,VLOOKUP(J1815,A01A02!$A$3:$K$13,11,FALSE),\"\")","v":""},{"$f":"IF(I1815<>0,VLOOKUP(J1815,A01A02!A:J,10,0),\"\")","v":""}]
[null,0,"","","","",{"$f":"IF(B1816<>0,VLOOKUP(C1816,A01A02!$A$3:$K$13,11,FALSE),\"\")","v":""},null,0,"","","","",{"$f":"IF(I1816<>0,VLOOKUP(J1816,A01A02!$A$3:$K$13,11,FALSE),\"\")","v":""},{"$f":"IF(I1816<>0,VLOOKUP(J1816,A01A02!A:J,10,0),\"\")","v":""}]
[null,0,"","","","",{"$f":"IF(B1817<>0,VLOOKUP(C1817,A01A02!$A$3:$K$13,11,FALSE),\"\")","v":""},null,0,"","","","",{"$f":"IF(I1817<>0,VLOOKUP(J1817,A01A02!$A$3:$K$13,11,FALSE),\"\")","v":""},{"$f":"IF(I1817<>0,VLOOKUP(J1817,A01A02!A:J,10,0),\"\")","v":""}]
[null,0,"","","","",{"$f":"IF(B1818<>0,VLOOKUP(C1818,A01A02!$A$3:$K$13,11,FALSE),\"\")","v":""},null,0,"","","","",{"$f":"IF(I1818<>0,VLOOKUP(J1818,A01A02!$A$3:$K$13,11,FALSE),\"\")","v":""},{"$f":"IF(I1818<>0,VLOOKUP(J1818,A01A02!A:J,10,0),\"\")","v":""}]
[null,0,"","","","",{"$f":"IF(B1819<>0,VLOOKUP(C1819,A01A02!$A$3:$K$13,11,FALSE),\"\")","v":""},null,0,"","","","",{"$f":"IF(I1819<>0,VLOOKUP(J1819,A01A02!$A$3:$K$13,11,FALSE),\"\")","v":""},{"$f":"IF(I1819<>0,VLOOKUP(J1819,A01A02!A:J,10,0),\"\")","v":""}]
[null,0,"","","","",{"$f":"IF(B1820<>0,VLOOKUP(C1820,A01A02!$A$3:$K$13,11,FALSE),\"\")","v":""},null,0,"","","","",{"$f":"IF(I1820<>0,VLOOKUP(J1820,A01A02!$A$3:$K$13,11,FALSE),\"\")","v":""},{"$f":"IF(I1820<>0,VLOOKUP(J1820,A01A02!A:J,10,0),\"\")","v":""}]
[null,0,"","","","",{"$f":"IF(B1821<>0,VLOOKUP(C1821,A01A02!$A$3:$K$13,11,FALSE),\"\")","v":""},null,0,"","","","",{"$f":"IF(I1821<>0,VLOOKUP(J1821,A01A02!$A$3:$K$13,11,FALSE),\"\")","v":""},{"$f":"IF(I1821<>0,VLOOKUP(J1821,A01A02!A:J,10,0),\"\")","v":""}]
[null,0,"","","","",{"$f":"IF(B1822<>0,VLOOKUP(C1822,A01A02!$A$3:$K$13,11,FALSE),\"\")","v":""},null,0,"","","","",{"$f":"IF(I1822<>0,VLOOKUP(J1822,A01A02!$A$3:$K$13,11,FALSE),\"\")","v":""},{"$f":"IF(I1822<>0,VLOOKUP(J1822,A01A02!A:J,10,0),\"\")","v":""}]
[null,0,"","","","",{"$f":"IF(B1823<>0,VLOOKUP(C1823,A01A02!$A$3:$K$13,11,FALSE),\"\")","v":""},null,0,"","","","",{"$f":"IF(I1823<>0,VLOOKUP(J1823,A01A02!$A$3:$K$13,11,FALSE),\"\")","v":""},{"$f":"IF(I1823<>0,VLOOKUP(J1823,A01A02!A:J,10,0),\"\")","v":""}]
[null,0,"","","","",{"$f":"IF(B1824<>0,VLOOKUP(C1824,A01A02!$A$3:$K$13,11,FALSE),\"\")","v":""},null,0,"","","","",{"$f":"IF(I1824<>0,VLOOKUP(J1824,A01A02!$A$3:$K$13,11,FALSE),\"\")","v":""},{"$f":"IF(I1824<>0,VLOOKUP(J1824,A01A02!A:J,10,0),\"\")","v":""}]
[null,0,"","","","",{"$f":"IF(B1825<>0,VLOOKUP(C1825,A01A02!$A$3:$K$13,11,FALSE),\"\")","v":""},null,0,"","","","",{"$f":"IF(I1825<>0,VLOOKUP(J1825,A01A02!$A$3:$K$13,11,FALSE),\"\")","v":""},{"$f":"IF(I1825<>0,VLOOKUP(J1825,A01A02!A:J,10,0),\"\")","v":""}]
[null,0,"","","","",{"$f":"IF(B1826<>0,VLOOKUP(C1826,A01A02!$A$3:$K$13,11,FALSE),\"\")","v":""},null,0,"","","","",{"$f":"IF(I1826<>0,VLOOKUP(J1826,A01A02!$A$3:$K$13,11,FALSE),\"\")","v":""},{"$f":"IF(I1826<>0,VLOOKUP(J1826,A01A02!A:J,10,0),\"\")","v":""}]
[null,0,"","","","",{"$f":"IF(B1827<>0,VLOOKUP(C1827,A01A02!$A$3:$K$13,11,FALSE),\"\")","v":""},null,0,"","","","",{"$f":"IF(I1827<>0,VLOOKUP(J1827,A01A02!$A$3:$K$13,11,FALSE),\"\")","v":""},{"$f":"IF(I1827<>0,VLOOKUP(J1827,A01A02!A:J,10,0),\"\")","v":""}]
[null,0,"","","","",{"$f":"IF(B1828<>0,VLOOKUP(C1828,A01A02!$A$3:$K$13,11,FALSE),\"\")","v":""},null,0,"","","","",{"$f":"IF(I1828<>0,VLOOKUP(J1828,A01A02!$A$3:$K$13,11,FALSE),\"\")","v":""},{"$f":"IF(I1828<>0,VLOOKUP(J1828,A01A02!A:J,10,0),\"\")","v":""}]
[null,0,"","","","",{"$f":"IF(B1829<>0,VLOOKUP(C1829,A01A02!$A$3:$K$13,11,FALSE),\"\")","v":""},null,0,"","","","",{"$f":"IF(I1829<>0,VLOOKUP(J1829,A01A02!$A$3:$K$13,11,FALSE),\"\")","v":""},{"$f":"IF(I1829<>0,VLOOKUP(J1829,A01A02!A:J,10,0),\"\")","v":""}]
[null,0,"","","","",{"$f":"IF(B1830<>0,VLOOKUP(C1830,A01A02!$A$3:$K$13,11,FALSE),\"\")","v":""},null,0,"","","","",{"$f":"IF(I1830<>0,VLOOKUP(J1830,A01A02!$A$3:$K$13,11,FALSE),\"\")","v":""},{"$f":"IF(I1830<>0,VLOOKUP(J1830,A01A02!A:J,10,0),\"\")","v":""}]
[null,0,"","","","",{"$f":"IF(B1831<>0,VLOOKUP(C1831,A01A02!$A$3:$K$13,11,FALSE),\"\")","v":""},null,0,"","","","",{"$f":"IF(I1831<>0,VLOOKUP(J1831,A01A02!$A$3:$K$13,11,FALSE),\"\")","v":""},{"$f":"IF(I1831<>0,VLOOKUP(J1831,A01A02!A:J,10,0),\"\")","v":""}]
[null,0,"","","","",{"$f":"IF(B1832<>0,VLOOKUP(C1832,A01A02!$A$3:$K$13,11,FALSE),\"\")","v":""},null,0,"","","","",{"$f":"IF(I1832<>0,VLOOKUP(J1832,A01A02!$A$3:$K$13,11,FALSE),\"\")","v":""},{"$f":"IF(I1832<>0,VLOOKUP(J1832,A01A02!A:J,10,0),\"\")","v":""}]
[null,0,"","","","",{"$f":"IF(B1833<>0,VLOOKUP(C1833,A01A02!$A$3:$K$13,11,FALSE),\"\")","v":""},null,0,"","","","",{"$f":"IF(I1833<>0,VLOOKUP(J1833,A01A02!$A$3:$K$13,11,FALSE),\"\")","v":""},{"$f":"IF(I1833<>0,VLOOKUP(J1833,A01A02!A:J,10,0),\"\")","v":""}]
[null,0,"","","","",{"$f":"IF(B1834<>0,VLOOKUP(C1834,A01A02!$A$3:$K$13,11,FALSE),\"\")","v":""},null,0,"","","","",{"$f":"IF(I1834<>0,VLOOKUP(J1834,A01A02!$A$3:$K$13,11,FALSE),\"\")","v":""},{"$f":"IF(I1834<>0,VLOOKUP(J1834,A01A02!A:J,10,0),\"\")","v":""}]
[null,0,{"$f":"IF(B1835<>0,znoget(B1835),\"\")","v":""},{"$f":"IF(B1835<>0,znaget(B1835),\"\")","v":""},{"$f":"IF(B1835<>0,xget(B1835),\"\")","v":""},{"$f":"IF(B1835<>0,yget(B1835),\"\")","v":""},{"$f":"IF(B1835<>0,VLOOKUP(C1835,A01A02!$A$3:$K$13,11,FALSE),\"\")","v":""},null,{"$f":"IF(H1835<>\"\",xycall(H1835),0)","v":0},{"$f":"IF(I1835<>0,znoget(I1835),\"\")","v":""},{"$f":"IF(I1835<>0,znaget(I1835),\"\")","v":""},{"$f":"IF(I1835<>0,xget(I1835),\"\")","v":""},{"$f":"IF(I1835<>0,yget(I1835),\"\")","v":""},{"$f":"IF(I1835<>0,VLOOKUP(J1835,A01A02!$A$3:$K$13,11,FALSE),\"\")","v":""},{"$f":"IF(I1835<>0,VLOOKUP(J1835,A01A02!A:J,10,0),\"\")","v":""}]
[null,0,"","","","",{"$f":"IF(B1836<>0,VLOOKUP(C1836,A01A02!$A$3:$K$13,11,FALSE),\"\")","v":""},null,0,"","","","",{"$f":"IF(I1836<>0,VLOOKUP(J1836,A01A02!$A$3:$K$13,11,FALSE),\"\")","v":""},{"$f":"IF(I1836<>0,VLOOKUP(J1836,A01A02!A:J,10,0),\"\")","v":""}]
[null,0,"","","","",{"$f":"IF(B1837<>0,VLOOKUP(C1837,A01A02!$A$3:$K$13,11,FALSE),\"\")","v":""},null,0,"","","","",{"$f":"IF(I1837<>0,VLOOKUP(J1837,A01A02!$A$3:$K$13,11,FALSE),\"\")","v":""},{"$f":"IF(I1837<>0,VLOOKUP(J1837,A01A02!A:J,10,0),\"\")","v":""}]
[null,0,"","","","",{"$f":"IF(B1838<>0,VLOOKUP(C1838,A01A02!$A$3:$K$13,11,FALSE),\"\")","v":""},null,0,"","","","",{"$f":"IF(I1838<>0,VLOOKUP(J1838,A01A02!$A$3:$K$13,11,FALSE),\"\")","v":""},{"$f":"IF(I1838<>0,VLOOKUP(J1838,A01A02!A:J,10,0),\"\")","v":""}]
[null,0,"","","","",{"$f":"IF(B1839<>0,VLOOKUP(C1839,A01A02!$A$3:$K$13,11,FALSE),\"\")","v":""},null,0,"","","","",{"$f":"IF(I1839<>0,VLOOKUP(J1839,A01A02!$A$3:$K$13,11,FALSE),\"\")","v":""},{"$f":"IF(I1839<>0,VLOOKUP(J1839,A01A02!A:J,10,0),\"\")","v":""}]
[null,0,"","","","",{"$f":"IF(B1840<>0,VLOOKUP(C1840,A01A02!$A$3:$K$13,11,FALSE),\"\")","v":""},null,0,"","","","",{"$f":"IF(I1840<>0,VLOOKUP(J1840,A01A02!$A$3:$K$13,11,FALSE),\"\")","v":""},{"$f":"IF(I1840<>0,VLOOKUP(J1840,A01A02!A:J,10,0),\"\")","v":""}]
[null,0,"","","","",{"$f":"IF(B1841<>0,VLOOKUP(C1841,A01A02!$A$3:$K$13,11,FALSE),\"\")","v":""},null,0,"","","","",{"$f":"IF(I1841<>0,VLOOKUP(J1841,A01A02!$A$3:$K$13,11,FALSE),\"\")","v":""},{"$f":"IF(I1841<>0,VLOOKUP(J1841,A01A02!A:J,10,0),\"\")","v":""}]
[null,0,"","","","",{"$f":"IF(B1842<>0,VLOOKUP(C1842,A01A02!$A$3:$K$13,11,FALSE),\"\")","v":""},null,0,"","","","",{"$f":"IF(I1842<>0,VLOOKUP(J1842,A01A02!$A$3:$K$13,11,FALSE),\"\")","v":""},{"$f":"IF(I1842<>0,VLOOKUP(J1842,A01A02!A:J,10,0),\"\")","v":""}]
[null,0,"","","","",{"$f":"IF(B1843<>0,VLOOKUP(C1843,A01A02!$A$3:$K$13,11,FALSE),\"\")","v":""},null,0,"","","","",{"$f":"IF(I1843<>0,VLOOKUP(J1843,A01A02!$A$3:$K$13,11,FALSE),\"\")","v":""},{"$f":"IF(I1843<>0,VLOOKUP(J1843,A01A02!A:J,10,0),\"\")","v":""}]
[null,0,"","","","",{"$f":"IF(B1844<>0,VLOOKUP(C1844,A01A02!$A$3:$K$13,11,FALSE),\"\")","v":""},null,0,"","","","",{"$f":"IF(I1844<>0,VLOOKUP(J1844,A01A02!$A$3:$K$13,11,FALSE),\"\")","v":""},{"$f":"IF(I1844<>0,VLOOKUP(J1844,A01A02!A:J,10,0),\"\")","v":""}]
[null,0,"","","","",{"$f":"IF(B1845<>0,VLOOKUP(C1845,A01A02!$A$3:$K$13,11,FALSE),\"\")","v":""},null,0,"","","","",{"$f":"IF(I1845<>0,VLOOKUP(J1845,A01A02!$A$3:$K$13,11,FALSE),\"\")","v":""},{"$f":"IF(I1845<>0,VLOOKUP(J1845,A01A02!A:J,10,0),\"\")","v":""}]
[null,0,"","","","",{"$f":"IF(B1846<>0,VLOOKUP(C1846,A01A02!$A$3:$K$13,11,FALSE),\"\")","v":""},null,0,"","","","",{"$f":"IF(I1846<>0,VLOOKUP(J1846,A01A02!$A$3:$K$13,11,FALSE),\"\")","v":""},{"$f":"IF(I1846<>0,VLOOKUP(J1846,A01A02!A:J,10,0),\"\")","v":""}]
[null,0,"","","","",{"$f":"IF(B1847<>0,VLOOKUP(C1847,A01A02!$A$3:$K$13,11,FALSE),\"\")","v":""},null,0,"","","","",{"$f":"IF(I1847<>0,VLOOKUP(J1847,A01A02!$A$3:$K$13,11,FALSE),\"\")","v":""},{"$f":"IF(I1847<>0,VLOOKUP(J1847,A01A02!A:J,10,0),\"\")","v":""}]
[null,0,"","","","",{"$f":"IF(B1848<>0,VLOOKUP(C1848,A01A02!$A$3:$K$13,11,FALSE),\"\")","v":""},null,0,"","","","",{"$f":"IF(I1848<>0,VLOOKUP(J1848,A01A02!$A$3:$K$13,11,FALSE),\"\")","v":""},{"$f":"IF(I1848<>0,VLOOKUP(J1848,A01A02!A:J,10,0),\"\")","v":""}]
[null,0,"","","","",{"$f":"IF(B1849<>0,VLOOKUP(C1849,A01A02!$A$3:$K$13,11,FALSE),\"\")","v":""},null,0,"","","","",{"$f":"IF(I1849<>0,VLOOKUP(J1849,A01A02!$A$3:$K$13,11,FALSE),\"\")","v":""},{"$f":"IF(I1849<>0,VLOOKUP(J1849,A01A02!A:J,10,0),\"\")","v":""}]
[null,0,"","","","",{"$f":"IF(B1850<>0,VLOOKUP(C1850,A01A02!$A$3:$K$13,11,FALSE),\"\")","v":""},null,0,"","","","",{"$f":"IF(I1850<>0,VLOOKUP(J1850,A01A02!$A$3:$K$13,11,FALSE),\"\")","v":""},{"$f":"IF(I1850<>0,VLOOKUP(J1850,A01A02!A:J,10,0),\"\")","v":""}]
[null,0,"","","","",{"$f":"IF(B1851<>0,VLOOKUP(C1851,A01A02!$A$3:$K$13,11,FALSE),\"\")","v":""},null,0,"","","","",{"$f":"IF(I1851<>0,VLOOKUP(J1851,A01A02!$A$3:$K$13,11,FALSE),\"\")","v":""},{"$f":"IF(I1851<>0,VLOOKUP(J1851,A01A02!A:J,10,0),\"\")","v":""}]
[null,0,"","","","",{"$f":"IF(B1852<>0,VLOOKUP(C1852,A01A02!$A$3:$K$13,11,FALSE),\"\")","v":""},null,0,"","","","",{"$f":"IF(I1852<>0,VLOOKUP(J1852,A01A02!$A$3:$K$13,11,FALSE),\"\")","v":""},{"$f":"IF(I1852<>0,VLOOKUP(J1852,A01A02!A:J,10,0),\"\")","v":""}]
[null,0,"","","","",{"$f":"IF(B1853<>0,VLOOKUP(C1853,A01A02!$A$3:$K$13,11,FALSE),\"\")","v":""},null,0,"","","","",{"$f":"IF(I1853<>0,VLOOKUP(J1853,A01A02!$A$3:$K$13,11,FALSE),\"\")","v":""},{"$f":"IF(I1853<>0,VLOOKUP(J1853,A01A02!A:J,10,0),\"\")","v":""}]
[null,0,"","","","",{"$f":"IF(B1854<>0,VLOOKUP(C1854,A01A02!$A$3:$K$13,11,FALSE),\"\")","v":""},null,0,"","","","",{"$f":"IF(I1854<>0,VLOOKUP(J1854,A01A02!$A$3:$K$13,11,FALSE),\"\")","v":""},{"$f":"IF(I1854<>0,VLOOKUP(J1854,A01A02!A:J,10,0),\"\")","v":""}]
[null,0,"","","","",{"$f":"IF(B1855<>0,VLOOKUP(C1855,A01A02!$A$3:$K$13,11,FALSE),\"\")","v":""},null,0,"","","","",{"$f":"IF(I1855<>0,VLOOKUP(J1855,A01A02!$A$3:$K$13,11,FALSE),\"\")","v":""},{"$f":"IF(I1855<>0,VLOOKUP(J1855,A01A02!A:J,10,0),\"\")","v":""}]
[null,0,"","","","",{"$f":"IF(B1856<>0,VLOOKUP(C1856,A01A02!$A$3:$K$13,11,FALSE),\"\")","v":""},null,0,"","","","",{"$f":"IF(I1856<>0,VLOOKUP(J1856,A01A02!$A$3:$K$13,11,FALSE),\"\")","v":""},{"$f":"IF(I1856<>0,VLOOKUP(J1856,A01A02!A:J,10,0),\"\")","v":""}]
[null,0,"","","","",{"$f":"IF(B1857<>0,VLOOKUP(C1857,A01A02!$A$3:$K$13,11,FALSE),\"\")","v":""},null,0,"","","","",{"$f":"IF(I1857<>0,VLOOKUP(J1857,A01A02!$A$3:$K$13,11,FALSE),\"\")","v":""},{"$f":"IF(I1857<>0,VLOOKUP(J1857,A01A02!A:J,10,0),\"\")","v":""}]
[null,0,"","","","",{"$f":"IF(B1858<>0,VLOOKUP(C1858,A01A02!$A$3:$K$13,11,FALSE),\"\")","v":""},null,0,"","","","",{"$f":"IF(I1858<>0,VLOOKUP(J1858,A01A02!$A$3:$K$13,11,FALSE),\"\")","v":""},{"$f":"IF(I1858<>0,VLOOKUP(J1858,A01A02!A:J,10,0),\"\")","v":""}]
[null,{"$f":"IF(A1859<>\"\",xycall(A1859),0)","v":0},"","","","",{"$f":"IF(B1859<>0,VLOOKUP(C1859,A01A02!$A$3:$K$13,11,FALSE),\"\")","v":""},null,0,"","","","",{"$f":"IF(I1859<>0,VLOOKUP(J1859,A01A02!$A$3:$K$13,11,FALSE),\"\")","v":""},{"$f":"IF(I1859<>0,VLOOKUP(J1859,A01A02!A:J,10,0),\"\")","v":""}]
[null,0,"","","","",{"$f":"IF(B1860<>0,VLOOKUP(C1860,A01A02!$A$3:$K$13,11,FALSE),\"\")","v":""},null,0,"","","","",{"$f":"IF(I1860<>0,VLOOKUP(J1860,A01A02!$A$3:$K$13,11,FALSE),\"\")","v":""},{"$f":"IF(I1860<>0,VLOOKUP(J1860,A01A02!A:J,10,0),\"\")","v":""}]
[null,0,"","","","",{"$f":"IF(B1861<>0,VLOOKUP(C1861,A01A02!$A$3:$K$13,11,FALSE),\"\")","v":""},null,0,"","","","",{"$f":"IF(I1861<>0,VLOOKUP(J1861,A01A02!$A$3:$K$13,11,FALSE),\"\")","v":""},{"$f":"IF(I1861<>0,VLOOKUP(J1861,A01A02!A:J,10,0),\"\")","v":""}]
[null,0,"","","","",{"$f":"IF(B1862<>0,VLOOKUP(C1862,A01A02!$A$3:$K$13,11,FALSE),\"\")","v":""},null,0,"","","","",{"$f":"IF(I1862<>0,VLOOKUP(J1862,A01A02!$A$3:$K$13,11,FALSE),\"\")","v":""},{"$f":"IF(I1862<>0,VLOOKUP(J1862,A01A02!A:J,10,0),\"\")","v":""}]
[null,0,"","","","",{"$f":"IF(B1863<>0,VLOOKUP(C1863,A01A02!$A$3:$K$13,11,FALSE),\"\")","v":""},null,0,"","","","",{"$f":"IF(I1863<>0,VLOOKUP(J1863,A01A02!$A$3:$K$13,11,FALSE),\"\")","v":""},{"$f":"IF(I1863<>0,VLOOKUP(J1863,A01A02!A:J,10,0),\"\")","v":""}]
[null,0,"","","","",{"$f":"IF(B1864<>0,VLOOKUP(C1864,A01A02!$A$3:$K$13,11,FALSE),\"\")","v":""},null,0,"","","","",{"$f":"IF(I1864<>0,VLOOKUP(J1864,A01A02!$A$3:$K$13,11,FALSE),\"\")","v":""},{"$f":"IF(I1864<>0,VLOOKUP(J1864,A01A02!A:J,10,0),\"\")","v":""}]
[null,0,"","","","",{"$f":"IF(B1865<>0,VLOOKUP(C1865,A01A02!$A$3:$K$13,11,FALSE),\"\")","v":""},null,0,"","","","",{"$f":"IF(I1865<>0,VLOOKUP(J1865,A01A02!$A$3:$K$13,11,FALSE),\"\")","v":""},{"$f":"IF(I1865<>0,VLOOKUP(J1865,A01A02!A:J,10,0),\"\")","v":""}]
[null,0,"","","","",{"$f":"IF(B1866<>0,VLOOKUP(C1866,A01A02!$A$3:$K$13,11,FALSE),\"\")","v":""},null,0,"","","","",{"$f":"IF(I1866<>0,VLOOKUP(J1866,A01A02!$A$3:$K$13,11,FALSE),\"\")","v":""},{"$f":"IF(I1866<>0,VLOOKUP(J1866,A01A02!A:J,10,0),\"\")","v":""}]
[null,0,"","","","",{"$f":"IF(B1867<>0,VLOOKUP(C1867,A01A02!$A$3:$K$13,11,FALSE),\"\")","v":""},null,0,"","","","",{"$f":"IF(I1867<>0,VLOOKUP(J1867,A01A02!$A$3:$K$13,11,FALSE),\"\")","v":""},{"$f":"IF(I1867<>0,VLOOKUP(J1867,A01A02!A:J,10,0),\"\")","v":""}]
[null,0,"","","","",{"$f":"IF(B1868<>0,VLOOKUP(C1868,A01A02!$A$3:$K$13,11,FALSE),\"\")","v":""},null,0,"","","","",{"$f":"IF(I1868<>0,VLOOKUP(J1868,A01A02!$A$3:$K$13,11,FALSE),\"\")","v":""},{"$f":"IF(I1868<>0,VLOOKUP(J1868,A01A02!A:J,10,0),\"\")","v":""}]
[null,0,"","","","",{"$f":"IF(B1869<>0,VLOOKUP(C1869,A01A02!$A$3:$K$13,11,FALSE),\"\")","v":""},null,0,"","","","",{"$f":"IF(I1869<>0,VLOOKUP(J1869,A01A02!$A$3:$K$13,11,FALSE),\"\")","v":""},{"$f":"IF(I1869<>0,VLOOKUP(J1869,A01A02!A:J,10,0),\"\")","v":""}]
[null,0,"","","","",{"$f":"IF(B1870<>0,VLOOKUP(C1870,A01A02!$A$3:$K$13,11,FALSE),\"\")","v":""},null,0,"","","","",{"$f":"IF(I1870<>0,VLOOKUP(J1870,A01A02!$A$3:$K$13,11,FALSE),\"\")","v":""},{"$f":"IF(I1870<>0,VLOOKUP(J1870,A01A02!A:J,10,0),\"\")","v":""}]
[null,0,"","","","",{"$f":"IF(B1871<>0,VLOOKUP(C1871,A01A02!$A$3:$K$13,11,FALSE),\"\")","v":""},null,0,"","","","",{"$f":"IF(I1871<>0,VLOOKUP(J1871,A01A02!$A$3:$K$13,11,FALSE),\"\")","v":""},{"$f":"IF(I1871<>0,VLOOKUP(J1871,A01A02!A:J,10,0),\"\")","v":""}]
[null,0,"","","","",{"$f":"IF(B1872<>0,VLOOKUP(C1872,A01A02!$A$3:$K$13,11,FALSE),\"\")","v":""},null,0,"","","","",{"$f":"IF(I1872<>0,VLOOKUP(J1872,A01A02!$A$3:$K$13,11,FALSE),\"\")","v":""},{"$f":"IF(I1872<>0,VLOOKUP(J1872,A01A02!A:J,10,0),\"\")","v":""}]
[null,0,"","","","",{"$f":"IF(B1873<>0,VLOOKUP(C1873,A01A02!$A$3:$K$13,11,FALSE),\"\")","v":""},null,0,"","","","",{"$f":"IF(I1873<>0,VLOOKUP(J1873,A01A02!$A$3:$K$13,11,FALSE),\"\")","v":""},{"$f":"IF(I1873<>0,VLOOKUP(J1873,A01A02!A:J,10,0),\"\")","v":""}]
[null,0,"","","","",{"$f":"IF(B1874<>0,VLOOKUP(C1874,A01A02!$A$3:$K$13,11,FALSE),\"\")","v":""},null,0,"","","","",{"$f":"IF(I1874<>0,VLOOKUP(J1874,A01A02!$A$3:$K$13,11,FALSE),\"\")","v":""},{"$f":"IF(I1874<>0,VLOOKUP(J1874,A01A02!A:J,10,0),\"\")","v":""}]
[null,0,"","","","",{"$f":"IF(B1875<>0,VLOOKUP(C1875,A01A02!$A$3:$K$13,11,FALSE),\"\")","v":""},null,0,"","","","",{"$f":"IF(I1875<>0,VLOOKUP(J1875,A01A02!$A$3:$K$13,11,FALSE),\"\")","v":""},{"$f":"IF(I1875<>0,VLOOKUP(J1875,A01A02!A:J,10,0),\"\")","v":""}]
[null,0,"","","","",{"$f":"IF(B1876<>0,VLOOKUP(C1876,A01A02!$A$3:$K$13,11,FALSE),\"\")","v":""},null,0,"","","","",{"$f":"IF(I1876<>0,VLOOKUP(J1876,A01A02!$A$3:$K$13,11,FALSE),\"\")","v":""},{"$f":"IF(I1876<>0,VLOOKUP(J1876,A01A02!A:J,10,0),\"\")","v":""}]
[null,0,"","","","",{"$f":"IF(B1877<>0,VLOOKUP(C1877,A01A02!$A$3:$K$13,11,FALSE),\"\")","v":""},null,0,"","","","",{"$f":"IF(I1877<>0,VLOOKUP(J1877,A01A02!$A$3:$K$13,11,FALSE),\"\")","v":""},{"$f":"IF(I1877<>0,VLOOKUP(J1877,A01A02!A:J,10,0),\"\")","v":""}]
[null,0,"","","","",{"$f":"IF(B1878<>0,VLOOKUP(C1878,A01A02!$A$3:$K$13,11,FALSE),\"\")","v":""},null,0,"","","","",{"$f":"IF(I1878<>0,VLOOKUP(J1878,A01A02!$A$3:$K$13,11,FALSE),\"\")","v":""},{"$f":"IF(I1878<>0,VLOOKUP(J1878,A01A02!A:J,10,0),\"\")","v":""}]
[null,0,"","","","",{"$f":"IF(B1879<>0,VLOOKUP(C1879,A01A02!$A$3:$K$13,11,FALSE),\"\")","v":""},null,0,"","","","",{"$f":"IF(I1879<>0,VLOOKUP(J1879,A01A02!$A$3:$K$13,11,FALSE),\"\")","v":""},{"$f":"IF(I1879<>0,VLOOKUP(J1879,A01A02!A:J,10,0),\"\")","v":""}]
[null,0,"","","","",{"$f":"IF(B1880<>0,VLOOKUP(C1880,A01A02!$A$3:$K$13,11,FALSE),\"\")","v":""},null,0,"","","","",{"$f":"IF(I1880<>0,VLOOKUP(J1880,A01A02!$A$3:$K$13,11,FALSE),\"\")","v":""},{"$f":"IF(I1880<>0,VLOOKUP(J1880,A01A02!A:J,10,0),\"\")","v":""}]
[null,0,"","","","",{"$f":"IF(B1881<>0,VLOOKUP(C1881,A01A02!$A$3:$K$13,11,FALSE),\"\")","v":""},null,0,"","","","",{"$f":"IF(I1881<>0,VLOOKUP(J1881,A01A02!$A$3:$K$13,11,FALSE),\"\")","v":""},{"$f":"IF(I1881<>0,VLOOKUP(J1881,A01A02!A:J,10,0),\"\")","v":""}]
[null,0,"","","","",{"$f":"IF(B1882<>0,VLOOKUP(C1882,A01A02!$A$3:$K$13,11,FALSE),\"\")","v":""},null,0,"","","","",{"$f":"IF(I1882<>0,VLOOKUP(J1882,A01A02!$A$3:$K$13,11,FALSE),\"\")","v":""},{"$f":"IF(I1882<>0,VLOOKUP(J1882,A01A02!A:J,10,0),\"\")","v":""}]
[null,0,"","","","",{"$f":"IF(B1883<>0,VLOOKUP(C1883,A01A02!$A$3:$K$13,11,FALSE),\"\")","v":""},null,0,"","","","",{"$f":"IF(I1883<>0,VLOOKUP(J1883,A01A02!$A$3:$K$13,11,FALSE),\"\")","v":""},{"$f":"IF(I1883<>0,VLOOKUP(J1883,A01A02!A:J,10,0),\"\")","v":""}]
[null,0,"","","","",{"$f":"IF(B1884<>0,VLOOKUP(C1884,A01A02!$A$3:$K$13,11,FALSE),\"\")","v":""},null,0,"","","","",{"$f":"IF(I1884<>0,VLOOKUP(J1884,A01A02!$A$3:$K$13,11,FALSE),\"\")","v":""},{"$f":"IF(I1884<>0,VLOOKUP(J1884,A01A02!A:J,10,0),\"\")","v":""}]
[null,0,"","","","",{"$f":"IF(B1885<>0,VLOOKUP(C1885,A01A02!$A$3:$K$13,11,FALSE),\"\")","v":""},null,0,"","","","",{"$f":"IF(I1885<>0,VLOOKUP(J1885,A01A02!$A$3:$K$13,11,FALSE),\"\")","v":""},{"$f":"IF(I1885<>0,VLOOKUP(J1885,A01A02!A:J,10,0),\"\")","v":""}]
[null,0,"","","","",{"$f":"IF(B1886<>0,VLOOKUP(C1886,A01A02!$A$3:$K$13,11,FALSE),\"\")","v":""},null,0,"","","","",{"$f":"IF(I1886<>0,VLOOKUP(J1886,A01A02!$A$3:$K$13,11,FALSE),\"\")","v":""},{"$f":"IF(I1886<>0,VLOOKUP(J1886,A01A02!A:J,10,0),\"\")","v":""}]
[null,0,"","","","",{"$f":"IF(B1887<>0,VLOOKUP(C1887,A01A02!$A$3:$K$13,11,FALSE),\"\")","v":""},null,0,"","","","",{"$f":"IF(I1887<>0,VLOOKUP(J1887,A01A02!$A$3:$K$13,11,FALSE),\"\")","v":""},{"$f":"IF(I1887<>0,VLOOKUP(J1887,A01A02!A:J,10,0),\"\")","v":""}]
[null,0,"","","","",{"$f":"IF(B1888<>0,VLOOKUP(C1888,A01A02!$A$3:$K$13,11,FALSE),\"\")","v":""},null,0,"","","","",{"$f":"IF(I1888<>0,VLOOKUP(J1888,A01A02!$A$3:$K$13,11,FALSE),\"\")","v":""},{"$f":"IF(I1888<>0,VLOOKUP(J1888,A01A02!A:J,10,0),\"\")","v":""}]
[null,0,"","","","",{"$f":"IF(B1889<>0,VLOOKUP(C1889,A01A02!$A$3:$K$13,11,FALSE),\"\")","v":""},null,0,"","","","",{"$f":"IF(I1889<>0,VLOOKUP(J1889,A01A02!$A$3:$K$13,11,FALSE),\"\")","v":""},{"$f":"IF(I1889<>0,VLOOKUP(J1889,A01A02!A:J,10,0),\"\")","v":""}]
[null,0,"","","","",{"$f":"IF(B1890<>0,VLOOKUP(C1890,A01A02!$A$3:$K$13,11,FALSE),\"\")","v":""},null,0,"","","","",{"$f":"IF(I1890<>0,VLOOKUP(J1890,A01A02!$A$3:$K$13,11,FALSE),\"\")","v":""},{"$f":"IF(I1890<>0,VLOOKUP(J1890,A01A02!A:J,10,0),\"\")","v":""}]
[null,0,"","","","",{"$f":"IF(B1891<>0,VLOOKUP(C1891,A01A02!$A$3:$K$13,11,FALSE),\"\")","v":""},null,0,"","","","",{"$f":"IF(I1891<>0,VLOOKUP(J1891,A01A02!$A$3:$K$13,11,FALSE),\"\")","v":""},{"$f":"IF(I1891<>0,VLOOKUP(J1891,A01A02!A:J,10,0),\"\")","v":""}]
[null,0,"","","","",{"$f":"IF(B1892<>0,VLOOKUP(C1892,A01A02!$A$3:$K$13,11,FALSE),\"\")","v":""},null,0,"","","","",{"$f":"IF(I1892<>0,VLOOKUP(J1892,A01A02!$A$3:$K$13,11,FALSE),\"\")","v":""},{"$f":"IF(I1892<>0,VLOOKUP(J1892,A01A02!A:J,10,0),\"\")","v":""}]
[null,0,"","","","",{"$f":"IF(B1893<>0,VLOOKUP(C1893,A01A02!$A$3:$K$13,11,FALSE),\"\")","v":""},null,0,"","","","",{"$f":"IF(I1893<>0,VLOOKUP(J1893,A01A02!$A$3:$K$13,11,FALSE),\"\")","v":""},{"$f":"IF(I1893<>0,VLOOKUP(J1893,A01A02!A:J,10,0),\"\")","v":""}]
[null,0,"","","","",{"$f":"IF(B1894<>0,VLOOKUP(C1894,A01A02!$A$3:$K$13,11,FALSE),\"\")","v":""},null,0,"","","","",{"$f":"IF(I1894<>0,VLOOKUP(J1894,A01A02!$A$3:$K$13,11,FALSE),\"\")","v":""},{"$f":"IF(I1894<>0,VLOOKUP(J1894,A01A02!A:J,10,0),\"\")","v":""}]
[null,0,"","","","",{"$f":"IF(B1895<>0,VLOOKUP(C1895,A01A02!$A$3:$K$13,11,FALSE),\"\")","v":""},null,0,"","","","",{"$f":"IF(I1895<>0,VLOOKUP(J1895,A01A02!$A$3:$K$13,11,FALSE),\"\")","v":""},{"$f":"IF(I1895<>0,VLOOKUP(J1895,A01A02!A:J,10,0),\"\")","v":""}]
[null,0,"","","","",{"$f":"IF(B1896<>0,VLOOKUP(C1896,A01A02!$A$3:$K$13,11,FALSE),\"\")","v":""},null,0,"","","","",{"$f":"IF(I1896<>0,VLOOKUP(J1896,A01A02!$A$3:$K$13,11,FALSE),\"\")","v":""},{"$f":"IF(I1896<>0,VLOOKUP(J1896,A01A02!A:J,10,0),\"\")","v":""}]
[null,0,"","","","",{"$f":"IF(B1897<>0,VLOOKUP(C1897,A01A02!$A$3:$K$13,11,FALSE),\"\")","v":""},null,0,"","","","",{"$f":"IF(I1897<>0,VLOOKUP(J1897,A01A02!$A$3:$K$13,11,FALSE),\"\")","v":""},{"$f":"IF(I1897<>0,VLOOKUP(J1897,A01A02!A:J,10,0),\"\")","v":""}]
[null,0,"","","","",{"$f":"IF(B1898<>0,VLOOKUP(C1898,A01A02!$A$3:$K$13,11,FALSE),\"\")","v":""},null,0,"","","","",{"$f":"IF(I1898<>0,VLOOKUP(J1898,A01A02!$A$3:$K$13,11,FALSE),\"\")","v":""},{"$f":"IF(I1898<>0,VLOOKUP(J1898,A01A02!A:J,10,0),\"\")","v":""}]
[null,0,{"$f":"IF(B1899<>0,znoget(B1899),\"\")","v":""},{"$f":"IF(B1899<>0,znaget(B1899),\"\")","v":""},{"$f":"IF(B1899<>0,xget(B1899),\"\")","v":""},{"$f":"IF(B1899<>0,yget(B1899),\"\")","v":""},{"$f":"IF(B1899<>0,VLOOKUP(C1899,A01A02!$A$3:$K$13,11,FALSE),\"\")","v":""},null,{"$f":"IF(H1899<>\"\",xycall(H1899),0)","v":0},{"$f":"IF(I1899<>0,znoget(I1899),\"\")","v":""},{"$f":"IF(I1899<>0,znaget(I1899),\"\")","v":""},{"$f":"IF(I1899<>0,xget(I1899),\"\")","v":""},{"$f":"IF(I1899<>0,yget(I1899),\"\")","v":""},{"$f":"IF(I1899<>0,VLOOKUP(J1899,A01A02!$A$3:$K$13,11,FALSE),\"\")","v":""},{"$f":"IF(I1899<>0,VLOOKUP(J1899,A01A02!A:J,10,0),\"\")","v":""}]
[null,0,"","","","",{"$f":"IF(B1900<>0,VLOOKUP(C1900,A01A02!$A$3:$K$13,11,FALSE),\"\")","v":""},null,0,"","","","",{"$f":"IF(I1900<>0,VLOOKUP(J1900,A01A02!$A$3:$K$13,11,FALSE),\"\")","v":""},{"$f":"IF(I1900<>0,VLOOKUP(J1900,A01A02!A:J,10,0),\"\")","v":""}]
[null,0,"","","","",{"$f":"IF(B1901<>0,VLOOKUP(C1901,A01A02!$A$3:$K$13,11,FALSE),\"\")","v":""},null,0,"","","","",{"$f":"IF(I1901<>0,VLOOKUP(J1901,A01A02!$A$3:$K$13,11,FALSE),\"\")","v":""},{"$f":"IF(I1901<>0,VLOOKUP(J1901,A01A02!A:J,10,0),\"\")","v":""}]
[null,0,"","","","",{"$f":"IF(B1902<>0,VLOOKUP(C1902,A01A02!$A$3:$K$13,11,FALSE),\"\")","v":""},null,0,"","","","",{"$f":"IF(I1902<>0,VLOOKUP(J1902,A01A02!$A$3:$K$13,11,FALSE),\"\")","v":""},{"$f":"IF(I1902<>0,VLOOKUP(J1902,A01A02!A:J,10,0),\"\")","v":""}]
[null,0,"","","","",{"$f":"IF(B1903<>0,VLOOKUP(C1903,A01A02!$A$3:$K$13,11,FALSE),\"\")","v":""},null,0,"","","","",{"$f":"IF(I1903<>0,VLOOKUP(J1903,A01A02!$A$3:$K$13,11,FALSE),\"\")","v":""},{"$f":"IF(I1903<>0,VLOOKUP(J1903,A01A02!A:J,10,0),\"\")","v":""}]
[null,0,"","","","",{"$f":"IF(B1904<>0,VLOOKUP(C1904,A01A02!$A$3:$K$13,11,FALSE),\"\")","v":""},null,0,"","","","",{"$f":"IF(I1904<>0,VLOOKUP(J1904,A01A02!$A$3:$K$13,11,FALSE),\"\")","v":""},{"$f":"IF(I1904<>0,VLOOKUP(J1904,A01A02!A:J,10,0),\"\")","v":""}]
[null,0,"","","","",{"$f":"IF(B1905<>0,VLOOKUP(C1905,A01A02!$A$3:$K$13,11,FALSE),\"\")","v":""},null,0,"","","","",{"$f":"IF(I1905<>0,VLOOKUP(J1905,A01A02!$A$3:$K$13,11,FALSE),\"\")","v":""},{"$f":"IF(I1905<>0,VLOOKUP(J1905,A01A02!A:J,10,0),\"\")","v":""}]
[null,0,"","","","",{"$f":"IF(B1906<>0,VLOOKUP(C1906,A01A02!$A$3:$K$13,11,FALSE),\"\")","v":""},null,0,"","","","",{"$f":"IF(I1906<>0,VLOOKUP(J1906,A01A02!$A$3:$K$13,11,FALSE),\"\")","v":""},{"$f":"IF(I1906<>0,VLOOKUP(J1906,A01A02!A:J,10,0),\"\")","v":""}]
[null,0,"","","","",{"$f":"IF(B1907<>0,VLOOKUP(C1907,A01A02!$A$3:$K$13,11,FALSE),\"\")","v":""},null,0,"","","","",{"$f":"IF(I1907<>0,VLOOKUP(J1907,A01A02!$A$3:$K$13,11,FALSE),\"\")","v":""},{"$f":"IF(I1907<>0,VLOOKUP(J1907,A01A02!A:J,10,0),\"\")","v":""}]
[null,0,"","","","",{"$f":"IF(B1908<>0,VLOOKUP(C1908,A01A02!$A$3:$K$13,11,FALSE),\"\")","v":""},null,0,"","","","",{"$f":"IF(I1908<>0,VLOOKUP(J1908,A01A02!$A$3:$K$13,11,FALSE),\"\")","v":""},{"$f":"IF(I1908<>0,VLOOKUP(J1908,A01A02!A:J,10,0),\"\")","v":""}]
[null,0,"","","","",{"$f":"IF(B1909<>0,VLOOKUP(C1909,A01A02!$A$3:$K$13,11,FALSE),\"\")","v":""},null,0,"","","","",{"$f":"IF(I1909<>0,VLOOKUP(J1909,A01A02!$A$3:$K$13,11,FALSE),\"\")","v":""},{"$f":"IF(I1909<>0,VLOOKUP(J1909,A01A02!A:J,10,0),\"\")","v":""}]
[null,0,"","","","",{"$f":"IF(B1910<>0,VLOOKUP(C1910,A01A02!$A$3:$K$13,11,FALSE),\"\")","v":""},null,0,"","","","",{"$f":"IF(I1910<>0,VLOOKUP(J1910,A01A02!$A$3:$K$13,11,FALSE),\"\")","v":""},{"$f":"IF(I1910<>0,VLOOKUP(J1910,A01A02!A:J,10,0),\"\")","v":""}]
[null,0,"","","","",{"$f":"IF(B1911<>0,VLOOKUP(C1911,A01A02!$A$3:$K$13,11,FALSE),\"\")","v":""},null,0,"","","","",{"$f":"IF(I1911<>0,VLOOKUP(J1911,A01A02!$A$3:$K$13,11,FALSE),\"\")","v":""},{"$f":"IF(I1911<>0,VLOOKUP(J1911,A01A02!A:J,10,0),\"\")","v":""}]
[null,0,"","","","",{"$f":"IF(B1912<>0,VLOOKUP(C1912,A01A02!$A$3:$K$13,11,FALSE),\"\")","v":""},null,0,"","","","",{"$f":"IF(I1912<>0,VLOOKUP(J1912,A01A02!$A$3:$K$13,11,FALSE),\"\")","v":""},{"$f":"IF(I1912<>0,VLOOKUP(J1912,A01A02!A:J,10,0),\"\")","v":""}]
[null,0,"","","","",{"$f":"IF(B1913<>0,VLOOKUP(C1913,A01A02!$A$3:$K$13,11,FALSE),\"\")","v":""},null,0,"","","","",{"$f":"IF(I1913<>0,VLOOKUP(J1913,A01A02!$A$3:$K$13,11,FALSE),\"\")","v":""},{"$f":"IF(I1913<>0,VLOOKUP(J1913,A01A02!A:J,10,0),\"\")","v":""}]
[null,0,"","","","",{"$f":"IF(B1914<>0,VLOOKUP(C1914,A01A02!$A$3:$K$13,11,FALSE),\"\")","v":""},null,0,"","","","",{"$f":"IF(I1914<>0,VLOOKUP(J1914,A01A02!$A$3:$K$13,11,FALSE),\"\")","v":""},{"$f":"IF(I1914<>0,VLOOKUP(J1914,A01A02!A:J,10,0),\"\")","v":""}]
[null,0,"","","","",{"$f":"IF(B1915<>0,VLOOKUP(C1915,A01A02!$A$3:$K$13,11,FALSE),\"\")","v":""},null,0,"","","","",{"$f":"IF(I1915<>0,VLOOKUP(J1915,A01A02!$A$3:$K$13,11,FALSE),\"\")","v":""},{"$f":"IF(I1915<>0,VLOOKUP(J1915,A01A02!A:J,10,0),\"\")","v":""}]
[null,0,"","","","",{"$f":"IF(B1916<>0,VLOOKUP(C1916,A01A02!$A$3:$K$13,11,FALSE),\"\")","v":""},null,0,"","","","",{"$f":"IF(I1916<>0,VLOOKUP(J1916,A01A02!$A$3:$K$13,11,FALSE),\"\")","v":""},{"$f":"IF(I1916<>0,VLOOKUP(J1916,A01A02!A:J,10,0),\"\")","v":""}]
[null,0,"","","","",{"$f":"IF(B1917<>0,VLOOKUP(C1917,A01A02!$A$3:$K$13,11,FALSE),\"\")","v":""},null,0,"","","","",{"$f":"IF(I1917<>0,VLOOKUP(J1917,A01A02!$A$3:$K$13,11,FALSE),\"\")","v":""},{"$f":"IF(I1917<>0,VLOOKUP(J1917,A01A02!A:J,10,0),\"\")","v":""}]
[null,0,"","","","",{"$f":"IF(B1918<>0,VLOOKUP(C1918,A01A02!$A$3:$K$13,11,FALSE),\"\")","v":""},null,0,"","","","",{"$f":"IF(I1918<>0,VLOOKUP(J1918,A01A02!$A$3:$K$13,11,FALSE),\"\")","v":""},{"$f":"IF(I1918<>0,VLOOKUP(J1918,A01A02!A:J,10,0),\"\")","v":""}]
[null,0,"","","","",{"$f":"IF(B1919<>0,VLOOKUP(C1919,A01A02!$A$3:$K$13,11,FALSE),\"\")","v":""},null,0,"","","","",{"$f":"IF(I1919<>0,VLOOKUP(J1919,A01A02!$A$3:$K$13,11,FALSE),\"\")","v":""},{"$f":"IF(I1919<>0,VLOOKUP(J1919,A01A02!A:J,10,0),\"\")","v":""}]
[null,0,"","","","",{"$f":"IF(B1920<>0,VLOOKUP(C1920,A01A02!$A$3:$K$13,11,FALSE),\"\")","v":""},null,0,"","","","",{"$f":"IF(I1920<>0,VLOOKUP(J1920,A01A02!$A$3:$K$13,11,FALSE),\"\")","v":""},{"$f":"IF(I1920<>0,VLOOKUP(J1920,A01A02!A:J,10,0),\"\")","v":""}]
[null,0,"","","","",{"$f":"IF(B1921<>0,VLOOKUP(C1921,A01A02!$A$3:$K$13,11,FALSE),\"\")","v":""},null,0,"","","","",{"$f":"IF(I1921<>0,VLOOKUP(J1921,A01A02!$A$3:$K$13,11,FALSE),\"\")","v":""},{"$f":"IF(I1921<>0,VLOOKUP(J1921,A01A02!A:J,10,0),\"\")","v":""}]
[null,0,"","","","",{"$f":"IF(B1922<>0,VLOOKUP(C1922,A01A02!$A$3:$K$13,11,FALSE),\"\")","v":""},null,0,"","","","",{"$f":"IF(I1922<>0,VLOOKUP(J1922,A01A02!$A$3:$K$13,11,FALSE),\"\")","v":""},{"$f":"IF(I1922<>0,VLOOKUP(J1922,A01A02!A:J,10,0),\"\")","v":""}]
[null,{"$f":"IF(A1923<>\"\",xycall(A1923),0)","v":0},"","","","",{"$f":"IF(B1923<>0,VLOOKUP(C1923,A01A02!$A$3:$K$13,11,FALSE),\"\")","v":""},null,0,"","","","",{"$f":"IF(I1923<>0,VLOOKUP(J1923,A01A02!$A$3:$K$13,11,FALSE),\"\")","v":""},{"$f":"IF(I1923<>0,VLOOKUP(J1923,A01A02!A:J,10,0),\"\")","v":""}]
[null,0,"","","","",{"$f":"IF(B1924<>0,VLOOKUP(C1924,A01A02!$A$3:$K$13,11,FALSE),\"\")","v":""},null,0,"","","","",{"$f":"IF(I1924<>0,VLOOKUP(J1924,A01A02!$A$3:$K$13,11,FALSE),\"\")","v":""},{"$f":"IF(I1924<>0,VLOOKUP(J1924,A01A02!A:J,10,0),\"\")","v":""}]
[null,0,"","","","",{"$f":"IF(B1925<>0,VLOOKUP(C1925,A01A02!$A$3:$K$13,11,FALSE),\"\")","v":""},null,0,"","","","",{"$f":"IF(I1925<>0,VLOOKUP(J1925,A01A02!$A$3:$K$13,11,FALSE),\"\")","v":""},{"$f":"IF(I1925<>0,VLOOKUP(J1925,A01A02!A:J,10,0),\"\")","v":""}]
[null,0,"","","","",{"$f":"IF(B1926<>0,VLOOKUP(C1926,A01A02!$A$3:$K$13,11,FALSE),\"\")","v":""},null,0,"","","","",{"$f":"IF(I1926<>0,VLOOKUP(J1926,A01A02!$A$3:$K$13,11,FALSE),\"\")","v":""},{"$f":"IF(I1926<>0,VLOOKUP(J1926,A01A02!A:J,10,0),\"\")","v":""}]
[null,0,"","","","",{"$f":"IF(B1927<>0,VLOOKUP(C1927,A01A02!$A$3:$K$13,11,FALSE),\"\")","v":""},null,0,"","","","",{"$f":"IF(I1927<>0,VLOOKUP(J1927,A01A02!$A$3:$K$13,11,FALSE),\"\")","v":""},{"$f":"IF(I1927<>0,VLOOKUP(J1927,A01A02!A:J,10,0),\"\")","v":""}]
[null,0,"","","","",{"$f":"IF(B1928<>0,VLOOKUP(C1928,A01A02!$A$3:$K$13,11,FALSE),\"\")","v":""},null,0,"","","","",{"$f":"IF(I1928<>0,VLOOKUP(J1928,A01A02!$A$3:$K$13,11,FALSE),\"\")","v":""},{"$f":"IF(I1928<>0,VLOOKUP(J1928,A01A02!A:J,10,0),\"\")","v":""}]
[null,0,"","","","",{"$f":"IF(B1929<>0,VLOOKUP(C1929,A01A02!$A$3:$K$13,11,FALSE),\"\")","v":""},null,0,"","","","",{"$f":"IF(I1929<>0,VLOOKUP(J1929,A01A02!$A$3:$K$13,11,FALSE),\"\")","v":""},{"$f":"IF(I1929<>0,VLOOKUP(J1929,A01A02!A:J,10,0),\"\")","v":""}]
[null,0,"","","","",{"$f":"IF(B1930<>0,VLOOKUP(C1930,A01A02!$A$3:$K$13,11,FALSE),\"\")","v":""},null,0,"","","","",{"$f":"IF(I1930<>0,VLOOKUP(J1930,A01A02!$A$3:$K$13,11,FALSE),\"\")","v":""},{"$f":"IF(I1930<>0,VLOOKUP(J1930,A01A02!A:J,10,0),\"\")","v":""}]
[null,0,"","","","",{"$f":"IF(B1931<>0,VLOOKUP(C1931,A01A02!$A$3:$K$13,11,FALSE),\"\")","v":""},null,0,"","","","",{"$f":"IF(I1931<>0,VLOOKUP(J1931,A01A02!$A$3:$K$13,11,FALSE),\"\")","v":""},{"$f":"IF(I1931<>0,VLOOKUP(J1931,A01A02!A:J,10,0),\"\")","v":""}]
[null,0,"","","","",{"$f":"IF(B1932<>0,VLOOKUP(C1932,A01A02!$A$3:$K$13,11,FALSE),\"\")","v":""},null,0,"","","","",{"$f":"IF(I1932<>0,VLOOKUP(J1932,A01A02!$A$3:$K$13,11,FALSE),\"\")","v":""},{"$f":"IF(I1932<>0,VLOOKUP(J1932,A01A02!A:J,10,0),\"\")","v":""}]
[null,0,"","","","",{"$f":"IF(B1933<>0,VLOOKUP(C1933,A01A02!$A$3:$K$13,11,FALSE),\"\")","v":""},null,0,"","","","",{"$f":"IF(I1933<>0,VLOOKUP(J1933,A01A02!$A$3:$K$13,11,FALSE),\"\")","v":""},{"$f":"IF(I1933<>0,VLOOKUP(J1933,A01A02!A:J,10,0),\"\")","v":""}]
[null,0,"","","","",{"$f":"IF(B1934<>0,VLOOKUP(C1934,A01A02!$A$3:$K$13,11,FALSE),\"\")","v":""},null,0,"","","","",{"$f":"IF(I1934<>0,VLOOKUP(J1934,A01A02!$A$3:$K$13,11,FALSE),\"\")","v":""},{"$f":"IF(I1934<>0,VLOOKUP(J1934,A01A02!A:J,10,0),\"\")","v":""}]
[null,0,"","","","",{"$f":"IF(B1935<>0,VLOOKUP(C1935,A01A02!$A$3:$K$13,11,FALSE),\"\")","v":""},null,0,"","","","",{"$f":"IF(I1935<>0,VLOOKUP(J1935,A01A02!$A$3:$K$13,11,FALSE),\"\")","v":""},{"$f":"IF(I1935<>0,VLOOKUP(J1935,A01A02!A:J,10,0),\"\")","v":""}]
[null,0,"","","","",{"$f":"IF(B1936<>0,VLOOKUP(C1936,A01A02!$A$3:$K$13,11,FALSE),\"\")","v":""},null,0,"","","","",{"$f":"IF(I1936<>0,VLOOKUP(J1936,A01A02!$A$3:$K$13,11,FALSE),\"\")","v":""},{"$f":"IF(I1936<>0,VLOOKUP(J1936,A01A02!A:J,10,0),\"\")","v":""}]
[null,0,"","","","",{"$f":"IF(B1937<>0,VLOOKUP(C1937,A01A02!$A$3:$K$13,11,FALSE),\"\")","v":""},null,0,"","","","",{"$f":"IF(I1937<>0,VLOOKUP(J1937,A01A02!$A$3:$K$13,11,FALSE),\"\")","v":""},{"$f":"IF(I1937<>0,VLOOKUP(J1937,A01A02!A:J,10,0),\"\")","v":""}]
[null,0,"","","","",{"$f":"IF(B1938<>0,VLOOKUP(C1938,A01A02!$A$3:$K$13,11,FALSE),\"\")","v":""},null,0,"","","","",{"$f":"IF(I1938<>0,VLOOKUP(J1938,A01A02!$A$3:$K$13,11,FALSE),\"\")","v":""},{"$f":"IF(I1938<>0,VLOOKUP(J1938,A01A02!A:J,10,0),\"\")","v":""}]
[null,0,"","","","",{"$f":"IF(B1939<>0,VLOOKUP(C1939,A01A02!$A$3:$K$13,11,FALSE),\"\")","v":""},null,0,"","","","",{"$f":"IF(I1939<>0,VLOOKUP(J1939,A01A02!$A$3:$K$13,11,FALSE),\"\")","v":""},{"$f":"IF(I1939<>0,VLOOKUP(J1939,A01A02!A:J,10,0),\"\")","v":""}]
[null,0,"","","","",{"$f":"IF(B1940<>0,VLOOKUP(C1940,A01A02!$A$3:$K$13,11,FALSE),\"\")","v":""},null,0,"","","","",{"$f":"IF(I1940<>0,VLOOKUP(J1940,A01A02!$A$3:$K$13,11,FALSE),\"\")","v":""},{"$f":"IF(I1940<>0,VLOOKUP(J1940,A01A02!A:J,10,0),\"\")","v":""}]
[null,0,"","","","",{"$f":"IF(B1941<>0,VLOOKUP(C1941,A01A02!$A$3:$K$13,11,FALSE),\"\")","v":""},null,0,"","","","",{"$f":"IF(I1941<>0,VLOOKUP(J1941,A01A02!$A$3:$K$13,11,FALSE),\"\")","v":""},{"$f":"IF(I1941<>0,VLOOKUP(J1941,A01A02!A:J,10,0),\"\")","v":""}]
[null,0,"","","","",{"$f":"IF(B1942<>0,VLOOKUP(C1942,A01A02!$A$3:$K$13,11,FALSE),\"\")","v":""},null,0,"","","","",{"$f":"IF(I1942<>0,VLOOKUP(J1942,A01A02!$A$3:$K$13,11,FALSE),\"\")","v":""},{"$f":"IF(I1942<>0,VLOOKUP(J1942,A01A02!A:J,10,0),\"\")","v":""}]
[null,0,"","","","",{"$f":"IF(B1943<>0,VLOOKUP(C1943,A01A02!$A$3:$K$13,11,FALSE),\"\")","v":""},null,0,"","","","",{"$f":"IF(I1943<>0,VLOOKUP(J1943,A01A02!$A$3:$K$13,11,FALSE),\"\")","v":""},{"$f":"IF(I1943<>0,VLOOKUP(J1943,A01A02!A:J,10,0),\"\")","v":""}]
[null,0,"","","","",{"$f":"IF(B1944<>0,VLOOKUP(C1944,A01A02!$A$3:$K$13,11,FALSE),\"\")","v":""},null,0,"","","","",{"$f":"IF(I1944<>0,VLOOKUP(J1944,A01A02!$A$3:$K$13,11,FALSE),\"\")","v":""},{"$f":"IF(I1944<>0,VLOOKUP(J1944,A01A02!A:J,10,0),\"\")","v":""}]
[null,0,"","","","",{"$f":"IF(B1945<>0,VLOOKUP(C1945,A01A02!$A$3:$K$13,11,FALSE),\"\")","v":""},null,0,"","","","",{"$f":"IF(I1945<>0,VLOOKUP(J1945,A01A02!$A$3:$K$13,11,FALSE),\"\")","v":""},{"$f":"IF(I1945<>0,VLOOKUP(J1945,A01A02!A:J,10,0),\"\")","v":""}]
[null,0,"","","","",{"$f":"IF(B1946<>0,VLOOKUP(C1946,A01A02!$A$3:$K$13,11,FALSE),\"\")","v":""},null,0,"","","","",{"$f":"IF(I1946<>0,VLOOKUP(J1946,A01A02!$A$3:$K$13,11,FALSE),\"\")","v":""},{"$f":"IF(I1946<>0,VLOOKUP(J1946,A01A02!A:J,10,0),\"\")","v":""}]
[null,0,"","","","",{"$f":"IF(B1947<>0,VLOOKUP(C1947,A01A02!$A$3:$K$13,11,FALSE),\"\")","v":""},null,0,"","","","",{"$f":"IF(I1947<>0,VLOOKUP(J1947,A01A02!$A$3:$K$13,11,FALSE),\"\")","v":""},{"$f":"IF(I1947<>0,VLOOKUP(J1947,A01A02!A:J,10,0),\"\")","v":""}]
[null,0,"","","","",{"$f":"IF(B1948<>0,VLOOKUP(C1948,A01A02!$A$3:$K$13,11,FALSE),\"\")","v":""},null,0,"","","","",{"$f":"IF(I1948<>0,VLOOKUP(J1948,A01A02!$A$3:$K$13,11,FALSE),\"\")","v":""},{"$f":"IF(I1948<>0,VLOOKUP(J1948,A01A02!A:J,10,0),\"\")","v":""}]
[null,0,"","","","",{"$f":"IF(B1949<>0,VLOOKUP(C1949,A01A02!$A$3:$K$13,11,FALSE),\"\")","v":""},null,0,"","","","",{"$f":"IF(I1949<>0,VLOOKUP(J1949,A01A02!$A$3:$K$13,11,FALSE),\"\")","v":""},{"$f":"IF(I1949<>0,VLOOKUP(J1949,A01A02!A:J,10,0),\"\")","v":""}]
[null,0,"","","","",{"$f":"IF(B1950<>0,VLOOKUP(C1950,A01A02!$A$3:$K$13,11,FALSE),\"\")","v":""},null,0,"","","","",{"$f":"IF(I1950<>0,VLOOKUP(J1950,A01A02!$A$3:$K$13,11,FALSE),\"\")","v":""},{"$f":"IF(I1950<>0,VLOOKUP(J1950,A01A02!A:J,10,0),\"\")","v":""}]
[null,0,"","","","",{"$f":"IF(B1951<>0,VLOOKUP(C1951,A01A02!$A$3:$K$13,11,FALSE),\"\")","v":""},null,0,"","","","",{"$f":"IF(I1951<>0,VLOOKUP(J1951,A01A02!$A$3:$K$13,11,FALSE),\"\")","v":""},{"$f":"IF(I1951<>0,VLOOKUP(J1951,A01A02!A:J,10,0),\"\")","v":""}]
[null,0,"","","","",{"$f":"IF(B1952<>0,VLOOKUP(C1952,A01A02!$A$3:$K$13,11,FALSE),\"\")","v":""},null,0,"","","","",{"$f":"IF(I1952<>0,VLOOKUP(J1952,A01A02!$A$3:$K$13,11,FALSE),\"\")","v":""},{"$f":"IF(I1952<>0,VLOOKUP(J1952,A01A02!A:J,10,0),\"\")","v":""}]
[null,0,"","","","",{"$f":"IF(B1953<>0,VLOOKUP(C1953,A01A02!$A$3:$K$13,11,FALSE),\"\")","v":""},null,0,"","","","",{"$f":"IF(I1953<>0,VLOOKUP(J1953,A01A02!$A$3:$K$13,11,FALSE),\"\")","v":""},{"$f":"IF(I1953<>0,VLOOKUP(J1953,A01A02!A:J,10,0),\"\")","v":""}]
[null,0,"","","","",{"$f":"IF(B1954<>0,VLOOKUP(C1954,A01A02!$A$3:$K$13,11,FALSE),\"\")","v":""},null,0,"","","","",{"$f":"IF(I1954<>0,VLOOKUP(J1954,A01A02!$A$3:$K$13,11,FALSE),\"\")","v":""},{"$f":"IF(I1954<>0,VLOOKUP(J1954,A01A02!A:J,10,0),\"\")","v":""}]
[null,0,"","","","",{"$f":"IF(B1955<>0,VLOOKUP(C1955,A01A02!$A$3:$K$13,11,FALSE),\"\")","v":""},null,0,"","","","",{"$f":"IF(I1955<>0,VLOOKUP(J1955,A01A02!$A$3:$K$13,11,FALSE),\"\")","v":""},{"$f":"IF(I1955<>0,VLOOKUP(J1955,A01A02!A:J,10,0),\"\")","v":""}]
[null,0,"","","","",{"$f":"IF(B1956<>0,VLOOKUP(C1956,A01A02!$A$3:$K$13,11,FALSE),\"\")","v":""},null,0,"","","","",{"$f":"IF(I1956<>0,VLOOKUP(J1956,A01A02!$A$3:$K$13,11,FALSE),\"\")","v":""},{"$f":"IF(I1956<>0,VLOOKUP(J1956,A01A02!A:J,10,0),\"\")","v":""}]
[null,0,"","","","",{"$f":"IF(B1957<>0,VLOOKUP(C1957,A01A02!$A$3:$K$13,11,FALSE),\"\")","v":""},null,0,"","","","",{"$f":"IF(I1957<>0,VLOOKUP(J1957,A01A02!$A$3:$K$13,11,FALSE),\"\")","v":""},{"$f":"IF(I1957<>0,VLOOKUP(J1957,A01A02!A:J,10,0),\"\")","v":""}]
[null,0,"","","","",{"$f":"IF(B1958<>0,VLOOKUP(C1958,A01A02!$A$3:$K$13,11,FALSE),\"\")","v":""},null,0,"","","","",{"$f":"IF(I1958<>0,VLOOKUP(J1958,A01A02!$A$3:$K$13,11,FALSE),\"\")","v":""},{"$f":"IF(I1958<>0,VLOOKUP(J1958,A01A02!A:J,10,0),\"\")","v":""}]
[null,0,"","","","",{"$f":"IF(B1959<>0,VLOOKUP(C1959,A01A02!$A$3:$K$13,11,FALSE),\"\")","v":""},null,0,"","","","",{"$f":"IF(I1959<>0,VLOOKUP(J1959,A01A02!$A$3:$K$13,11,FALSE),\"\")","v":""},{"$f":"IF(I1959<>0,VLOOKUP(J1959,A01A02!A:J,10,0),\"\")","v":""}]
[null,0,"","","","",{"$f":"IF(B1960<>0,VLOOKUP(C1960,A01A02!$A$3:$K$13,11,FALSE),\"\")","v":""},null,0,"","","","",{"$f":"IF(I1960<>0,VLOOKUP(J1960,A01A02!$A$3:$K$13,11,FALSE),\"\")","v":""},{"$f":"IF(I1960<>0,VLOOKUP(J1960,A01A02!A:J,10,0),\"\")","v":""}]
[null,0,"","","","",{"$f":"IF(B1961<>0,VLOOKUP(C1961,A01A02!$A$3:$K$13,11,FALSE),\"\")","v":""},null,0,"","","","",{"$f":"IF(I1961<>0,VLOOKUP(J1961,A01A02!$A$3:$K$13,11,FALSE),\"\")","v":""},{"$f":"IF(I1961<>0,VLOOKUP(J1961,A01A02!A:J,10,0),\"\")","v":""}]
[null,0,"","","","",{"$f":"IF(B1962<>0,VLOOKUP(C1962,A01A02!$A$3:$K$13,11,FALSE),\"\")","v":""},null,0,"","","","",{"$f":"IF(I1962<>0,VLOOKUP(J1962,A01A02!$A$3:$K$13,11,FALSE),\"\")","v":""},{"$f":"IF(I1962<>0,VLOOKUP(J1962,A01A02!A:J,10,0),\"\")","v":""}]
[null,0,{"$f":"IF(B1963<>0,znoget(B1963),\"\")","v":""},{"$f":"IF(B1963<>0,znaget(B1963),\"\")","v":""},{"$f":"IF(B1963<>0,xget(B1963),\"\")","v":""},{"$f":"IF(B1963<>0,yget(B1963),\"\")","v":""},{"$f":"IF(B1963<>0,VLOOKUP(C1963,A01A02!$A$3:$K$13,11,FALSE),\"\")","v":""},null,{"$f":"IF(H1963<>\"\",xycall(H1963),0)","v":0},{"$f":"IF(I1963<>0,znoget(I1963),\"\")","v":""},{"$f":"IF(I1963<>0,znaget(I1963),\"\")","v":""},{"$f":"IF(I1963<>0,xget(I1963),\"\")","v":""},{"$f":"IF(I1963<>0,yget(I1963),\"\")","v":""},{"$f":"IF(I1963<>0,VLOOKUP(J1963,A01A02!$A$3:$K$13,11,FALSE),\"\")","v":""},{"$f":"IF(I1963<>0,VLOOKUP(J1963,A01A02!A:J,10,0),\"\")","v":""}]
[null,0,"","","","",{"$f":"IF(B1964<>0,VLOOKUP(C1964,A01A02!$A$3:$K$13,11,FALSE),\"\")","v":""},null,0,"","","","",{"$f":"IF(I1964<>0,VLOOKUP(J1964,A01A02!$A$3:$K$13,11,FALSE),\"\")","v":""},{"$f":"IF(I1964<>0,VLOOKUP(J1964,A01A02!A:J,10,0),\"\")","v":""}]
[null,0,"","","","",{"$f":"IF(B1965<>0,VLOOKUP(C1965,A01A02!$A$3:$K$13,11,FALSE),\"\")","v":""},null,0,"","","","",{"$f":"IF(I1965<>0,VLOOKUP(J1965,A01A02!$A$3:$K$13,11,FALSE),\"\")","v":""},{"$f":"IF(I1965<>0,VLOOKUP(J1965,A01A02!A:J,10,0),\"\")","v":""}]
[null,0,"","","","",{"$f":"IF(B1966<>0,VLOOKUP(C1966,A01A02!$A$3:$K$13,11,FALSE),\"\")","v":""},null,0,"","","","",{"$f":"IF(I1966<>0,VLOOKUP(J1966,A01A02!$A$3:$K$13,11,FALSE),\"\")","v":""},{"$f":"IF(I1966<>0,VLOOKUP(J1966,A01A02!A:J,10,0),\"\")","v":""}]
[null,0,"","","","",{"$f":"IF(B1967<>0,VLOOKUP(C1967,A01A02!$A$3:$K$13,11,FALSE),\"\")","v":""},null,0,"","","","",{"$f":"IF(I1967<>0,VLOOKUP(J1967,A01A02!$A$3:$K$13,11,FALSE),\"\")","v":""},{"$f":"IF(I1967<>0,VLOOKUP(J1967,A01A02!A:J,10,0),\"\")","v":""}]
[null,0,"","","","",{"$f":"IF(B1968<>0,VLOOKUP(C1968,A01A02!$A$3:$K$13,11,FALSE),\"\")","v":""},null,0,"","","","",{"$f":"IF(I1968<>0,VLOOKUP(J1968,A01A02!$A$3:$K$13,11,FALSE),\"\")","v":""},{"$f":"IF(I1968<>0,VLOOKUP(J1968,A01A02!A:J,10,0),\"\")","v":""}]
[null,0,"","","","",{"$f":"IF(B1969<>0,VLOOKUP(C1969,A01A02!$A$3:$K$13,11,FALSE),\"\")","v":""},null,0,"","","","",{"$f":"IF(I1969<>0,VLOOKUP(J1969,A01A02!$A$3:$K$13,11,FALSE),\"\")","v":""},{"$f":"IF(I1969<>0,VLOOKUP(J1969,A01A02!A:J,10,0),\"\")","v":""}]
[null,0,"","","","",{"$f":"IF(B1970<>0,VLOOKUP(C1970,A01A02!$A$3:$K$13,11,FALSE),\"\")","v":""},null,0,"","","","",{"$f":"IF(I1970<>0,VLOOKUP(J1970,A01A02!$A$3:$K$13,11,FALSE),\"\")","v":""},{"$f":"IF(I1970<>0,VLOOKUP(J1970,A01A02!A:J,10,0),\"\")","v":""}]
[null,0,"","","","",{"$f":"IF(B1971<>0,VLOOKUP(C1971,A01A02!$A$3:$K$13,11,FALSE),\"\")","v":""},null,0,"","","","",{"$f":"IF(I1971<>0,VLOOKUP(J1971,A01A02!$A$3:$K$13,11,FALSE),\"\")","v":""},{"$f":"IF(I1971<>0,VLOOKUP(J1971,A01A02!A:J,10,0),\"\")","v":""}]
[null,0,"","","","",{"$f":"IF(B1972<>0,VLOOKUP(C1972,A01A02!$A$3:$K$13,11,FALSE),\"\")","v":""},null,0,"","","","",{"$f":"IF(I1972<>0,VLOOKUP(J1972,A01A02!$A$3:$K$13,11,FALSE),\"\")","v":""},{"$f":"IF(I1972<>0,VLOOKUP(J1972,A01A02!A:J,10,0),\"\")","v":""}]
[null,0,"","","","",{"$f":"IF(B1973<>0,VLOOKUP(C1973,A01A02!$A$3:$K$13,11,FALSE),\"\")","v":""},null,0,"","","","",{"$f":"IF(I1973<>0,VLOOKUP(J1973,A01A02!$A$3:$K$13,11,FALSE),\"\")","v":""},{"$f":"IF(I1973<>0,VLOOKUP(J1973,A01A02!A:J,10,0),\"\")","v":""}]
[null,0,"","","","",{"$f":"IF(B1974<>0,VLOOKUP(C1974,A01A02!$A$3:$K$13,11,FALSE),\"\")","v":""},null,0,"","","","",{"$f":"IF(I1974<>0,VLOOKUP(J1974,A01A02!$A$3:$K$13,11,FALSE),\"\")","v":""},{"$f":"IF(I1974<>0,VLOOKUP(J1974,A01A02!A:J,10,0),\"\")","v":""}]
[null,0,"","","","",{"$f":"IF(B1975<>0,VLOOKUP(C1975,A01A02!$A$3:$K$13,11,FALSE),\"\")","v":""},null,0,"","","","",{"$f":"IF(I1975<>0,VLOOKUP(J1975,A01A02!$A$3:$K$13,11,FALSE),\"\")","v":""},{"$f":"IF(I1975<>0,VLOOKUP(J1975,A01A02!A:J,10,0),\"\")","v":""}]
[null,0,"","","","",{"$f":"IF(B1976<>0,VLOOKUP(C1976,A01A02!$A$3:$K$13,11,FALSE),\"\")","v":""},null,0,"","","","",{"$f":"IF(I1976<>0,VLOOKUP(J1976,A01A02!$A$3:$K$13,11,FALSE),\"\")","v":""},{"$f":"IF(I1976<>0,VLOOKUP(J1976,A01A02!A:J,10,0),\"\")","v":""}]
[null,0,"","","","",{"$f":"IF(B1977<>0,VLOOKUP(C1977,A01A02!$A$3:$K$13,11,FALSE),\"\")","v":""},null,0,"","","","",{"$f":"IF(I1977<>0,VLOOKUP(J1977,A01A02!$A$3:$K$13,11,FALSE),\"\")","v":""},{"$f":"IF(I1977<>0,VLOOKUP(J1977,A01A02!A:J,10,0),\"\")","v":""}]
[null,0,"","","","",{"$f":"IF(B1978<>0,VLOOKUP(C1978,A01A02!$A$3:$K$13,11,FALSE),\"\")","v":""},null,0,"","","","",{"$f":"IF(I1978<>0,VLOOKUP(J1978,A01A02!$A$3:$K$13,11,FALSE),\"\")","v":""},{"$f":"IF(I1978<>0,VLOOKUP(J1978,A01A02!A:J,10,0),\"\")","v":""}]
[null,0,"","","","",{"$f":"IF(B1979<>0,VLOOKUP(C1979,A01A02!$A$3:$K$13,11,FALSE),\"\")","v":""},null,0,"","","","",{"$f":"IF(I1979<>0,VLOOKUP(J1979,A01A02!$A$3:$K$13,11,FALSE),\"\")","v":""},{"$f":"IF(I1979<>0,VLOOKUP(J1979,A01A02!A:J,10,0),\"\")","v":""}]
[null,0,"","","","",{"$f":"IF(B1980<>0,VLOOKUP(C1980,A01A02!$A$3:$K$13,11,FALSE),\"\")","v":""},null,0,"","","","",{"$f":"IF(I1980<>0,VLOOKUP(J1980,A01A02!$A$3:$K$13,11,FALSE),\"\")","v":""},{"$f":"IF(I1980<>0,VLOOKUP(J1980,A01A02!A:J,10,0),\"\")","v":""}]
[null,0,"","","","",{"$f":"IF(B1981<>0,VLOOKUP(C1981,A01A02!$A$3:$K$13,11,FALSE),\"\")","v":""},null,0,"","","","",{"$f":"IF(I1981<>0,VLOOKUP(J1981,A01A02!$A$3:$K$13,11,FALSE),\"\")","v":""},{"$f":"IF(I1981<>0,VLOOKUP(J1981,A01A02!A:J,10,0),\"\")","v":""}]
[null,0,"","","","",{"$f":"IF(B1982<>0,VLOOKUP(C1982,A01A02!$A$3:$K$13,11,FALSE),\"\")","v":""},null,0,"","","","",{"$f":"IF(I1982<>0,VLOOKUP(J1982,A01A02!$A$3:$K$13,11,FALSE),\"\")","v":""},{"$f":"IF(I1982<>0,VLOOKUP(J1982,A01A02!A:J,10,0),\"\")","v":""}]
[null,0,"","","","",{"$f":"IF(B1983<>0,VLOOKUP(C1983,A01A02!$A$3:$K$13,11,FALSE),\"\")","v":""},null,0,"","","","",{"$f":"IF(I1983<>0,VLOOKUP(J1983,A01A02!$A$3:$K$13,11,FALSE),\"\")","v":""},{"$f":"IF(I1983<>0,VLOOKUP(J1983,A01A02!A:J,10,0),\"\")","v":""}]
[null,0,"","","","",{"$f":"IF(B1984<>0,VLOOKUP(C1984,A01A02!$A$3:$K$13,11,FALSE),\"\")","v":""},null,0,"","","","",{"$f":"IF(I1984<>0,VLOOKUP(J1984,A01A02!$A$3:$K$13,11,FALSE),\"\")","v":""},{"$f":"IF(I1984<>0,VLOOKUP(J1984,A01A02!A:J,10,0),\"\")","v":""}]
[null,0,"","","","",{"$f":"IF(B1985<>0,VLOOKUP(C1985,A01A02!$A$3:$K$13,11,FALSE),\"\")","v":""},null,0,"","","","",{"$f":"IF(I1985<>0,VLOOKUP(J1985,A01A02!$A$3:$K$13,11,FALSE),\"\")","v":""},{"$f":"IF(I1985<>0,VLOOKUP(J1985,A01A02!A:J,10,0),\"\")","v":""}]
[null,0,"","","","",{"$f":"IF(B1986<>0,VLOOKUP(C1986,A01A02!$A$3:$K$13,11,FALSE),\"\")","v":""},null,0,"","","","",{"$f":"IF(I1986<>0,VLOOKUP(J1986,A01A02!$A$3:$K$13,11,FALSE),\"\")","v":""},{"$f":"IF(I1986<>0,VLOOKUP(J1986,A01A02!A:J,10,0),\"\")","v":""}]
[null,{"$f":"IF(A1987<>\"\",xycall(A1987),0)","v":0},"","","","",{"$f":"IF(B1987<>0,VLOOKUP(C1987,A01A02!$A$3:$K$13,11,FALSE),\"\")","v":""},null,0,"","","","",{"$f":"IF(I1987<>0,VLOOKUP(J1987,A01A02!$A$3:$K$13,11,FALSE),\"\")","v":""},{"$f":"IF(I1987<>0,VLOOKUP(J1987,A01A02!A:J,10,0),\"\")","v":""}]
[null,0,"","","","",{"$f":"IF(B1988<>0,VLOOKUP(C1988,A01A02!$A$3:$K$13,11,FALSE),\"\")","v":""},null,0,"","","","",{"$f":"IF(I1988<>0,VLOOKUP(J1988,A01A02!$A$3:$K$13,11,FALSE),\"\")","v":""},{"$f":"IF(I1988<>0,VLOOKUP(J1988,A01A02!A:J,10,0),\"\")","v":""}]
[null,0,"","","","",{"$f":"IF(B1989<>0,VLOOKUP(C1989,A01A02!$A$3:$K$13,11,FALSE),\"\")","v":""},null,0,"","","","",{"$f":"IF(I1989<>0,VLOOKUP(J1989,A01A02!$A$3:$K$13,11,FALSE),\"\")","v":""},{"$f":"IF(I1989<>0,VLOOKUP(J1989,A01A02!A:J,10,0),\"\")","v":""}]
[null,0,"","","","",{"$f":"IF(B1990<>0,VLOOKUP(C1990,A01A02!$A$3:$K$13,11,FALSE),\"\")","v":""},null,0,"","","","",{"$f":"IF(I1990<>0,VLOOKUP(J1990,A01A02!$A$3:$K$13,11,FALSE),\"\")","v":""},{"$f":"IF(I1990<>0,VLOOKUP(J1990,A01A02!A:J,10,0),\"\")","v":""}]
[null,0,"","","","",{"$f":"IF(B1991<>0,VLOOKUP(C1991,A01A02!$A$3:$K$13,11,FALSE),\"\")","v":""},null,0,"","","","",{"$f":"IF(I1991<>0,VLOOKUP(J1991,A01A02!$A$3:$K$13,11,FALSE),\"\")","v":""},{"$f":"IF(I1991<>0,VLOOKUP(J1991,A01A02!A:J,10,0),\"\")","v":""}]
[null,0,"","","","",{"$f":"IF(B1992<>0,VLOOKUP(C1992,A01A02!$A$3:$K$13,11,FALSE),\"\")","v":""},null,0,"","","","",{"$f":"IF(I1992<>0,VLOOKUP(J1992,A01A02!$A$3:$K$13,11,FALSE),\"\")","v":""},{"$f":"IF(I1992<>0,VLOOKUP(J1992,A01A02!A:J,10,0),\"\")","v":""}]
[null,0,"","","","",{"$f":"IF(B1993<>0,VLOOKUP(C1993,A01A02!$A$3:$K$13,11,FALSE),\"\")","v":""},null,0,"","","","",{"$f":"IF(I1993<>0,VLOOKUP(J1993,A01A02!$A$3:$K$13,11,FALSE),\"\")","v":""},{"$f":"IF(I1993<>0,VLOOKUP(J1993,A01A02!A:J,10,0),\"\")","v":""}]
[null,0,"","","","",{"$f":"IF(B1994<>0,VLOOKUP(C1994,A01A02!$A$3:$K$13,11,FALSE),\"\")","v":""},null,0,"","","","",{"$f":"IF(I1994<>0,VLOOKUP(J1994,A01A02!$A$3:$K$13,11,FALSE),\"\")","v":""},{"$f":"IF(I1994<>0,VLOOKUP(J1994,A01A02!A:J,10,0),\"\")","v":""}]
[null,0,"","","","",{"$f":"IF(B1995<>0,VLOOKUP(C1995,A01A02!$A$3:$K$13,11,FALSE),\"\")","v":""},null,0,"","","","",{"$f":"IF(I1995<>0,VLOOKUP(J1995,A01A02!$A$3:$K$13,11,FALSE),\"\")","v":""},{"$f":"IF(I1995<>0,VLOOKUP(J1995,A01A02!A:J,10,0),\"\")","v":""}]
[null,0,"",{"$f":"IF(B1996<>0,znaget(B1996),\"\")","v":""},{"$f":"IF(B1996<>0,xget(B1996),\"\")","v":""},{"$f":"IF(B1996<>0,yget(B1996),\"\")","v":""},{"$f":"IF(B1996<>0,VLOOKUP(C1996,A01A02!$A$3:$K$13,11,FALSE),\"\")","v":""},null,0,"",{"$f":"IF(I1996<>0,znaget(I1996),\"\")","v":""},{"$f":"IF(I1996<>0,xget(I1996),\"\")","v":""},{"$f":"IF(I1996<>0,yget(I1996),\"\")","v":""},{"$f":"IF(I1996<>0,VLOOKUP(J1996,A01A02!$A$3:$K$13,11,FALSE),\"\")","v":""},{"$f":"IF(I1996<>0,VLOOKUP(J1996,A01A02!A:J,10,0),\"\")","v":""}]
[null,0,"",{"$f":"IF(B1997<>0,znaget(B1997),\"\")","v":""},{"$f":"IF(B1997<>0,xget(B1997),\"\")","v":""},{"$f":"IF(B1997<>0,yget(B1997),\"\")","v":""},{"$f":"IF(B1997<>0,VLOOKUP(C1997,A01A02!$A$3:$K$13,11,FALSE),\"\")","v":""},null,0,"",{"$f":"IF(I1997<>0,znaget(I1997),\"\")","v":""},{"$f":"IF(I1997<>0,xget(I1997),\"\")","v":""},{"$f":"IF(I1997<>0,yget(I1997),\"\")","v":""},{"$f":"IF(I1997<>0,VLOOKUP(J1997,A01A02!$A$3:$K$13,11,FALSE),\"\")","v":""},{"$f":"IF(I1997<>0,VLOOKUP(J1997,A01A02!A:J,10,0),\"\")","v":""}]
[null,0,"",{"$f":"IF(B1998<>0,znaget(B1998),\"\")","v":""},{"$f":"IF(B1998<>0,xget(B1998),\"\")","v":""},{"$f":"IF(B1998<>0,yget(B1998),\"\")","v":""},{"$f":"IF(B1998<>0,VLOOKUP(C1998,A01A02!$A$3:$K$13,11,FALSE),\"\")","v":""},null,0,"",{"$f":"IF(I1998<>0,znaget(I1998),\"\")","v":""},{"$f":"IF(I1998<>0,xget(I1998),\"\")","v":""},{"$f":"IF(I1998<>0,yget(I1998),\"\")","v":""},{"$f":"IF(I1998<>0,VLOOKUP(J1998,A01A02!$A$3:$K$13,11,FALSE),\"\")","v":""},{"$f":"IF(I1998<>0,VLOOKUP(J1998,A01A02!A:J,10,0),\"\")","v":""}]
[null,0,"",{"$f":"IF(B1999<>0,znaget(B1999),\"\")","v":""},{"$f":"IF(B1999<>0,xget(B1999),\"\")","v":""},{"$f":"IF(B1999<>0,yget(B1999),\"\")","v":""},{"$f":"IF(B1999<>0,VLOOKUP(C1999,A01A02!$A$3:$K$13,11,FALSE),\"\")","v":""},null,0,"",{"$f":"IF(I1999<>0,znaget(I1999),\"\")","v":""},{"$f":"IF(I1999<>0,xget(I1999),\"\")","v":""},{"$f":"IF(I1999<>0,yget(I1999),\"\")","v":""},{"$f":"IF(I1999<>0,VLOOKUP(J1999,A01A02!$A$3:$K$13,11,FALSE),\"\")","v":""},{"$f":"IF(I1999<>0,VLOOKUP(J1999,A01A02!A:J,10,0),\"\")","v":""}]
[null,0,"",{"$f":"IF(B2000<>0,znaget(B2000),\"\")","v":""},{"$f":"IF(B2000<>0,xget(B2000),\"\")","v":""},{"$f":"IF(B2000<>0,yget(B2000),\"\")","v":""},{"$f":"IF(B2000<>0,VLOOKUP(C2000,A01A02!$A$3:$K$13,11,FALSE),\"\")","v":""},null,0,"",{"$f":"IF(I2000<>0,znaget(I2000),\"\")","v":""},{"$f":"IF(I2000<>0,xget(I2000),\"\")","v":""},{"$f":"IF(I2000<>0,yget(I2000),\"\")","v":""},{"$f":"IF(I2000<>0,VLOOKUP(J2000,A01A02!$A$3:$K$13,11,FALSE),\"\")","v":""},{"$f":"IF(I2000<>0,VLOOKUP(J2000,A01A02!A:J,10,0),\"\")","v":""}]